Workbook
Name _Hlk91591435: 'ID U13'!#REF!

Sheet ID U9
B1: INDIVIDUAL DAMAS U9 | F1: RANKING NACIONAL | TEMPORADA 2026
F2: Challenger | H2: Regional Abierto | J2: Challenger | L2: Regional Abierto | N2: Regional Abierto | P2: Regional Abierto | R2: Regional Abierto | T2: Regional Abierto | V2: Regional Abierto | X2: Regional Abierto | Z2: Challenger | AB2: Regional Abierto | AD2: Nacional | AF2: Regional Abierto | AH2: Regional Abierto | AJ2: Regional Abierto | AL2: Grand Prix | AN2: Regional Abierto | AP2: Regional Abierto | AR2: Regional Abierto | AT2: Challenger | AV2: Abierto de la Rep. | AX2: Challenger
F3: CHAPADMALAL | H3: FETEMBA | J3: SANT. DEL ESTERO | L3: MENDOZA | N3: SALTA | P3: TIERRA DEL FUEGO | R3: FETEMBA | T3: JUJUY | V3: SANTA FE | X3: MENDOZA | Z3: SALTA | AB3: NEUQUÉN | AD3: SANTA FE | AF3: MENDOZA | AH3: FETEMBA | AJ3: SANTA CRUZ | AL3: MENDOZA | AN3: FETEMBA | AP3: MENDOZA | AR3: RIO NEGRO | AT3: ROSARIO | AV3: BUENOS AIRES | AX3: ROSARIO
F4: 2 A 4 MAR 2025 | H4: 29 Y 30 MAR 2025 | J4: 11 A 13 ABR 2025 | L4: 26 Y 27 ABR 2025 | N4: 26 Y 27 ABR 2025 | P4: 04 MAY 2025 | R4: 10 Y 11 MAY 2025 | T4: 24 Y 25 MAY 2025 | V4: 31 MAY Y 1 JUN 2025 | X4: 7 Y 8 JUN 2025 | Z4: 14 A 16 JUN 2025 | AB4: 21 Y 22 JUN 2025 | AD4: 9 A 13 JUL 2025 | AF4: 9 Y 10 AGO 2025 | AH4: 15 AGO 2025 | AJ4: 15 A 17 AGO 2025 | AL4: 5 A 7 SEP 2025 | AN4: 27 Y 28 SEP 2025 | AP4: 4 Y 5 OCT 2025 | AR4: 11 Y 12 OCT 2025 | AT4: 17 A 19 OCT 2025 | AV4: 21 A 24 NOV 2025 | AX4: 15 A 17 FEB 2026
A5: POS. | B5: ATLETA | C5: CAT. | D5: ASOC. | E5: TOTAL | F5: Pos. | G5: Ptos. | H5: Pos. | I5: Ptos. | J5: Pos. | K5: Ptos. | L5: Pos. | M5: Ptos. | N5: Pos. | O5: Ptos. | P5: Pos. | Q5: Ptos. | R5: Pos. | S5: Ptos. | T5: Pos. | U5: Ptos. | V5: Pos. | W5: Ptos. | X5: Pos. | Y5: Ptos. | Z5: Pos. | AA5: Ptos. | AB5: Pos. | AC5: Ptos. | AD5: Pos. | AE5: Ptos. | AF5: Pos. | AG5: Ptos. | AH5: Pos. | AI5: Ptos. | AJ5: Pos. | AK5: Ptos. | AL5: Pos. | AM5: Ptos. | AN5: Pos. | AO5: Ptos. | AP5: Pos. | AQ5: Ptos. | AR5: Pos. | AS5: Ptos. | AT5: Pos. | AU5: Ptos. | AV5: Pos. | AW5: Ptos. | AX5: Pos. | AY5: Ptos.
A7: 1 | B7: SANHUEZA, ESPERANZA | C7: 2017 | D7: MZA | E7: =G7+I7+K7+M7+O7+Q7+S7+U7+W7+Y7+AA7+AC7+AE7+AG7+AI7+AK7+AM7+AO7+AQ7+AS7+AU7+AW7+AY7 -> 1145 | X7: 2 | Y7: 90 | AD7: SF | AE7: 315 | AF7: 1 | AG7: 110 | AL7: 2 | AM7: 270 | AP7: 1 | AQ7: 110 | AV7: 1B | AW7: 250
A8: 2 | B8: PASTERI, DELFINA | C8: 2017 | D8: SFE | E8: =G8+I8+K8+M8+O8+Q8+S8+U8+W8+Y8+AA8+AC8+AE8+AG8+AI8+AK8+AM8+AO8+AQ8+AS8+AU8+AW8+AY8 -> 1075 | AD8: 1B | AE8: 250 | AL8: 1 | AM8: 330 | AV8: SF | AW8: 315 | AX8: 2 | AY8: 180
A9: 3 | B9: PALAMEDI, ALMA ANTONELLA | C9: 2017 | D9: SFE | E9: =G9+I9+K9+M9+O9+Q9+S9+U9+W9+Y9+AA9+AC9+AE9+AG9+AI9+AK9+AM9+AO9+AQ9+AS9+AU9+AW9+AY9 -> 1030 | AD9: 2 | AE9: 405 | AV9: 2 | AW9: 405 | AX9: 1 | AY9: 220
A10: 4 | B10: PIRUZI, SIENNA | C10: 2018 | D10: MZA | E10: =G10+I10+K10+M10+O10+Q10+S10+U10+W10+Y10+AA10+AC10+AE10+AG10+AI10+AK10+AM10+AO10+AQ10+AS10+AU10+AW10+AY10 -> 795 | X10: 1 | Y10: 110 | AD10: SF | AE10: 315 | AF10: 2 | AG10: 90 | AL10: SF | AM10: 210 | AP10: SF | AQ10: 70
A11: 5 | B11: ALTO, MARTINA | C11: 2018 | D11: MZA | E11: =G11+I11+K11+M11+O11+Q11+S11+U11+W11+Y11+AA11+AC11+AE11+AG11+AI11+AK11+AM11+AO11+AQ11+AS11+AU11+AW11+AY11 -> 435 | X11: SF | Y11: 70 | AD11: SF B | AE11: 160 | AL11: 2B | AM11: 135 | AP11: SF | AQ11: 70
A12: 6 | B12: NOTARNICOLA, PAULINA | C12: 2019 | D12: SFE | E12: =G12+I12+K12+M12+O12+Q12+S12+U12+W12+Y12+AA12+AC12+AE12+AG12+AI12+AK12+AM12+AO12+AQ12+AS12+AU12+AW12+AY12 -> 345 | AV12: 2B | AW12: 205 | AX12: 3 | AY12: 140
A13: 7 | B13: ITALIANO, DONATELLA | C13: 2019 | D13: MZA | E13: =G13+I13+K13+M13+O13+Q13+S13+U13+W13+Y13+AA13+AC13+AE13+AG13+AI13+AK13+AM13+AO13+AQ13+AS13+AU13+AW13+AY13 -> 275 | X13: 3Z | Y13: 55 | AL13: 1B | AM13: 165 | AP13: 3Z | AQ13: 55
A14: 8 | B14: RICART CIACCI, EMMA | C14: 2017 | D14: CBA | E14: =G14+I14+K14+M14+O14+Q14+S14+U14+W14+Y14+AA14+AC14+AE14+AG14+AI14+AK14+AM14+AO14+AQ14+AS14+AU14+AW14+AY14 -> 205 | AD14: 2B | AE14: 205
A15: 9 | B15: NAVARRO, FIORELLA | C15: 2017 | D15: MZA | E15: =G15+I15+K15+M15+O15+Q15+S15+U15+W15+Y15+AA15+AC15+AE15+AG15+AI15+AK15+AM15+AO15+AQ15+AS15+AU15+AW15+AY15 -> 160 | AL15: SF B | AM15: 105 | AP15: 3Z | AQ15: 55
A16: 10 | B16: TRIVIÑO, BELLA | C16: 2017 | D16: LIB | E16: =G16+I16+K16+M16+O16+Q16+S16+U16+W16+Y16+AA16+AC16+AE16+AG16+AI16+AK16+AM16+AO16+AQ16+AS16+AU16+AW16+AY16 -> 160 | AV16: SF B | AW16: 160
A17: 10 | B17: SCHWEISTEIN, ANA | C17: 2018 | D17: SLU | E17: =G17+I17+K17+M17+O17+Q17+S17+U17+W17+Y17+AA17+AC17+AE17+AG17+AI17+AK17+AM17+AO17+AQ17+AS17+AU17+AW17+AY17 -> 160 | AD17: SF B | AE17: 160
A18: 12 | B18: RAJMIL,DELFINA | C18: 2018 | D18: SFE | E18: =G18+I18+K18+M18+O18+Q18+S18+U18+W18+Y18+AA18+AC18+AE18+AG18+AI18+AK18+AM18+AO18+AQ18+AS18+AU18+AW18+AY18 -> 110 | AX18: 4 | AY18: 110
A19: 13 | B19: PAREDES, ARIADNA | C19: 2019 | D19: SCZ | E19: =G19+I19+K19+M19+O19+Q19+S19+U19+W19+Y19+AA19+AC19+AE19+AG19+AI19+AK19+AM19+AO19+AQ19+AS19+AU19+AW19+AY19 -> 90 | AJ19: 2 | AK19: 90
A20: 14 | B20: VANOLI, LENA | C20: 2018 | D20: MZA | E20: =G20+I20+K20+M20+O20+Q20+S20+U20+W20+Y20+AA20+AC20+AE20+AG20+AI20+AK20+AM20+AO20+AQ20+AS20+AU20+AW20+AY20 -> 55 | X20: 3Z | Y20: 55

Sheet ID U11
B1: INDIVIDUAL DAMAS U11 | F1: RANKING NACIONAL | TEMPORADA 2026
F2: Challenger | H2: Regional Abierto | J2: Challenger | L2: Regional Abierto | N2: Regional Abierto | P2: Regional Abierto | R2: Regional Abierto | T2: Regional Abierto | V2: Regional Abierto | X2: Regional Abierto | Z2: Challenger | AB2: Regional Abierto | AD2: Nacional | AF2: Regional Abierto | AH2: Regional Abierto | AJ2: Regional Abierto | AL2: Grand Prix | AN2: Regional Abierto | AP2: Regional Abierto | AR2: Regional Abierto | AT2: Challenger | AV2: Abierto de la Rep. | AX2: Challenger
F3: CHAPADMALAL | H3: FETEMBA | J3: SANT. DEL ESTERO | L3: MENDOZA | N3: SALTA | P3: TIERRA DEL FUEGO | R3: FETEMBA | T3: JUJUY | V3: SANTA FE | X3: MENDOZA | Z3: SALTA | AB3: NEUQUÉN | AD3: SANTA FE | AF3: MENDOZA | AH3: FETEMBA | AJ3: SANTA CRUZ | AL3: MENDOZA | AN3: FETEMBA | AP3: MENDOZA | AR3: RIO NEGRO | AT3: ROSARIO | AV3: BUENOS AIRES | AX3: ROSARIO
F4: 2 A 4 MAR 2025 | H4: 29 Y 30 MAR 2025 | J4: 11 A 13 ABR 2025 | L4: 26 Y 27 ABR 2025 | N4: 26 Y 27 ABR 2025 | P4: 04 MAY 2025 | R4: 10 Y 11 MAY 2025 | T4: 24 Y 25 MAY 2025 | V4: 31 MAY Y 1 JUN 2025 | X4: 7 Y 8 JUN 2025 | Z4: 14 A 16 JUN 2025 | AB4: 21 Y 22 JUN 2025 | AD4: 9 A 13 JUL 2025 | AF4: 9 Y 10 AGO 2025 | AH4: 15 AGO 2025 | AJ4: 15 A 17 AGO 2025 | AL4: 5 A 7 SEP 2025 | AN4: 27 Y 28 SEP 2025 | AP4: 4 Y 5 OCT 2025 | AR4: 11 Y 12 OCT 2025 | AT4: 17 A 19 OCT 2025 | AV4: 21 A 24 NOV 2025 | AX4: 15 A 17 FEB 2026
A5: POS. | B5: ATLETA | C5: CAT. | D5: ASOC. | E5: TOTAL | F5: Pos. | G5: Ptos. | H5: Pos. | I5: Ptos. | J5: Pos. | K5: Ptos. | L5: Pos. | M5: Ptos. | N5: Pos. | O5: Ptos. | P5: Pos. | Q5: Ptos. | R5: Pos. | S5: Ptos. | T5: Pos. | U5: Ptos. | V5: Pos. | W5: Ptos. | X5: Pos. | Y5: Ptos. | Z5: Pos. | AA5: Ptos. | AB5: Pos. | AC5: Ptos. | AD5: Pos. | AE5: Ptos. | AF5: Pos. | AG5: Ptos. | AH5: Pos. | AI5: Ptos. | AJ5: Pos. | AK5: Ptos. | AL5: Pos. | AM5: Ptos. | AN5: Pos. | AO5: Ptos. | AP5: Pos. | AQ5: Ptos. | AR5: Pos. | AS5: Ptos. | AT5: Pos. | AU5: Ptos. | AV5: Pos. | AW5: Ptos. | AX5: Pos. | AY5: Ptos.
A7: 1 | B7: PIRUZI, ALBA ALLEGRA | C7: 2015 | D7: MZA | E7: =G7+I7+K7+M7+O7+Q7+S7+U7+W7+Y7+AA7+AC7+AE7+AG7+AI7+AK7+AM7+AO7+AQ7+AS7+AU7+AW7+AY7 -> 1245 | L7: 2 | M7: 90 | X7: 2 | Y7: 90 | Z7: 2 | AA7: 180 | AD7: SF | AE7: 315 | AF7: 1 | AG7: 110 | AL7: SF | AM7: 210 | AV7: 4F | AW7: 250
A8: 2 | B8: ALVARADO, ORIANA | C8: 2015 | D8: SCZ | E8: =G8+I8+K8+M8+O8+Q8+S8+U8+W8+Y8+AA8+AC8+AE8+AG8+AI8+AK8+AM8+AO8+AQ8+AS8+AU8+AW8+AY8 -> 1145 | P8: 1 | Q8: 110 | AD8: 4F | AE8: 250 | AJ8: 1 | AK8: 110 | AV8: 1 | AW8: 495 | AX8: 2 | AY8: 180
A9: 3 | B9: BIBBO, AITANA | C9: 2015 | D9: SFE | E9: =G9+I9+K9+M9+O9+Q9+S9+U9+W9+Y9+AA9+AC9+AE9+AG9+AI9+AK9+AM9+AO9+AQ9+AS9+AU9+AW9+AY9 -> 1095 | AD9: 4F | AE9: 250 | AT9: 1 | AU9: 220 | AV9: 2 | AW9: 405 | AX9: 1 | AY9: 220
A10: 4 | B10: ROMERO, ANITA EMILIA | C10: 2015 | D10: COR | E10: =G10+I10+K10+M10+O10+Q10+S10+U10+W10+Y10+AA10+AC10+AE10+AG10+AI10+AK10+AM10+AO10+AQ10+AS10+AU10+AW10+AY10 -> 1035 | J10: 1 | K10: 220 | V10: 1 | W10: 110 | AD10: 4F | AE10: 250 | AV10: SF | AW10: 315 | AX10: SF | AY10: 140
A11: 5 | B11: HILARION, ZOE | C11: 2015 | D11: SCZ | E11: =G11+I11+K11+M11+O11+Q11+S11+U11+W11+Y11+AA11+AC11+AE11+AG11+AI11+AK11+AM11+AO11+AQ11+AS11+AU11+AW11+AY11 -> 860 | P11: 2 | Q11: 90 | AD11: SF | AE11: 315 | AV11: SF | AW11: 315 | AX11: SF | AY11: 140
A12: 6 | B12: PASTERI, DELFINA | C12: 2017 | D12: SFE | E12: =G12+I12+K12+M12+O12+Q12+S12+U12+W12+Y12+AA12+AC12+AE12+AG12+AI12+AK12+AM12+AO12+AQ12+AS12+AU12+AW12+AY12 -> 715 | AD12: SF B | AE12: 90 | AL12: SF | AM12: 210 | AT12: 3 | AU12: 140 | AV12: 8F | AW12: 205 | AX12: SF B | AY12: 70
A13: 7 | B13: TUSCO, MACKENSI | C13: 2015 | D13: SCZ | E13: =G13+I13+K13+M13+O13+Q13+S13+U13+W13+Y13+AA13+AC13+AE13+AG13+AI13+AK13+AM13+AO13+AQ13+AS13+AU13+AW13+AY13 -> 600 | P13: 3Z | Q13: 55 | AD13: 1B | AE13: 160 | AJ13: SF | AK13: 70 | AV13: 8F | AW13: 205 | AX13: 1B | AY13: 110
A14: 8 | B14: CASSARA, CAMILA | C14: 2016 | D14: FET | E14: =G14+I14+K14+M14+O14+Q14+S14+U14+W14+Y14+AA14+AC14+AE14+AG14+AI14+AK14+AM14+AO14+AQ14+AS14+AU14+AW14+AY14 -> 545 | R14: 2 | S14: 90 | AD14: 8F | AE14: 205 | AV14: 4F | AW14: 250
A15: 9 | B15: PALAMEDI, ALMA ANTONELLA | C15: 2017 | D15: SFE | E15: =G15+I15+K15+M15+O15+Q15+S15+U15+W15+Y15+AA15+AC15+AE15+AG15+AI15+AK15+AM15+AO15+AQ15+AS15+AU15+AW15+AY15 -> 430 | V15: 3 | W15: 70 | AT15: 4 | AU15: 110 | AV15: 1B | AW15: 160 | AX15: 2B | AY15: 90
A16: 10 | B16: SANHUEZA, ESPERANZA | C16: 2017 | D16: MZA | E16: =G16+I16+K16+M16+O16+Q16+S16+U16+W16+Y16+AA16+AC16+AE16+AG16+AI16+AK16+AM16+AO16+AQ16+AS16+AU16+AW16+AY16 -> 400 | L16: 4 | M16: 55 | AF16: 2 | AG16: 90 | AL16: 1B | AM16: 165 | AV16: SF B | AW16: 90
A17: 11 | B17: HARO, YASMIN | C17: 2016 | D17: SCZ | E17: =G17+I17+K17+M17+O17+Q17+S17+U17+W17+Y17+AA17+AC17+AE17+AG17+AI17+AK17+AM17+AO17+AQ17+AS17+AU17+AW17+AY17 -> 305 | P17: 3Z | Q17: 55 | AJ17: 3Z | AK17: 45 | AV17: 8F | AW17: 205
A18: 12 | B18: PIRUZI, SIENNA | C18: 2018 | D18: MZA | E18: =G18+I18+K18+M18+O18+Q18+S18+U18+W18+Y18+AA18+AC18+AE18+AG18+AI18+AK18+AM18+AO18+AQ18+AS18+AU18+AW18+AY18 -> 295 | L18: 5 | M18: 45 | X18: 3 | Y18: 70 | Z18: 4 | AA18: 110 | AF18: 3 | AG18: 70
A19: 13 | B19: ESTIGARRIBIA, PAULA | C19: 2015 | D19: SCZ | E19: =G19+I19+K19+M19+O19+Q19+S19+U19+W19+Y19+AA19+AC19+AE19+AG19+AI19+AK19+AM19+AO19+AQ19+AS19+AU19+AW19+AY19 -> 275 | P19: SF | Q19: 70 | AV19: 8F | AW19: 205
A20: 14 | B20: ULLOA, ALUEN AGOSTINA | C20: 2015 | D20: LIB | E20: =G20+I20+K20+M20+O20+Q20+S20+U20+W20+Y20+AA20+AC20+AE20+AG20+AI20+AK20+AM20+AO20+AQ20+AS20+AU20+AW20+AY20 -> 250 | AV20: 4F | AW20: 250
A21: 15 | B21: FIORE SHIMOJI, ANA SAKURAKO | C21: 2016 | D21: FET | E21: =G21+I21+K21+M21+O21+Q21+S21+U21+W21+Y21+AA21+AC21+AE21+AG21+AI21+AK21+AM21+AO21+AQ21+AS21+AU21+AW21+AY21 -> 185 | AV21: 2B | AW21: 115 | AX21: SF B | AY21: 70
A22: 16 | B22: PAVCOVICH BINIMELIS, MILAGRO | C22: 2015 | D22: SDE | E22: =G22+I22+K22+M22+O22+Q22+S22+U22+W22+Y22+AA22+AC22+AE22+AG22+AI22+AK22+AM22+AO22+AQ22+AS22+AU22+AW22+AY22 -> 140 | J22: 3 | K22: 140
A23: 17 | B23: VILLEGAS, CANDELARIA | C23: 2016 | D23: MZA | E23: =G23+I23+K23+M23+O23+Q23+S23+U23+W23+Y23+AA23+AC23+AE23+AG23+AI23+AK23+AM23+AO23+AQ23+AS23+AU23+AW23+AY23 -> 135 | AL23: 2B | AM23: 135
A24: 18 | B24: SCHWEISTEIN, CATALINA | C24: 2015 | D24: SLU | E24: =G24+I24+K24+M24+O24+Q24+S24+U24+W24+Y24+AA24+AC24+AE24+AG24+AI24+AK24+AM24+AO24+AQ24+AS24+AU24+AW24+AY24 -> 115 | AD24: 2B | AE24: 115
A25: 19 | B25: MARTINEZ LEGUIZAMON, LISANDRA | C25: 2016 | D25: SDE | E25: =G25+I25+K25+M25+O25+Q25+S25+U25+W25+Y25+AA25+AC25+AE25+AG25+AI25+AK25+AM25+AO25+AQ25+AS25+AU25+AW25+AY25 -> 110 | J25: 4 | K25: 110
A26: 20 | B26: RICART CIACCI, EMMA | C26: 2017 | D26: CBA | E26: =G26+I26+K26+M26+O26+Q26+S26+U26+W26+Y26+AA26+AC26+AE26+AG26+AI26+AK26+AM26+AO26+AQ26+AS26+AU26+AW26+AY26 -> 90 | AD26: SF B | AE26: 90
A27: 21 | B27: NIEVA, SOFIA | C27: 2015 | D27: SCZ | E27: =G27+I27+K27+M27+O27+Q27+S27+U27+W27+Y27+AA27+AC27+AE27+AG27+AI27+AK27+AM27+AO27+AQ27+AS27+AU27+AW27+AY27 -> 55 | AJ27: 4F | AK27: 55
A28: 21 | B28: FARFAN ALANCAY, BRIANA | C28: 2016 | D28: SAL | E28: =G28+I28+K28+M28+O28+Q28+S28+U28+W28+Y28+AA28+AC28+AE28+AG28+AI28+AK28+AM28+AO28+AQ28+AS28+AU28+AW28+AY28 -> 55 | N28: 4 | O28: 55
A29: 23 | B29: CARDENAS, SHARON | C29: 2016 | D29: SCZ | E29: =G29+I29+K29+M29+O29+Q29+S29+U29+W29+Y29+AA29+AC29+AE29+AG29+AI29+AK29+AM29+AO29+AQ29+AS29+AU29+AW29+AY29 -> 45 | AJ29: 3Z | AK29: 45
A30: 23 | B30: SOLA, BIANCA | C30: 2017 | D30: JUJ | E30: =G30+I30+K30+M30+O30+Q30+S30+U30+W30+Y30+AA30+AC30+AE30+AG30+AI30+AK30+AM30+AO30+AQ30+AS30+AU30+AW30+AY30 -> 45 | N30: 5 | O30: 45

Sheet ID U13
B1: INDIVIDUAL DAMAS U13 | F1: RANKING NACIONAL | TEMPORADA 2026
F2: Challenger | H2: Regional Abierto | J2: Challenger | L2: Regional Abierto | N2: Regional Abierto | P2: Regional Abierto | R2: Regional Abierto | T2: Regional Abierto | V2: Regional Abierto | X2: Regional Abierto | Z2: Challenger | AB2: Regional Abierto | AD2: Nacional | AF2: Regional Abierto | AH2: Regional Abierto | AJ2: Regional Abierto | AL2: Grand Prix | AN2: Regional Abierto | AP2: Regional Abierto | AR2: Regional Abierto | AT2: Challenger | AV2: Abierto de la Rep. | AX2: Challenger
F3: CHAPADMALAL | H3: FETEMBA | J3: SANT. DEL ESTERO | L3: MENDOZA | N3: SALTA | P3: TIERRA DEL FUEGO | R3: FETEMBA | T3: JUJUY | V3: SANTA FE | X3: MENDOZA | Z3: SALTA | AB3: NEUQUÉN | AD3: SANTA FE | AF3: MENDOZA | AH3: FETEMBA | AJ3: SANTA CRUZ | AL3: MENDOZA | AN3: FETEMBA | AP3: MENDOZA | AR3: RIO NEGRO | AT3: ROSARIO | AV3: BUENOS AIRES | AX3: ROSARIO
F4: 2 A 4 MAR 2025 | H4: 29 Y 30 MAR 2025 | J4: 11 A 13 ABR 2025 | L4: 26 Y 27 ABR 2025 | N4: 26 Y 27 ABR 2025 | P4: 04 MAY 2025 | R4: 10 Y 11 MAY 2025 | T4: 24 Y 25 MAY 2025 | V4: 31 MAY Y 1 JUN 2025 | X4: 7 Y 8 JUN 2025 | Z4: 14 A 16 JUN 2025 | AB4: 21 Y 22 JUN 2025 | AD4: 9 A 13 JUL 2025 | AF4: 9 Y 10 AGO 2025 | AH4: 15 AGO 2025 | AJ4: 15 A 17 AGO 2025 | AL4: 5 A 7 SEP 2025 | AN4: 27 Y 28 SEP 2025 | AP4: 4 Y 5 OCT 2025 | AR4: 11 Y 12 OCT 2025 | AT4: 17 A 19 OCT 2025 | AV4: 21 A 24 NOV 2025 | AX4: 15 A 17 FEB 2026
A5: POS. | B5: ATLETA | C5: CAT. | D5: ASOC. | E5: TOTAL | F5: Pos. | G5: Ptos. | H5: Pos. | I5: Ptos. | J5: Pos. | K5: Ptos. | L5: Pos. | M5: Ptos. | N5: Pos. | O5: Ptos. | P5: Pos. | Q5: Ptos. | R5: Pos. | S5: Ptos. | T5: Pos. | U5: Ptos. | V5: Pos. | W5: Ptos. | X5: Pos. | Y5: Ptos. | Z5: Pos. | AA5: Ptos. | AB5: Pos. | AC5: Ptos. | AD5: Pos. | AE5: Ptos. | AF5: Pos. | AG5: Ptos. | AH5: Pos. | AI5: Ptos. | AJ5: Pos. | AK5: Ptos. | AL5: Pos. | AM5: Ptos. | AN5: Pos. | AO5: Ptos. | AP5: Pos. | AQ5: Ptos. | AR5: Pos. | AS5: Ptos. | AT5: Pos. | AU5: Ptos. | AV5: Pos. | AW5: Ptos. | AX5: Pos. | AY5: Ptos.
A7: 1 | B7: SATO, MIA HIROMMI | C7: 2014 | D7: FET | E7: =G7+I7+K7+M7+O7+Q7+S7+U7+W7+Y7+AA7+AC7+AE7+AG7+AI7+AK7+AM7+AO7+AQ7+AS7+AU7+AW7+AY7 -> 1585.1937 | F7: 3 | G7: 0.14 | H7: Prom. | I7: 0.05375 | V7: SF | W7: 70 | AD7: 4F | AE7: 250 | AH7: 2 | AI7: 90 | AL7: 1 | AM7: 330 | AN7: 2 | AO7: 90 | AT7: 1 | AU7: 220 | AV7: SF | AW7: 315 | AX7: 1 | AY7: 220
A8: 2 | B8: CRUZ MUÑOZ, MARTINA | C8: 2013 | D8: FET | E8: =G8+I8+K8+M8+O8+Q8+S8+U8+W8+Y8+AA8+AC8+AE8+AG8+AI8+AK8+AM8+AO8+AQ8+AS8+AU8+AW8+AY8 -> 1205.07 | F8: 1 | G8: 220 | H8: 1 | I8: 110 | R8: SF | S8: 0.07 | AD8: 4F | AE8: 250 | AH8: 1 | AI8: 110 | AN8: 1 | AO8: 110 | AV8: 2 | AW8: 405
A9: 3 | B9: SIALLE, CONSTANTINA | C9: 2013 | D9: SEN | E9: =G9+I9+K9+M9+O9+Q9+S9+U9+W9+Y9+AA9+AC9+AE9+AG9+AI9+AK9+AM9+AO9+AQ9+AS9+AU9+AW9+AY9 -> 1160.14 | J9: 2 | K9: 180 | N9: SF | O9: 70 | T9: 1 | U9: 110 | Z9: SF | AA9: 0.14 | AD9: 8F | AE9: 205 | AL9: SF | AM9: 210 | AV9: 8F | AW9: 205 | AX9: 2 | AY9: 180
A10: 4 | B10: TOSCANO, DAIANA ANTONELLA | C10: 2013 | D10: SAL | E10: =G10+I10+K10+M10+O10+Q10+S10+U10+W10+Y10+AA10+AC10+AE10+AG10+AI10+AK10+AM10+AO10+AQ10+AS10+AU10+AW10+AY10 -> 1140 | N10: 1 | O10: 110 | Z10: 1 | AA10: 220 | AD10: SF | AE10: 315 | AV10: 1 | AW10: 495
A11: 5 | B11: VERA ARROYO, MIA LUANNA | C11: 2014 | D11: MZA | E11: =G11+I11+K11+M11+O11+Q11+S11+U11+W11+Y11+AA11+AC11+AE11+AG11+AI11+AK11+AM11+AO11+AQ11+AS11+AU11+AW11+AY11 -> 1045 | L11: 1 | M11: 110 | X11: 1 | Y11: 110 | AD11: 8F | AE11: 205 | AL11: 1B | AM11: 165 | AP11: 1 | AQ11: 110 | AV11: 8F | AW11: 205 | AX11: SF | AY11: 140
A12: 6 | B12: OLIVAREZ, ISABELLA | C12: 2014 | D12: SFE | E12: =G12+I12+K12+M12+O12+Q12+S12+U12+W12+Y12+AA12+AC12+AE12+AG12+AI12+AK12+AM12+AO12+AQ12+AS12+AU12+AW12+AY12 -> 1045 | R12: SF | S12: 70 | V12: 2 | W12: 90 | AD12: SF | AE12: 315 | AT12: 2 | AU12: 180 | AV12: 4F | AW12: 250 | AX12: SF | AY12: 140
A13: 7 | B13: PIRUZI, ALBA ALLEGRA | C13: 2015 | D13: MZA | E13: =G13+I13+K13+M13+O13+Q13+S13+U13+W13+Y13+AA13+AC13+AE13+AG13+AI13+AK13+AM13+AO13+AQ13+AS13+AU13+AW13+AY13 -> 900.09 | L13: 2 | M13: 0.09 | X13: 2 | Y13: 90 | Z13: 4F | AA13: 110 | AD13: 8F | AE13: 205 | AF13: 1 | AG13: 110 | AL13: 2B | AM13: 135 | AP13: 2 | AQ13: 90 | AV13: 16F | AW13: 160
A14: 8 | B14: GALLARDO BERESIARTE, PILAR | C14: 2013 | D14: SAL | E14: =G14+I14+K14+M14+O14+Q14+S14+U14+W14+Y14+AA14+AC14+AE14+AG14+AI14+AK14+AM14+AO14+AQ14+AS14+AU14+AW14+AY14 -> 820 | N14: SF | O14: 70 | T14: 2 | U14: 90 | Z14: SF | AA14: 140 | AD14: 8F | AE14: 205 | AV14: 8F | AW14: 205 | AX14: 4F | AY14: 110
A15: 9 | B15: ALVARADO, ORIANA | C15: 2015 | D15: SCZ | E15: =G15+I15+K15+M15+O15+Q15+S15+U15+W15+Y15+AA15+AC15+AE15+AG15+AI15+AK15+AM15+AO15+AQ15+AS15+AU15+AW15+AY15 -> 790 | P15: 2 | Q15: 90 | AD15: 4F | AE15: 250 | AJ15: 1 | AK15: 110 | AV15: 4F | AW15: 250 | AX15: 1B | AY15: 90
A16: 10 | B16: SERRANO, SOL | C16: 2014 | D16: FET | E16: =G16+I16+K16+M16+O16+Q16+S16+U16+W16+Y16+AA16+AC16+AE16+AG16+AI16+AK16+AM16+AO16+AQ16+AS16+AU16+AW16+AY16 -> 755.045 | R16: 2B | S16: 0.045 | V16: SF | W16: 70 | AD16: 2B | AE16: 90 | AH16: SF | AI16: 70 | AL16: SF | AM16: 210 | AN16: 2B | AO16: 45 | AT16: 1B | AU16: 110 | AV16: 16F | AW16: 160
A17: 11 | B17: ROMERO, ANITA EMILIA | C17: 2015 | D17: COR | E17: =G17+I17+K17+M17+O17+Q17+S17+U17+W17+Y17+AA17+AC17+AE17+AG17+AI17+AK17+AM17+AO17+AQ17+AS17+AU17+AW17+AY17 -> 715 | J17: 3 | K17: 140 | V17: 1B | W17: 55 | AD17: 8F | AE17: 205 | AV17: 8F | AW17: 205 | AX17: 4F | AY17: 110
A18: 12 | B18: ECHEGARAY, PIA | C18: 2013 | D18: MZA | E18: =G18+I18+K18+M18+O18+Q18+S18+U18+W18+Y18+AA18+AC18+AE18+AG18+AI18+AK18+AM18+AO18+AQ18+AS18+AU18+AW18+AY18 -> 530.055 | L18: 4 | M18: 0.055 | X18: 3Z | Y18: 55 | AD18: SF B | AE18: 70 | AF18: 3 | AG18: 70 | AL18: SF B | AM18: 105 | AP18: 3 | AQ18: 70 | AV18: 16F | AW18: 160
A19: 13 | B19: BIBBO, AITANA | C19: 2015 | D19: SFE | E19: =G19+I19+K19+M19+O19+Q19+S19+U19+W19+Y19+AA19+AC19+AE19+AG19+AI19+AK19+AM19+AO19+AQ19+AS19+AU19+AW19+AY19 -> 500 | AT19: SF | AU19: 140 | AV19: 4F | AW19: 250 | AX19: 4F | AY19: 110
A20: 14 | B20: GONZALEZ, CATALINA | C20: 2013 | D20: MZA | E20: =G20+I20+K20+M20+O20+Q20+S20+U20+W20+Y20+AA20+AC20+AE20+AG20+AI20+AK20+AM20+AO20+AQ20+AS20+AU20+AW20+AY20 -> 495.045 | L20: 3 | M20: 70 | X20: 3Z | Y20: 55 | AD20: 16F | AE20: 160 | AF20: 4 | AG20: 55 | AL20: SF B | AM20: 105 | AP20: 5 | AQ20: 0.045 | AX20: SF B | AY20: 50
A21: 15 | B21: HILARION, ZOE | C21: 2015 | D21: SCZ | E21: =G21+I21+K21+M21+O21+Q21+S21+U21+W21+Y21+AA21+AC21+AE21+AG21+AI21+AK21+AM21+AO21+AQ21+AS21+AU21+AW21+AY21 -> 490 | P21: 3Z | Q21: 55 | AD21: 16F | AE21: 160 | AV21: 8F | AW21: 205 | AX21: 2B | AY21: 70
A22: 16 | B22: TOSCANO, FLORENCIA DANIELA | C22: 2014 | D22: SAL | E22: =G22+I22+K22+M22+O22+Q22+S22+U22+W22+Y22+AA22+AC22+AE22+AG22+AI22+AK22+AM22+AO22+AQ22+AS22+AU22+AW22+AY22 -> 370 | N22: 1B | O22: 55 | Z22: 4F | AA22: 110 | AD22: 8F | AE22: 205
A23: 17 | B23: ESTIGARRIBIA, NICOL | C23: 2014 | D23: SCZ | E23: =G23+I23+K23+M23+O23+Q23+S23+U23+W23+Y23+AA23+AC23+AE23+AG23+AI23+AK23+AM23+AO23+AQ23+AS23+AU23+AW23+AY23 -> 345 | P23: SF | Q23: 70 | AJ23: SF | AK23: 70 | AV23: 8F | AW23: 205
A24: 18 | B24: MANSILLA, OLIVIA | C24: 2013 | D24: FET | E24: =G24+I24+K24+M24+O24+Q24+S24+U24+W24+Y24+AA24+AC24+AE24+AG24+AI24+AK24+AM24+AO24+AQ24+AS24+AU24+AW24+AY24 -> 310.035 | H24: 4 | I24: 55 | R24: SF B | S24: 0.035 | Z24: 1B | AA24: 90 | AH24: 2B | AI24: 45 | AN24: SF | AO24: 70 | AX24: SF B | AY24: 50
A25: 19 | B25: LOPEZ, MIA | C25: 2013 | D25: FET | E25: =G25+I25+K25+M25+O25+Q25+S25+U25+W25+Y25+AA25+AC25+AE25+AG25+AI25+AK25+AM25+AO25+AQ25+AS25+AU25+AW25+AY25 -> 305 | AH25: SF B | AI25: 35 | AN25: SF | AO25: 70 | AV25: 2B | AW25: 90 | AX25: 4F | AY25: 110
A26: 20 | B26: GARCIA FOCHI, MARIA PILAR | C26: 2014 | D26: SEN | E26: =G26+I26+K26+M26+O26+Q26+S26+U26+W26+Y26+AA26+AC26+AE26+AG26+AI26+AK26+AM26+AO26+AQ26+AS26+AU26+AW26+AY26 -> 205 | J26: 5 | K26: 90 | N26: 2B | O26: 45 | Z26: 2B | AA26: 70
A27: 21 | B27: TUSCO, MACKENSI | C27: 2015 | D27: SCZ | E27: =G27+I27+K27+M27+O27+Q27+S27+U27+W27+Y27+AA27+AC27+AE27+AG27+AI27+AK27+AM27+AO27+AQ27+AS27+AU27+AW27+AY27 -> 180 | P27: 4Z | Q27: 55 | AD27: SF B | AE27: 70 | AJ27: 4F | AK27: 55
A28: 22 | B28: BOTHIN, AYLIN JOSEFINA | C28: 2013 | D28: LIB | E28: =G28+I28+K28+M28+O28+Q28+S28+U28+W28+Y28+AA28+AC28+AE28+AG28+AI28+AK28+AM28+AO28+AQ28+AS28+AU28+AW28+AY28 -> 160 | AV28: 16F | AW28: 160
A29: 22 | B29: ULLOA, ALUEN AGOSTINA | C29: 2015 | D29: LIB | E29: =G29+I29+K29+M29+O29+Q29+S29+U29+W29+Y29+AA29+AC29+AE29+AG29+AI29+AK29+AM29+AO29+AQ29+AS29+AU29+AW29+AY29 -> 160 | AV29: 16F | AW29: 160
A30: 24 | B30: MUT, ANA LAURA | C30: 2013 | D30: MZA | E30: =G30+I30+K30+M30+O30+Q30+S30+U30+W30+Y30+AA30+AC30+AE30+AG30+AI30+AK30+AM30+AO30+AQ30+AS30+AU30+AW30+AY30 -> 125 | X30: SF | Y30: 70 | AP30: 4 | AQ30: 55
A31: 25 | B31: ESTIGARRIBIA, PAULA | C31: 2015 | D31: SCZ | E31: =G31+I31+K31+M31+O31+Q31+S31+U31+W31+Y31+AA31+AC31+AE31+AG31+AI31+AK31+AM31+AO31+AQ31+AS31+AU31+AW31+AY31 -> 125 | P31: 3Z | Q31: 55 | AV31: SF B | AW31: 70
A32: 26 | B32: CASSARA, CAMILA | C32: 2016 | D32: FET | E32: =G32+I32+K32+M32+O32+Q32+S32+U32+W32+Y32+AA32+AC32+AE32+AG32+AI32+AK32+AM32+AO32+AQ32+AS32+AU32+AW32+AY32 -> 125 | AH32: SF | AI32: 70 | AN32: 1B | AO32: 55
A33: 27 | B33: PAVCOVICH BINIMELIS, MILAGRO | C33: 2015 | D33: SDE | E33: =G33+I33+K33+M33+O33+Q33+S33+U33+W33+Y33+AA33+AC33+AE33+AG33+AI33+AK33+AM33+AO33+AQ33+AS33+AU33+AW33+AY33 -> 110 | J33: 4 | K33: 110
A34: 28 | B34: PASTERI, DELFINA | C34: 2017 | D34: SFE | E34: =G34+I34+K34+M34+O34+Q34+S34+U34+W34+Y34+AA34+AC34+AE34+AG34+AI34+AK34+AM34+AO34+AQ34+AS34+AU34+AW34+AY34 -> 110 | F34: 4 | G34: 110
A35: 29 | B35: MOSCOSO GIORNO, VALENTINA | C35: 2013 | D35: FET | E35: =G35+I35+K35+M35+O35+Q35+S35+U35+W35+Y35+AA35+AC35+AE35+AG35+AI35+AK35+AM35+AO35+AQ35+AS35+AU35+AW35+AY35 -> 70 | AV35: SF B | AW35: 70
A36: 30 | B36: LAI, AYELEN | C36: 2014 | D36: FET | E36: =G36+I36+K36+M36+O36+Q36+S36+U36+W36+Y36+AA36+AC36+AE36+AG36+AI36+AK36+AM36+AO36+AQ36+AS36+AU36+AW36+AY36 -> 55 | AH36: 1B | AI36: 55
A37: 31 | B37: HARO, YASMIN | C37: 2016 | D37: SCZ | E37: =G37+I37+K37+M37+O37+Q37+S37+U37+W37+Y37+AA37+AC37+AE37+AG37+AI37+AK37+AM37+AO37+AQ37+AS37+AU37+AW37+AY37 -> 55 | AJ37: 4F | AK37: 55
A38: 32 | B38: MANSILLA, ALDANA | C38: 2013 | D38: SCZ | E38: =G38+I38+K38+M38+O38+Q38+S38+U38+W38+Y38+AA38+AC38+AE38+AG38+AI38+AK38+AM38+AO38+AQ38+AS38+AU38+AW38+AY38 -> 45 | AJ38: 3Z | AK38: 45
A39: 33 | B39: SERVIN, ALMA | C39: 2014 | D39: SCZ | E39: =G39+I39+K39+M39+O39+Q39+S39+U39+W39+Y39+AA39+AC39+AE39+AG39+AI39+AK39+AM39+AO39+AQ39+AS39+AU39+AW39+AY39 -> 45 | AJ39: 3Z | AK39: 45
A40: 34 | B40: MIRANDA, ALMA | C40: 2014 | D40: SCZ | E40: =G40+I40+K40+M40+O40+Q40+S40+U40+W40+Y40+AA40+AC40+AE40+AG40+AI40+AK40+AM40+AO40+AQ40+AS40+AU40+AW40+AY40 -> 45 | AJ40: 3Z | AK40: 45
A41: 35 | B41: SADOMTSEVA, ALENA | C41: 2013 | D41: FET | E41: =G41+I41+K41+M41+O41+Q41+S41+U41+W41+Y41+AA41+AC41+AE41+AG41+AI41+AK41+AM41+AO41+AQ41+AS41+AU41+AW41+AY41 -> 35 | AN41: SF B | AO41: 35

Sheet ID U15
B1: INDIVIDUAL DAMAS U15 | F1: RANKING NACIONAL | TEMPORADA 2026
F2: Challenger | H2: Regional Abierto | J2: Challenger | L2: Regional Abierto | N2: Regional Abierto | P2: Regional Abierto | R2: Regional Abierto | T2: Regional Abierto | V2: Regional Abierto | X2: Regional Abierto | Z2: Challenger | AB2: Regional Abierto | AD2: Nacional | AF2: Regional Abierto | AH2: Regional Abierto | AJ2: Regional Abierto | AL2: Grand Prix | AN2: Regional Abierto | AP2: Regional Abierto | AR2: Regional Abierto | AT2: Challenger | AV2: Abierto de la Rep. | AX2: Challenger
F3: CHAPADMALAL | H3: FETEMBA | J3: SANT. DEL ESTERO | L3: MENDOZA | N3: SALTA | P3: TIERRA DEL FUEGO | R3: FETEMBA | T3: JUJUY | V3: SANTA FE | X3: MENDOZA | Z3: SALTA | AB3: NEUQUÉN | AD3: SANTA FE | AF3: MENDOZA | AH3: FETEMBA | AJ3: SANTA CRUZ | AL3: MENDOZA | AN3: FETEMBA | AP3: MENDOZA | AR3: RIO NEGRO | AT3: ROSARIO | AV3: BUENOS AIRES | AX3: ROSARIO
F4: 2 A 4 MAR 2025 | H4: 29 Y 30 MAR 2025 | J4: 11 A 13 ABR 2025 | L4: 26 Y 27 ABR 2025 | N4: 26 Y 27 ABR 2025 | P4: 04 MAY 2025 | R4: 10 Y 11 MAY 2025 | T4: 24 Y 25 MAY 2025 | V4: 31 MAY Y 1 JUN 2025 | X4: 7 Y 8 JUN 2025 | Z4: 14 A 16 JUN 2025 | AB4: 21 Y 22 JUN 2025 | AD4: 9 A 13 JUL 2025 | AF4: 9 Y 10 AGO 2025 | AH4: 15 AGO 2025 | AJ4: 15 A 17 AGO 2025 | AL4: 5 A 7 SEP 2025 | AN4: 27 Y 28 SEP 2025 | AP4: 4 Y 5 OCT 2025 | AR4: 11 Y 12 OCT 2025 | AT4: 17 A 19 OCT 2025 | AV4: 21 A 24 NOV 2025 | AX4: 15 A 17 FEB 2026
A5: POS. | B5: ATLETA | C5: CAT. | D5: ASOC. | E5: TOTAL | F5: Pos. | G5: Ptos. | H5: Pos. | I5: Ptos. | J5: Pos. | K5: Ptos. | L5: Pos. | M5: Ptos. | N5: Pos. | O5: Ptos. | P5: Pos. | Q5: Ptos. | R5: Pos. | S5: Ptos. | T5: Pos. | U5: Ptos. | V5: Pos. | W5: Ptos. | X5: Pos. | Y5: Ptos. | Z5: Pos. | AA5: Ptos. | AB5: Pos. | AC5: Ptos. | AD5: Pos. | AE5: Ptos. | AF5: Pos. | AG5: Ptos. | AH5: Pos. | AI5: Ptos. | AJ5: Pos. | AK5: Ptos. | AL5: Pos. | AM5: Ptos. | AN5: Pos. | AO5: Ptos. | AP5: Pos. | AQ5: Ptos. | AR5: Pos. | AS5: Ptos. | AT5: Pos. | AU5: Ptos. | AV5: Pos. | AW5: Ptos. | AX5: Pos. | AY5: Ptos.
A7: 1 | B7: SALUSSO, ALEXIA | C7: 2011 | D7: FET | E7: =G7+I7+K7+M7+O7+Q7+S7+U7+W7+Y7+AA7+AC7+AE7+AG7+AI7+AK7+AM7+AO7+AQ7+AS7+AU7+AW7+AY7 -> 1265 | H7: 1 | I7: 110 | R7: 4F | S7: 55 | AD7: 1 | AE7: 495 | AH7: 1 | AI7: 110 | AV7: 1 | AW7: 495
A8: 2 | B8: VALERIO, GEMMA | C8: 2011 | D8: SAL | E8: =G8+I8+K8+M8+O8+Q8+S8+U8+W8+Y8+AA8+AC8+AE8+AG8+AI8+AK8+AM8+AO8+AQ8+AS8+AU8+AW8+AY8 -> 1265.14 | J8: SF | K8: 0.14 | N8: SF | O8: 70 | T8: 1 | U8: 110 | Z8: 1 | AA8: 220 | AD8: SF | AE8: 315 | AH8: 4F | AI8: 55 | AV8: SF | AW8: 315 | AX8: 2 | AY8: 180
A9: 3 | B9: GUARDIA, MARIA VICTORIA | C9: 2011 | D9: SAL | E9: =G9+I9+K9+M9+O9+Q9+S9+U9+W9+Y9+AA9+AC9+AE9+AG9+AI9+AK9+AM9+AO9+AQ9+AS9+AU9+AW9+AY9 -> 1235.14 | J9: 2 | K9: 180 | N9: 1 | O9: 110 | Z9: SF | AA9: 0.14 | AH9: SF | AI9: 70 | AL9: 1 | AM9: 330 | AV9: 2 | AW9: 405 | AX9: SF | AY9: 140
A10: 4 | B10: GUIA MONZON, IXCHEL | C10: 2012 | D10: SFE | E10: =G10+I10+K10+M10+O10+Q10+S10+U10+W10+Y10+AA10+AC10+AE10+AG10+AI10+AK10+AM10+AO10+AQ10+AS10+AU10+AW10+AY10 -> 1151.25 | F10: Prom. | G10: 120 | H10: Prom. | I10: 46.25 | V10: 1 | W10: 110 | AD10: 2 | AE10: 405 | AV10: 4F | AW10: 250 | AX10: 1 | AY10: 220
A11: 5 | B11: SALPETER, LUANA | C11: 2012 | D11: FET | E11: =G11+I11+K11+M11+O11+Q11+S11+U11+W11+Y11+AA11+AC11+AE11+AG11+AI11+AK11+AM11+AO11+AQ11+AS11+AU11+AW11+AY11 -> 1121.305 | F11: 1 | G11: 220 | H11: Prom. | I11: 61.25 | R11: SF | S11: 70 | AD11: 4F | AE11: 250 | AH11: 4F | AI11: 0.055 | AN11: 2 | AO11: 90 | AT11: 2 | AU11: 180 | AV11: 4F | AW11: 250
A12: 6 | B12: PEREZ MAZZARELLO, MALENA | C12: 2011 | D12: FET | E12: =G12+I12+K12+M12+O12+Q12+S12+U12+W12+Y12+AA12+AC12+AE12+AG12+AI12+AK12+AM12+AO12+AQ12+AS12+AU12+AW12+AY12 -> 1030.055 | H12: 3 | I12: 70 | R12: 4F | S12: 0.055 | AD12: SF | AE12: 315 | AH12: 4F | AI12: 55 | AN12: 4F | AO12: 55 | AT12: 1 | AU12: 220 | AV12: SF | AW12: 315
A13: 7 | B13: MAEHAMA, TRINIDAD | C13: 2012 | D13: FET | E13: =G13+I13+K13+M13+O13+Q13+S13+U13+W13+Y13+AA13+AC13+AE13+AG13+AI13+AK13+AM13+AO13+AQ13+AS13+AU13+AW13+AY13 -> 1005.165 | H13: Prom. | I13: 0.025 | R13: SF | S13: 70 | Z13: SF | AA13: 0.14 | AD13: 8F | AE13: 205 | AH13: 2 | AI13: 90 | AN13: 1 | AO13: 110 | AT13: SF | AU13: 140 | AV13: 4F | AW13: 250 | AX13: SF | AY13: 140
A14: 8 | B14: SATO, MIA HIROMMI | C14: 2014 | D14: FET | E14: =G14+I14+K14+M14+O14+Q14+S14+U14+W14+Y14+AA14+AC14+AE14+AG14+AI14+AK14+AM14+AO14+AQ14+AS14+AU14+AW14+AY14 -> 995.1375 | F14: 4 | G14: 0.11 | H14: Prom. | I14: 0.0275 | V14: 4 | W14: 55 | AD14: 8F | AE14: 205 | AH14: 1B | AI14: 45 | AL14: SF | AM14: 210 | AN14: 4F | AO14: 55 | AT14: 1B | AU14: 110 | AV14: 8F | AW14: 205 | AX14: 4F | AY14: 110
A15: 9 | B15: IGLESIAS, VALENTINA | C15: 2011 | D15: MZA | E15: =G15+I15+K15+M15+O15+Q15+S15+U15+W15+Y15+AA15+AC15+AE15+AG15+AI15+AK15+AM15+AO15+AQ15+AS15+AU15+AW15+AY15 -> 905.035 | L15: 1 | M15: 110 | R15: 2B | S15: 0.035 | X15: 1 | Y15: 110 | AD15: 1B | AE15: 115 | AF15: 2 | AG15: 90 | AL15: SF | AM15: 210 | AV15: 16F | AW15: 160 | AX15: 4F | AY15: 110
A16: 10 | B16: SIALLE, CONSTANTINA | C16: 2013 | D16: SEN | E16: =G16+I16+K16+M16+O16+Q16+S16+U16+W16+Y16+AA16+AC16+AE16+AG16+AI16+AK16+AM16+AO16+AQ16+AS16+AU16+AW16+AY16 -> 775.09 | J16: 1B | K16: 110 | Z16: 1B | AA16: 0.09 | AD16: 8F | AE16: 205 | AL16: 4F | AM16: 165 | AV16: 8F | AW16: 205 | AX16: 8F | AY16: 90
A17: 11 | B17: CASTELLANO, SOPHIA LIZ | C17: 2011 | D17: FET | E17: =G17+I17+K17+M17+O17+Q17+S17+U17+W17+Y17+AA17+AC17+AE17+AG17+AI17+AK17+AM17+AO17+AQ17+AS17+AU17+AW17+AY17 -> 730.055 | H17: 2 | I17: 90 | R17: 4F | S17: 0.055 | AD17: 4F | AE17: 250 | AH17: SF | AI17: 70 | AN17: SF | AO17: 70 | AV17: 4F | AW17: 250
A18: 12 | B18: ACHAVAL FORRAY, ANNA ZOE | C18: 2012 | D18: SEN | E18: =G18+I18+K18+M18+O18+Q18+S18+U18+W18+Y18+AA18+AC18+AE18+AG18+AI18+AK18+AM18+AO18+AQ18+AS18+AU18+AW18+AY18 -> 645 | J18: 2B | K18: 90 | N18: 1B | O18: 55 | AD18: 8F | AE18: 205 | AL18: 1B | AM18: 135 | AV18: 2B | AW18: 90 | AX18: 1B | AY18: 70
A19: 13 | B19: GALLARDO BERESIARTE, PILAR | C19: 2013 | D19: SAL | E19: =G19+I19+K19+M19+O19+Q19+S19+U19+W19+Y19+AA19+AC19+AE19+AG19+AI19+AK19+AM19+AO19+AQ19+AS19+AU19+AW19+AY19 -> 590 | T19: 3 | U19: 70 | Z19: 4F | AA19: 110 | AD19: 16F | AE19: 160 | AV19: 16F | AW19: 160 | AX19: 8F | AY19: 90
A20: 14 | B20: CRUZ MUÑOZ, MARTINA | C20: 2013 | D20: FET | E20: =G20+I20+K20+M20+O20+Q20+S20+U20+W20+Y20+AA20+AC20+AE20+AG20+AI20+AK20+AM20+AO20+AQ20+AS20+AU20+AW20+AY20 -> 570.025 | F20: 3 | G20: 140 | H20: 4 | I20: 55 | R20: SF B | S20: 0.025 | AD20: 4F | AE20: 250 | AH20: 4F | AI20: 55 | AN20: SF | AO20: 70
A21: 15 | B21: OLIVAREZ, ISABELLA | C21: 2014 | D21: SFE | E21: =G21+I21+K21+M21+O21+Q21+S21+U21+W21+Y21+AA21+AC21+AE21+AG21+AI21+AK21+AM21+AO21+AQ21+AS21+AU21+AW21+AY21 -> 570 | R21: 1B | S21: 45 | V21: 3 | W21: 70 | AT21: SF | AU21: 140 | AV21: 8F | AW21: 205 | AX21: 4F | AY21: 110
A22: 16 | B22: GIULIANI ZAENZ, LARA | C22: 2012 | D22: SFE | E22: =G22+I22+K22+M22+O22+Q22+S22+U22+W22+Y22+AA22+AC22+AE22+AG22+AI22+AK22+AM22+AO22+AQ22+AS22+AU22+AW22+AY22 -> 565 | V22: 5 | W22: 45 | AD22: 8F | AE22: 205 | AV22: 8F | AW22: 205 | AX22: 4F | AY22: 110
A23: 17 | B23: TAN, VICTORIA | C23: 2011 | D23: FET | E23: =G23+I23+K23+M23+O23+Q23+S23+U23+W23+Y23+AA23+AC23+AE23+AG23+AI23+AK23+AM23+AO23+AQ23+AS23+AU23+AW23+AY23 -> 490 | H23: 5 | I23: 45 | AD23: 8F | AE23: 205 | AH23: 2B | AI23: 35 | AV23: 8F | AW23: 205
A24: 18 | B24: FRAGAPANE, FRANCESCA | C24: 2011 | D24: FBA | E24: =G24+I24+K24+M24+O24+Q24+S24+U24+W24+Y24+AA24+AC24+AE24+AG24+AI24+AK24+AM24+AO24+AQ24+AS24+AU24+AW24+AY24 -> 475 | AL24: 2 | AM24: 270 | AV24: 8F | AW24: 205
A25: 19 | B25: GONZALEZ, CATALINA | C25: 2013 | D25: MZA | E25: =G25+I25+K25+M25+O25+Q25+S25+U25+W25+Y25+AA25+AC25+AE25+AG25+AI25+AK25+AM25+AO25+AQ25+AS25+AU25+AW25+AY25 -> 400.045 | L25: 4 | M25: 55 | X25: 4 | Y25: 55 | AF25: 5 | AG25: 0.045 | AL25: 4F | AM25: 165 | AP25: 4 | AQ25: 55 | AV25: SF B | AW25: 70
A26: 20 | B26: TOSCANO, DAIANA ANTONELLA | C26: 2013 | D26: SAL | E26: =G26+I26+K26+M26+O26+Q26+S26+U26+W26+Y26+AA26+AC26+AE26+AG26+AI26+AK26+AM26+AO26+AQ26+AS26+AU26+AW26+AY26 -> 385 | N26: SF | O26: 70 | Z26: 4F | AA26: 110 | AD26: 8F | AE26: 205
A27: 21 | B27: VERA ARROYO, MIA LUANNA | C27: 2014 | D27: MZA | E27: =G27+I27+K27+M27+O27+Q27+S27+U27+W27+Y27+AA27+AC27+AE27+AG27+AI27+AK27+AM27+AO27+AQ27+AS27+AU27+AW27+AY27 -> 320 | AP27: 1 | AQ27: 110 | AV27: 16F | AW27: 160 | AX27: 2B | AY27: 50
A28: 22 | B28: ECHEGARAY, PIA | C28: 2013 | D28: MZA | E28: =G28+I28+K28+M28+O28+Q28+S28+U28+W28+Y28+AA28+AC28+AE28+AG28+AI28+AK28+AM28+AO28+AQ28+AS28+AU28+AW28+AY28 -> 320 | L28: 5 | M28: 45 | AD28: SF B | AE28: 70 | AF28: 4 | AG28: 55 | AL28: 2B | AM28: 105 | AP28: 5 | AQ28: 45
A29: 23 | B29: PAREDES, FIORELA | C29: 2012 | D29: SCZ | E29: =G29+I29+K29+M29+O29+Q29+S29+U29+W29+Y29+AA29+AC29+AE29+AG29+AI29+AK29+AM29+AO29+AQ29+AS29+AU29+AW29+AY29 -> 310 | P29: 1 | Q29: 110 | AD29: 2B | AE29: 90 | AJ29: 1 | AK29: 110
A30: 24 | B30: CEJUDO, LARA | C30: 2012 | D30: MZA | E30: =G30+I30+K30+M30+O30+Q30+S30+U30+W30+Y30+AA30+AC30+AE30+AG30+AI30+AK30+AM30+AO30+AQ30+AS30+AU30+AW30+AY30 -> 210 | L30: 3 | M30: 70 | X30: 3 | Y30: 70 | AF30: 3 | AG30: 70
A31: 25 | B31: MENARES, KIARA ANTONELLA | C31: 2012 | D31: SCZ | E31: =G31+I31+K31+M31+O31+Q31+S31+U31+W31+Y31+AA31+AC31+AE31+AG31+AI31+AK31+AM31+AO31+AQ31+AS31+AU31+AW31+AY31 -> 205 | AV31: 8F | AW31: 205
A32: 26 | B32: MANSILLA, OLIVIA | C32: 2013 | D32: FET | E32: =G32+I32+K32+M32+O32+Q32+S32+U32+W32+Y32+AA32+AC32+AE32+AG32+AI32+AK32+AM32+AO32+AQ32+AS32+AU32+AW32+AY32 -> 165 | R32: SF B | S32: 25 | Z32: SF B | AA32: 50 | AH32: SF B | AI32: 25 | AN32: SF B | AO32: 25 | AX32: SF B | AY32: 40
A33: 27 | B33: MOSCA PAREDES, SABRINA JAZMIN | C33: 2011 | D33: LIB | E33: =G33+I33+K33+M33+O33+Q33+S33+U33+W33+Y33+AA33+AC33+AE33+AG33+AI33+AK33+AM33+AO33+AQ33+AS33+AU33+AW33+AY33 -> 160 | AV33: 16F | AW33: 160
A34: 28 | B34: ALANIZ, ZOE | C34: 2012 | D34: SCZ | E34: =G34+I34+K34+M34+O34+Q34+S34+U34+W34+Y34+AA34+AC34+AE34+AG34+AI34+AK34+AM34+AO34+AQ34+AS34+AU34+AW34+AY34 -> 160 | P34: 3 | Q34: 70 | AJ34: 2 | AK34: 90
A35: 29 | B35: BOTHIN, AYLIN JOSEFINA | C35: 2013 | D35: LIB | E35: =G35+I35+K35+M35+O35+Q35+S35+U35+W35+Y35+AA35+AC35+AE35+AG35+AI35+AK35+AM35+AO35+AQ35+AS35+AU35+AW35+AY35 -> 160 | AV35: 16F | AW35: 160
A36: 30 | B36: CENTURION SCHNEIDER, LUNA V. | C36: 2011 | D36: CHA | E36: =G36+I36+K36+M36+O36+Q36+S36+U36+W36+Y36+AA36+AC36+AE36+AG36+AI36+AK36+AM36+AO36+AQ36+AS36+AU36+AW36+AY36 -> 155 | AV36: 1B | AW36: 115 | AX36: SF B | AY36: 40
A37: 31 | B37: CARRIZO JOZAMI, MIA AFELICITA | C37: 2011 | D37: SEN | E37: =G37+I37+K37+M37+O37+Q37+S37+U37+W37+Y37+AA37+AC37+AE37+AG37+AI37+AK37+AM37+AO37+AQ37+AS37+AU37+AW37+AY37 -> 140 | J37: SF | K37: 140
A38: 32 | B38: SARAVIA, SOFIA | C38: 2011 | D38: SAL | E38: =G38+I38+K38+M38+O38+Q38+S38+U38+W38+Y38+AA38+AC38+AE38+AG38+AI38+AK38+AM38+AO38+AQ38+AS38+AU38+AW38+AY38 -> 115 | N38: 2B | O38: 45 | Z38: 2B | AA38: 70
A39: 33 | B39: FAZIO, VALENTINA | C39: 2011 | D39: FET | E39: =G39+I39+K39+M39+O39+Q39+S39+U39+W39+Y39+AA39+AC39+AE39+AG39+AI39+AK39+AM39+AO39+AQ39+AS39+AU39+AW39+AY39 -> 90 | F39: 5 | G39: 90
A40: 34 | B40: ARENAS, CLARITA | C40: 2012 | D40: JUJ | E40: =G40+I40+K40+M40+O40+Q40+S40+U40+W40+Y40+AA40+AC40+AE40+AG40+AI40+AK40+AM40+AO40+AQ40+AS40+AU40+AW40+AY40 -> 90 | T40: 2 | U40: 90
A41: 35 | B41: RETAMAL, AGUSTINA | C41: 2012 | D41: CHI | E41: =G41+I41+K41+M41+O41+Q41+S41+U41+W41+Y41+AA41+AC41+AE41+AG41+AI41+AK41+AM41+AO41+AQ41+AS41+AU41+AW41+AY41 -> 70 | AJ41: SF | AK41: 70
A42: 36 | B42: PIRUZI, ALBA ALLEGRA | C42: 2015 | D42: MZA | E42: =G42+I42+K42+M42+O42+Q42+S42+U42+W42+Y42+AA42+AC42+AE42+AG42+AI42+AK42+AM42+AO42+AQ42+AS42+AU42+AW42+AY42 -> 70 | AP42: 3 | AQ42: 70
A43: 37 | B43: CASTRO LOZANO, DELFINA | C43: 2011 | D43: JUJ | E43: =G43+I43+K43+M43+O43+Q43+S43+U43+W43+Y43+AA43+AC43+AE43+AG43+AI43+AK43+AM43+AO43+AQ43+AS43+AU43+AW43+AY43 -> 55 | T43: 4 | U43: 55
A44: 38 | B44: VERA, CONSTANZA | C44: 2011 | D44: CHI | E44: =G44+I44+K44+M44+O44+Q44+S44+U44+W44+Y44+AA44+AC44+AE44+AG44+AI44+AK44+AM44+AO44+AQ44+AS44+AU44+AW44+AY44 -> 55 | AJ44: 3Z | AK44: 55
A45: 39 | B45: MONTESINOS, PAULA | C45: 2012 | D45: CHI | E45: =G45+I45+K45+M45+O45+Q45+S45+U45+W45+Y45+AA45+AC45+AE45+AG45+AI45+AK45+AM45+AO45+AQ45+AS45+AU45+AW45+AY45 -> 55 | AJ45: 3Z | AK45: 55
A46: 40 | B46: MANSILLA, ALDANA | C46: 2013 | D46: SCZ | E46: =G46+I46+K46+M46+O46+Q46+S46+U46+W46+Y46+AA46+AC46+AE46+AG46+AI46+AK46+AM46+AO46+AQ46+AS46+AU46+AW46+AY46 -> 55 | AJ46: 3Z | AK46: 55
A47: 41 | B47: AREPOCO, GISELLA | C47: 2011 | D47: FET | E47: =G47+I47+K47+M47+O47+Q47+S47+U47+W47+Y47+AA47+AC47+AE47+AG47+AI47+AK47+AM47+AO47+AQ47+AS47+AU47+AW47+AY47 -> 50 | AH47: SF B | AI47: 25 | AN47: SF B | AO47: 25
A48: 42 | B48: PALMERIO, ISABELLA | C48: 2012 | D48: FET | E48: =G48+I48+K48+M48+O48+Q48+S48+U48+W48+Y48+AA48+AC48+AE48+AG48+AI48+AK48+AM48+AO48+AQ48+AS48+AU48+AW48+AY48 -> 45 | AN48: 1B | AO48: 45
A49: 43 | B49: DANTUR, JULIETA | C49: 2012 | D49: SAL | E49: =G49+I49+K49+M49+O49+Q49+S49+U49+W49+Y49+AA49+AC49+AE49+AG49+AI49+AK49+AM49+AO49+AQ49+AS49+AU49+AW49+AY49 -> 35 | N49: SF B | O49: 35
A50: 44 | B50: SERRANO, SOL | C50: 2014 | D50: FET | E50: =G50+I50+K50+M50+O50+Q50+S50+U50+W50+Y50+AA50+AC50+AE50+AG50+AI50+AK50+AM50+AO50+AQ50+AS50+AU50+AW50+AY50 -> 35 | AN50: 2B | AO50: 35

Sheet ID U17
B1: INDIVIDUAL DAMAS U17 | F1: RANKING NACIONAL | TEMPORADA 2026
F2: Challenger | H2: Regional Abierto | J2: Challenger | L2: Regional Abierto | N2: Regional Abierto | P2: Regional Abierto | R2: Regional Abierto | T2: Regional Abierto | V2: Regional Abierto | X2: Regional Abierto | Z2: Challenger | AB2: Regional Abierto | AD2: Nacional | AF2: Regional Abierto | AH2: Regional Abierto | AJ2: Regional Abierto | AL2: Grand Prix | AN2: Regional Abierto | AP2: Regional Abierto | AR2: Regional Abierto | AT2: Challenger | AV2: Abierto de la Rep. | AX2: Challenger
F3: CHAPADMALAL | H3: FETEMBA | J3: SANT. DEL ESTERO | L3: MENDOZA | N3: SALTA | P3: TIERRA DEL FUEGO | R3: FETEMBA | T3: JUJUY | V3: SANTA FE | X3: MENDOZA | Z3: SALTA | AB3: NEUQUÉN | AD3: SANTA FE | AF3: MENDOZA | AH3: FETEMBA | AJ3: SANTA CRUZ | AL3: MENDOZA | AN3: FETEMBA | AP3: MENDOZA | AR3: RIO NEGRO | AT3: ROSARIO | AV3: BUENOS AIRES | AX3: ROSARIO
F4: 2 A 4 MAR 2025 | H4: 29 Y 30 MAR 2025 | J4: 11 A 13 ABR 2025 | L4: 26 Y 27 ABR 2025 | N4: 26 Y 27 ABR 2025 | P4: 04 MAY 2025 | R4: 10 Y 11 MAY 2025 | T4: 24 Y 25 MAY 2025 | V4: 31 MAY Y 1 JUN 2025 | X4: 7 Y 8 JUN 2025 | Z4: 14 A 16 JUN 2025 | AB4: 21 Y 22 JUN 2025 | AD4: 9 A 13 JUL 2025 | AF4: 9 Y 10 AGO 2025 | AH4: 15 AGO 2025 | AJ4: 15 A 17 AGO 2025 | AL4: 5 A 7 SEP 2025 | AN4: 27 Y 28 SEP 2025 | AP4: 4 Y 5 OCT 2025 | AR4: 11 Y 12 OCT 2025 | AT4: 17 A 19 OCT 2025 | AV4: 21 A 24 NOV 2025 | AX4: 15 A 17 FEB 2026
A5: POS. | B5: ATLETA | C5: CAT. | D5: ASOC. | E5: TOTAL | F5: Pos. | G5: Ptos. | H5: Pos. | I5: Ptos. | J5: Pos. | K5: Ptos. | L5: Pos. | M5: Ptos. | N5: Pos. | O5: Ptos. | P5: Pos. | Q5: Ptos. | R5: Pos. | S5: Ptos. | T5: Pos. | U5: Ptos. | V5: Pos. | W5: Ptos. | X5: Pos. | Y5: Ptos. | Z5: Pos. | AA5: Ptos. | AB5: Pos. | AC5: Ptos. | AD5: Pos. | AE5: Ptos. | AF5: Pos. | AG5: Ptos. | AH5: Pos. | AI5: Ptos. | AJ5: Pos. | AK5: Ptos. | AL5: Pos. | AM5: Ptos. | AN5: Pos. | AO5: Ptos. | AP5: Pos. | AQ5: Ptos. | AR5: Pos. | AS5: Ptos. | AT5: Pos. | AU5: Ptos. | AV5: Pos. | AW5: Ptos. | AX5: Pos. | AY5: Ptos.
A7: 1 | B7: PEREZ MAZZARELLO, JULIA | C7: 2009 | D7: FET | E7: =G7+I7+K7+M7+O7+Q7+S7+U7+W7+Y7+AA7+AC7+AE7+AG7+AI7+AK7+AM7+AO7+AQ7+AS7+AU7+AW7+AY7 -> 950 | H7: 2 | I7: 90 | AD7: 2 | AE7: 405 | AT7: 3 | AU7: 140 | AV7: SF | AW7: 315
A8: 2 | B8: PALAMEDI, UMA | C8: 2010 | D8: SFE | E8: =G8+I8+K8+M8+O8+Q8+S8+U8+W8+Y8+AA8+AC8+AE8+AG8+AI8+AK8+AM8+AO8+AQ8+AS8+AU8+AW8+AY8 -> 780 | AH8: 2 | AI8: 90 | AT8: 1 | AU8: 220 | AV8: 4F | AW8: 250 | AX8: 1 | AY8: 220
A9: 3 | B9: GUIA MONZON, IXCHEL | C9: 2012 | D9: SFE | E9: =G9+I9+K9+M9+O9+Q9+S9+U9+W9+Y9+AA9+AC9+AE9+AG9+AI9+AK9+AM9+AO9+AQ9+AS9+AU9+AW9+AY9 -> 495 | AV9: 1 | AW9: 495
A10: 3 | B10: LOPEZ AUAT, MALENA | C10: 2009 | D10: SEN | E10: =G10+I10+K10+M10+O10+Q10+S10+U10+W10+Y10+AA10+AC10+AE10+AG10+AI10+AK10+AM10+AO10+AQ10+AS10+AU10+AW10+AY10 -> 495 | AD10: 1 | AE10: 495
A11: 5 | B11: VELASQUEZ, ARIANA | C11: 2009 | D11: TDF | E11: =G11+I11+K11+M11+O11+Q11+S11+U11+W11+Y11+AA11+AC11+AE11+AG11+AI11+AK11+AM11+AO11+AQ11+AS11+AU11+AW11+AY11 -> 430 | P11: 2 | Q11: 90 | AJ11: 2 | AK11: 90 | AV11: 4F | AW11: 250
A12: 6 | B12: BENITEZ TOME, MARTINA | C12: 2010 | D12: COR | E12: =G12+I12+K12+M12+O12+Q12+S12+U12+W12+Y12+AA12+AC12+AE12+AG12+AI12+AK12+AM12+AO12+AQ12+AS12+AU12+AW12+AY12 -> 410 | AD12: 3Z | AE12: 205 | AV12: 3Z | AW12: 205
A13: 7 | B13: ROJAS, MAYA | C13: 2010 | D13: URU | E13: =G13+I13+K13+M13+O13+Q13+S13+U13+W13+Y13+AA13+AC13+AE13+AG13+AI13+AK13+AM13+AO13+AQ13+AS13+AU13+AW13+AY13 -> 405 | AV13: 2 | AW13: 405
A14: 8 | B14: VELAZQUEZ, IRUPE | C14: 2009 | D14: SFE | E14: =G14+I14+K14+M14+O14+Q14+S14+U14+W14+Y14+AA14+AC14+AE14+AG14+AI14+AK14+AM14+AO14+AQ14+AS14+AU14+AW14+AY14 -> 360 | AD14: 4F | AE14: 250 | AT14: 4 | AU14: 110
A15: 9 | B15: IPPOLITI, PAULINA | C15: 2010 | D15: MZA | E15: =G15+I15+K15+M15+O15+Q15+S15+U15+W15+Y15+AA15+AC15+AE15+AG15+AI15+AK15+AM15+AO15+AQ15+AS15+AU15+AW15+AY15 -> 345 | AL15: 3Z | AM15: 165 | AX15: 2 | AY15: 180
A16: 10 | B16: CENTURION SCHNEIDER, LUNA V. | C16: 2011 | D16: CHA | E16: =G16+I16+K16+M16+O16+Q16+S16+U16+W16+Y16+AA16+AC16+AE16+AG16+AI16+AK16+AM16+AO16+AQ16+AS16+AU16+AW16+AY16 -> 345 | AV16: 3Z | AW16: 205 | AX16: 3 | AY16: 140
A17: 11 | B17: FERRI, DELFINA | C17: 2010 | D17: SFE | E17: =G17+I17+K17+M17+O17+Q17+S17+U17+W17+Y17+AA17+AC17+AE17+AG17+AI17+AK17+AM17+AO17+AQ17+AS17+AU17+AW17+AY17 -> 315 | AD17: SF | AE17: 315
A18: 11 | B18: VALERIO, GEMMA | C18: 2011 | D18: SAL | E18: =G18+I18+K18+M18+O18+Q18+S18+U18+W18+Y18+AA18+AC18+AE18+AG18+AI18+AK18+AM18+AO18+AQ18+AS18+AU18+AW18+AY18 -> 315 | AD18: SF | AE18: 315
A19: 13 | B19: ASTORGA MELIN, ABRIL AYMARA | C19: 2010 | D19: SCZ | E19: =G19+I19+K19+M19+O19+Q19+S19+U19+W19+Y19+AA19+AC19+AE19+AG19+AI19+AK19+AM19+AO19+AQ19+AS19+AU19+AW19+AY19 -> 315 | P19: 4 | Q19: 55 | AD19: 3Z | AE19: 205 | AJ19: 3Z | AK19: 55
A20: 14 | B20: MOSCA PAREDES, SABRINA JAZMIN | C20: 2011 | D20: LIB | E20: =G20+I20+K20+M20+O20+Q20+S20+U20+W20+Y20+AA20+AC20+AE20+AG20+AI20+AK20+AM20+AO20+AQ20+AS20+AU20+AW20+AY20 -> 250 | AV20: 4F | AW20: 250
A21: 14 | B21: TAN, VICTORIA | C21: 2011 | D21: FET | E21: =G21+I21+K21+M21+O21+Q21+S21+U21+W21+Y21+AA21+AC21+AE21+AG21+AI21+AK21+AM21+AO21+AQ21+AS21+AU21+AW21+AY21 -> 250 | AD21: 4F | AE21: 250
A22: 14 | B22: QUIROGA MONTENEGRO, KYARA | C22: 2010 | D22: FET | E22: =G22+I22+K22+M22+O22+Q22+S22+U22+W22+Y22+AA22+AC22+AE22+AG22+AI22+AK22+AM22+AO22+AQ22+AS22+AU22+AW22+AY22 -> 250 | AD22: 4F | AE22: 250
A23: 14 | B23: IGLESIAS, VALENTINA | C23: 2011 | D23: MZA | E23: =G23+I23+K23+M23+O23+Q23+S23+U23+W23+Y23+AA23+AC23+AE23+AG23+AI23+AK23+AM23+AO23+AQ23+AS23+AU23+AW23+AY23 -> 250 | AD23: 4F | AE23: 250
A24: 18 | B24: GITELMAN, LORENA | C24: 2009 | D24: FET | E24: =G24+I24+K24+M24+O24+Q24+S24+U24+W24+Y24+AA24+AC24+AE24+AG24+AI24+AK24+AM24+AO24+AQ24+AS24+AU24+AW24+AY24 -> 220 | H24: 1 | I24: 110 | AH24: 1 | AI24: 110
A25: 19 | B25: FRAGAPANE, FRANCESCA | C25: 2011 | D25: FBA | E25: =G25+I25+K25+M25+O25+Q25+S25+U25+W25+Y25+AA25+AC25+AE25+AG25+AI25+AK25+AM25+AO25+AQ25+AS25+AU25+AW25+AY25 -> 210 | AL25: SF | AM25: 210
A26: 20 | B26: GORRI, AMIRA | C26: 2009 | D26: NQN | E26: =G26+I26+K26+M26+O26+Q26+S26+U26+W26+Y26+AA26+AC26+AE26+AG26+AI26+AK26+AM26+AO26+AQ26+AS26+AU26+AW26+AY26 -> 205 | AV26: 3Z | AW26: 205
A27: 20 | B27: BOTHIN, GERLADINE | C27: 2010 | D27: SCZ | E27: =G27+I27+K27+M27+O27+Q27+S27+U27+W27+Y27+AA27+AC27+AE27+AG27+AI27+AK27+AM27+AO27+AQ27+AS27+AU27+AW27+AY27 -> 205 | AV27: 3Z | AW27: 205
A28: 22 | B28: SOTO, MICAELA AGOSTINA | C28: 2009 | D28: SCZ | E28: =G28+I28+K28+M28+O28+Q28+S28+U28+W28+Y28+AA28+AC28+AE28+AG28+AI28+AK28+AM28+AO28+AQ28+AS28+AU28+AW28+AY28 -> 205 | AV28: 4Z | AW28: 205
A29: 23 | B29: PEREZ MAZZARELLO, MALENA | C29: 2011 | D29: FET | E29: =G29+I29+K29+M29+O29+Q29+S29+U29+W29+Y29+AA29+AC29+AE29+AG29+AI29+AK29+AM29+AO29+AQ29+AS29+AU29+AW29+AY29 -> 180 | AT29: 2 | AU29: 180
A30: 24 | B30: GONZALEZ, EVELYN | C30: 2009 | D30: TDF | E30: =G30+I30+K30+M30+O30+Q30+S30+U30+W30+Y30+AA30+AC30+AE30+AG30+AI30+AK30+AM30+AO30+AQ30+AS30+AU30+AW30+AY30 -> 140 | P30: 3 | Q30: 70 | AJ30: SF | AK30: 70
A31: 25 | B31: GIULIANI ZAENZ, LARA | C31: 2012 | D31: SFE | E31: =G31+I31+K31+M31+O31+Q31+S31+U31+W31+Y31+AA31+AC31+AE31+AG31+AI31+AK31+AM31+AO31+AQ31+AS31+AU31+AW31+AY31 -> 110 | AX31: 4 | AY31: 110
A32: 26 | B32: NIETO, FLORENCIA | C32: 2009 | D32: CHI | E32: =G32+I32+K32+M32+O32+Q32+S32+U32+W32+Y32+AA32+AC32+AE32+AG32+AI32+AK32+AM32+AO32+AQ32+AS32+AU32+AW32+AY32 -> 70 | AJ32: SF | AK32: 70
A33: 27 | B33: CENDRA, VALENTINA | C33: 2010 | D33: FET | E33: =G33+I33+K33+M33+O33+Q33+S33+U33+W33+Y33+AA33+AC33+AE33+AG33+AI33+AK33+AM33+AO33+AQ33+AS33+AU33+AW33+AY33 -> 70 | AH33: 3 | AI33: 70
A34: 28 | B34: SALPETER, LUANA | C34: 2012 | D34: FET | E34: =G34+I34+K34+M34+O34+Q34+S34+U34+W34+Y34+AA34+AC34+AE34+AG34+AI34+AK34+AM34+AO34+AQ34+AS34+AU34+AW34+AY34 -> 13.75 | H34: Prom. | I34: 13.75

Sheet ID U19
B1: INDIVIDUAL DAMAS U19 | F1: RANKING NACIONAL | TEMPORADA 2026
F2: Challenger | H2: Regional Abierto | J2: Challenger | L2: Regional Abierto | N2: Regional Abierto | P2: Regional Abierto | R2: Regional Abierto | T2: Regional Abierto | V2: Regional Abierto | X2: Regional Abierto | Z2: Challenger | AB2: Regional Abierto | AD2: Nacional | AF2: Regional Abierto | AH2: Regional Abierto | AJ2: Regional Abierto | AL2: Grand Prix | AN2: Regional Abierto | AP2: Regional Abierto | AR2: Regional Abierto | AT2: Challenger | AV2: Abierto de la Rep. | AX2: Challenger
F3: CHAPADMALAL | H3: FETEMBA | J3: SANT. DEL ESTERO | L3: MENDOZA | N3: SALTA | P3: TIERRA DEL FUEGO | R3: FETEMBA | T3: JUJUY | V3: SANTA FE | X3: MENDOZA | Z3: SALTA | AB3: NEUQUÉN | AD3: SANTA FE | AF3: MENDOZA | AH3: FETEMBA | AJ3: SANTA CRUZ | AL3: MENDOZA | AN3: FETEMBA | AP3: MENDOZA | AR3: RIO NEGRO | AT3: ROSARIO | AV3: BUENOS AIRES | AX3: ROSARIO
F4: 2 A 4 MAR 2025 | H4: 29 Y 30 MAR 2025 | J4: 11 A 13 ABR 2025 | L4: 26 Y 27 ABR 2025 | N4: 26 Y 27 ABR 2025 | P4: 04 MAY 2025 | R4: 10 Y 11 MAY 2025 | T4: 24 Y 25 MAY 2025 | V4: 31 MAY Y 1 JUN 2025 | X4: 7 Y 8 JUN 2025 | Z4: 14 A 16 JUN 2025 | AB4: 21 Y 22 JUN 2025 | AD4: 9 A 13 JUL 2025 | AF4: 9 Y 10 AGO 2025 | AH4: 15 AGO 2025 | AJ4: 15 A 17 AGO 2025 | AL4: 5 A 7 SEP 2025 | AN4: 27 Y 28 SEP 2025 | AP4: 4 Y 5 OCT 2025 | AR4: 11 Y 12 OCT 2025 | AT4: 17 A 19 OCT 2025 | AV4: 21 A 24 NOV 2025 | AX4: 15 A 17 FEB 2026
A5: POS. | B5: ATLETA | C5: CAT. | D5: ASOC. | E5: TOTAL | F5: Pos. | G5: Ptos. | H5: Pos. | I5: Ptos. | J5: Pos. | K5: Ptos. | L5: Pos. | M5: Ptos. | N5: Pos. | O5: Ptos. | P5: Pos. | Q5: Ptos. | R5: Pos. | S5: Ptos. | T5: Pos. | U5: Ptos. | V5: Pos. | W5: Ptos. | X5: Pos. | Y5: Ptos. | Z5: Pos. | AA5: Ptos. | AB5: Pos. | AC5: Ptos. | AD5: Pos. | AE5: Ptos. | AF5: Pos. | AG5: Ptos. | AH5: Pos. | AI5: Ptos. | AJ5: Pos. | AK5: Ptos. | AL5: Pos. | AM5: Ptos. | AN5: Pos. | AO5: Ptos. | AP5: Pos. | AQ5: Ptos. | AR5: Pos. | AS5: Ptos. | AT5: Pos. | AU5: Ptos. | AV5: Pos. | AW5: Ptos. | AX5: Pos. | AY5: Ptos.
A7: 1 | B7: FRIAS PAZ, LUCIANA GABRIELA | C7: 2010 | D7: SEN | E7: =G7+I7+K7+M7+O7+Q7+S7+U7+W7+Y7+AA7+AC7+AE7+AG7+AI7+AK7+AM7+AO7+AQ7+AS7+AU7+AW7+AY7 -> 2000.54 | J7: 1 | K7: 0.22 | N7: 2 | O7: 0.09 | R7: 1 | S7: 110 | X7: 1 | Y7: 110 | Z7: 1 | AA7: 220 | AD7: 2 | AE7: 405 | AH7: 1 | AI7: 110 | AL7: 1 | AM7: 330 | AN7: 2 | AO7: 0.09 | AT7: 1 | AU7: 220 | AV7: 1 | AW7: 495 | AX7: SF | AY7: 0.14
A8: 2 | B8: SHAHMURADYAN, MARIAM | C8: 2008 | D8: FET | E8: =G8+I8+K8+M8+O8+Q8+S8+U8+W8+Y8+AA8+AC8+AE8+AG8+AI8+AK8+AM8+AO8+AQ8+AS8+AU8+AW8+AY8 -> 1215 | F8: 1 | G8: 220 | V8: 1 | W8: 110 | AD8: SF | AE8: 315 | AH8: 4F | AI8: 55 | AN8: 1 | AO8: 110 | AV8: 2 | AW8: 405
A9: 3 | B9: PEREZ ERASO, GIULIANA | C9: 2008 | D9: MZA | E9: =G9+I9+K9+M9+O9+Q9+S9+U9+W9+Y9+AA9+AC9+AE9+AG9+AI9+AK9+AM9+AO9+AQ9+AS9+AU9+AW9+AY9 -> 1120.235 | L9: 2 | M9: 0.09 | R9: 4F | S9: 0.055 | X9: 2 | Y9: 0.09 | Z9: 3Z | AA9: 110 | AD9: 8F | AE9: 205 | AF9: 1 | AG9: 110 | AH9: 2 | AI9: 90 | AL9: 3Z | AM9: 135 | AP9: 1 | AQ9: 110 | AV9: 4F | AW9: 250 | AX9: 4F | AY9: 110
A10: 4 | B10: JANDULA, AMBAR | C10: 2009 | D10: SAL | E10: =G10+I10+K10+M10+O10+Q10+S10+U10+W10+Y10+AA10+AC10+AE10+AG10+AI10+AK10+AM10+AO10+AQ10+AS10+AU10+AW10+AY10 -> 935.11 | J10: 2 | K10: 180 | N10: 1 | O10: 110 | Z10: 2 | AA10: 180 | AD10: 8F | AE10: 205 | AH10: 4F | AI10: 55 | AV10: 8F | AW10: 205 | AX10: 4F | AY10: 0.11
A11: 5 | B11: GUARDIA, MARIA VICTORIA | C11: 2011 | D11: SAL | E11: =G11+I11+K11+M11+O11+Q11+S11+U11+W11+Y11+AA11+AC11+AE11+AG11+AI11+AK11+AM11+AO11+AQ11+AS11+AU11+AW11+AY11 -> 905.14 | J11: 3 | K11: 0.14 | N11: 1B | O11: 55 | Z11: SF | AA11: 140 | AH11: SF | AI11: 70 | AL11: SF | AM11: 210 | AV11: 4F | AW11: 250 | AX11: 2 | AY11: 180
A12: 6 | B12: GIMENEZ, MALENA | C12: 2010 | D12: JUJ | E12: =G12+I12+K12+M12+O12+Q12+S12+U12+W12+Y12+AA12+AC12+AE12+AG12+AI12+AK12+AM12+AO12+AQ12+AS12+AU12+AW12+AY12 -> 880 | F12: Prom. | G12: 180 | N12: SF | O12: 70 | R12: 4F | S12: 55 | Z12: 3Z | AA12: 110 | AD12: 8F | AE12: 205 | AH12: 4F | AI12: 55 | AV12: 8F | AW12: 205
A13: 7 | B13: LOPEZ AUAT, MALENA | C13: 2009 | D13: SEN | E13: =G13+I13+K13+M13+O13+Q13+S13+U13+W13+Y13+AA13+AC13+AE13+AG13+AI13+AK13+AM13+AO13+AQ13+AS13+AU13+AW13+AY13 -> 875.09 | J13: 4 | K13: 110 | N13: SF B | O13: 35 | Z13: 4Z | AA13: 110 | AD13: 8F | AE13: 205 | AL13: SF | AM13: 210 | AV13: 8F | AW13: 205 | AX13: 3Z | AY13: 0.09
A14: 8 | B14: AGUILAR IKEDA, JUSTINA MAYUMI | C14: 2008 | D14: FET | E14: =G14+I14+K14+M14+O14+Q14+S14+U14+W14+Y14+AA14+AC14+AE14+AG14+AI14+AK14+AM14+AO14+AQ14+AS14+AU14+AW14+AY14 -> 797.535 | H14: 1 | I14: 110 | R14: SF | S14: 70 | AD14: 8F | AE14: 205 | AH14: 1B | AI14: 0.035 | AL14: Prom. | AM14: 202.5 | AN14: SF | AO14: 70 | AT14: SF | AU14: 140
A15: 9 | B15: PALAMEDI, UMA | C15: 2010 | D15: SFE | E15: =G15+I15+K15+M15+O15+Q15+S15+U15+W15+Y15+AA15+AC15+AE15+AG15+AI15+AK15+AM15+AO15+AQ15+AS15+AU15+AW15+AY15 -> 790.09 | F15: 3 | G15: 140 | R15: 2B | S15: 35 | V15: 3 | W15: 70 | AD15: 8F | AE15: 205 | AH15: 2B | AI15: 25 | AT15: 3Z | AU15: 110 | AV15: 8F | AW15: 205 | AX15: 3Z | AY15: 0.09
A16: 10 | B16: PEREZ MAZZARELLO, JULIA | C16: 2009 | D16: FET | E16: =G16+I16+K16+M16+O16+Q16+S16+U16+W16+Y16+AA16+AC16+AE16+AG16+AI16+AK16+AM16+AO16+AQ16+AS16+AU16+AW16+AY16 -> 730 | H16: 2B | I16: 45 | R16: SF B | S16: 25 | AD16: 3Z | AE16: 160 | AN16: 1B | AO16: 45 | AT16: SF | AU16: 140 | AV16: SF | AW16: 315
A17: 11 | B17: SALUSSO, ALEXIA | C17: 2011 | D17: FET | E17: =G17+I17+K17+M17+O17+Q17+S17+U17+W17+Y17+AA17+AC17+AE17+AG17+AI17+AK17+AM17+AO17+AQ17+AS17+AU17+AW17+AY17 -> 620 | AD17: 4F | AE17: 250 | AH17: 4F | AI17: 55 | AV17: SF | AW17: 315
A18: 12 | B18: IGLESIAS, VALENTINA | C18: 2011 | D18: MZA | E18: =G18+I18+K18+M18+O18+Q18+S18+U18+W18+Y18+AA18+AC18+AE18+AG18+AI18+AK18+AM18+AO18+AQ18+AS18+AU18+AW18+AY18 -> 615.08 | L18: SF | M18: 70 | R18: SF B | S18: 0.025 | X18: 4 | Y18: 0.055 | AF18: 3 | AG18: 70 | AL18: 4Z | AM18: 135 | AP18: 2 | AQ18: 90 | AV18: 16F | AW18: 160 | AX18: 3Z | AY18: 90
A19: 13 | B19: GITELMAN, LORENA | C19: 2009 | D19: FET | E19: =G19+I19+K19+M19+O19+Q19+S19+U19+W19+Y19+AA19+AC19+AE19+AG19+AI19+AK19+AM19+AO19+AQ19+AS19+AU19+AW19+AY19 -> 610 | H19: SF | I19: 70 | R19: SF | S19: 70 | AD19: 8F | AE19: 205 | AH19: 8F | AI19: 45 | AX19: 1 | AY19: 220
A20: 14 | B20: TAKAHASHI, BRISA | C20: 2008 | D20: FET | E20: =G20+I20+K20+M20+O20+Q20+S20+U20+W20+Y20+AA20+AC20+AE20+AG20+AI20+AK20+AM20+AO20+AQ20+AS20+AU20+AW20+AY20 -> 600.045 | F20: 2 | G20: 180 | H20: 2 | I20: 90 | R20: 1B | S20: 0.045 | AD20: 8F | AE20: 205 | AH20: SF | AI20: 70 | AN20: 4F | AO20: 55
A21: 15 | B21: VALERIO, GEMMA | C21: 2011 | D21: SAL | E21: =G21+I21+K21+M21+O21+Q21+S21+U21+W21+Y21+AA21+AC21+AE21+AG21+AI21+AK21+AM21+AO21+AQ21+AS21+AU21+AW21+AY21 -> 590.09 | J21: 5 | K21: 0.09 | N21: 2B | O21: 45 | Z21: SF | AA21: 140 | AH21: 8F | AI21: 45 | AV21: 4F | AW21: 250 | AX21: 4F | AY21: 110
A22: 16 | B22: MAEHAMA, TRINIDAD | C22: 2012 | D22: FET | E22: =G22+I22+K22+M22+O22+Q22+S22+U22+W22+Y22+AA22+AC22+AE22+AG22+AI22+AK22+AM22+AO22+AQ22+AS22+AU22+AW22+AY22 -> 565 | AN22: SF | AO22: 70 | AT22: 2 | AU22: 180 | AV22: 8F | AW22: 205 | AX22: 4F | AY22: 110
A23: 17 | B23: CIAMBELLA, GIULIANA | C23: 2008 | D23: MZA | E23: =G23+I23+K23+M23+O23+Q23+S23+U23+W23+Y23+AA23+AC23+AE23+AG23+AI23+AK23+AM23+AO23+AQ23+AS23+AU23+AW23+AY23 -> 555 | L23: SF | M23: 70 | X23: 3 | Y23: 70 | AD23: 3Z | AE23: 160 | AF23: 2 | AG23: 90 | AL23: 4F | AM23: 165
A24: 18 | B24: CASTELLANO, SOPHIA LIZ | C24: 2011 | D24: FET | E24: =G24+I24+K24+M24+O24+Q24+S24+U24+W24+Y24+AA24+AC24+AE24+AG24+AI24+AK24+AM24+AO24+AQ24+AS24+AU24+AW24+AY24 -> 485.02 | H24: 1B | I24: 55 | R24: 4F | S24: 55 | AD24: 3Z | AE24: 160 | AH24: SF B | AI24: 0.02 | AN24: 4F | AO24: 55 | AV24: 16F | AW24: 160
A25: 19 | B25: ALAMO, VALENTINA | C25: 2007 | D25: LIB | E25: =G25+I25+K25+M25+O25+Q25+S25+U25+W25+Y25+AA25+AC25+AE25+AG25+AI25+AK25+AM25+AO25+AQ25+AS25+AU25+AW25+AY25 -> 480 | P25: 1 | Q25: 110 | AL25: 4F | AM25: 165 | AV25: 8F | AW25: 205
A26: 20 | B26: IPPOLITI, PAULINA | C26: 2010 | D26: MZA | E26: =G26+I26+K26+M26+O26+Q26+S26+U26+W26+Y26+AA26+AC26+AE26+AG26+AI26+AK26+AM26+AO26+AQ26+AS26+AU26+AW26+AY26 -> 475 | X26: 5 | Y26: 45 | AF26: 5 | AG26: 45 | AP26: 3 | AQ26: 70 | AT26: 3Z | AU26: 110 | AV26: 3Z | AW26: 115 | AX26: 4Z | AY26: 90
A27: 21 | B27: PEREZ MAZZARELLO, MALENA | C27: 2011 | D27: FET | E27: =G27+I27+K27+M27+O27+Q27+S27+U27+W27+Y27+AA27+AC27+AE27+AG27+AI27+AK27+AM27+AO27+AQ27+AS27+AU27+AW27+AY27 -> 430.045 | H27: SF | I27: 70 | R27: 4F | S27: 55 | AD27: 4F | AE27: 250 | AH27: 8F | AI27: 0.045 | AN27: 4F | AO27: 55
A28: 22 | B28: PAREDES, LUANA | C28: 2008 | D28: LIB | E28: =G28+I28+K28+M28+O28+Q28+S28+U28+W28+Y28+AA28+AC28+AE28+AG28+AI28+AK28+AM28+AO28+AQ28+AS28+AU28+AW28+AY28 -> 430 | P28: 2 | Q28: 90 | AJ28: 2 | AK28: 90 | AL28: 3Z | AM28: 135 | AV28: 3Z | AW28: 115
A29: 23 | B29: SALPETER, LUANA | C29: 2012 | D29: FET | E29: =G29+I29+K29+M29+O29+Q29+S29+U29+W29+Y29+AA29+AC29+AE29+AG29+AI29+AK29+AM29+AO29+AQ29+AS29+AU29+AW29+AY29 -> 390 | AH29: SF B | AI29: 20 | AN29: 4F | AO29: 55 | AT29: 4Z | AU29: 110 | AV29: 8F | AW29: 205
A30: 24 | B30: VELAZQUEZ, IRUPE | C30: 2009 | D30: SFE | E30: =G30+I30+K30+M30+O30+Q30+S30+U30+W30+Y30+AA30+AC30+AE30+AG30+AI30+AK30+AM30+AO30+AQ30+AS30+AU30+AW30+AY30 -> 325 | V30: 4 | W30: 55 | AD30: 3Z | AE30: 160 | AT30: 4Z | AU30: 110
A31: 25 | B31: SARTOR, AGOSTINA | C31: 2008 | D31: FET | E31: =G31+I31+K31+M31+O31+Q31+S31+U31+W31+Y31+AA31+AC31+AE31+AG31+AI31+AK31+AM31+AO31+AQ31+AS31+AU31+AW31+AY31 -> 310 | AD31: 3Z | AE31: 160 | AN31: 2B | AO31: 35 | AV31: 3Z | AW31: 115
A32: 26 | B32: PEREZ MAZZARELLO, MALENA | C32: 2011 | D32: FET | E32: =G32+I32+K32+M32+O32+Q32+S32+U32+W32+Y32+AA32+AC32+AE32+AG32+AI32+AK32+AM32+AO32+AQ32+AS32+AU32+AW32+AY32 -> 295 | AH32: 8F | AI32: 45 | AV32: 4F | AW32: 250
A33: 27 | B33: GUIA MONZON, IXCHEL | C33: 2012 | D33: SFE | E33: =G33+I33+K33+M33+O33+Q33+S33+U33+W33+Y33+AA33+AC33+AE33+AG33+AI33+AK33+AM33+AO33+AQ33+AS33+AU33+AW33+AY33 -> 230 | V33: 2 | W33: 90 | AX33: SF | AY33: 140
A34: 28 | B34: VELASQUEZ, ARIANA | C34: 2009 | D34: TDF | E34: =G34+I34+K34+M34+O34+Q34+S34+U34+W34+Y34+AA34+AC34+AE34+AG34+AI34+AK34+AM34+AO34+AQ34+AS34+AU34+AW34+AY34 -> 140 | P34: SF | Q34: 70 | AJ34: SF | AK34: 70
A35: 29 | B35: CARDENAS AGUILAR, DIANA IGNACIA | C35: 2008 | D35: LIB | E35: =G35+I35+K35+M35+O35+Q35+S35+U35+W35+Y35+AA35+AC35+AE35+AG35+AI35+AK35+AM35+AO35+AQ35+AS35+AU35+AW35+AY35 -> 115 | AV35: 3Z | AW35: 115
A36: 30 | B36: SOTO, MICAELA AGOSTINA | C36: 2009 | D36: LIB | E36: =G36+I36+K36+M36+O36+Q36+S36+U36+W36+Y36+AA36+AC36+AE36+AG36+AI36+AK36+AM36+AO36+AQ36+AS36+AU36+AW36+AY36 -> 115 | AV36: 3Z | AW36: 115
A37: 31 | B37: BENITEZ TOME, MARTINA | C37: 2010 | D37: COR | E37: =G37+I37+K37+M37+O37+Q37+S37+U37+W37+Y37+AA37+AC37+AE37+AG37+AI37+AK37+AM37+AO37+AQ37+AS37+AU37+AW37+AY37 -> 115 | AV37: 3Z | AW37: 115
A38: 32 | B38: FRAGAPANE, FRANCESCA | C38: 2011 | D38: FBA | E38: =G38+I38+K38+M38+O38+Q38+S38+U38+W38+Y38+AA38+AC38+AE38+AG38+AI38+AK38+AM38+AO38+AQ38+AS38+AU38+AW38+AY38 -> 115 | AV38: 3Z | AW38: 115
A39: 33 | B39: GOMEZ, MARIA LUJAN | C39: 2009 | D39: FBA | E39: =G39+I39+K39+M39+O39+Q39+S39+U39+W39+Y39+AA39+AC39+AE39+AG39+AI39+AK39+AM39+AO39+AQ39+AS39+AU39+AW39+AY39 -> 110 | F39: 4 | G39: 110
A40: 34 | B40: GONZALEZ, EVELYN | C40: 2009 | D40: TDF | E40: =G40+I40+K40+M40+O40+Q40+S40+U40+W40+Y40+AA40+AC40+AE40+AG40+AI40+AK40+AM40+AO40+AQ40+AS40+AU40+AW40+AY40 -> 110 | P40: 3Z | Q40: 55 | AJ40: 3Z | AK40: 55
A41: 35 | B41: CACERES, ISABELLA | C41: 2012 | D41: RNG | E41: =G41+I41+K41+M41+O41+Q41+S41+U41+W41+Y41+AA41+AC41+AE41+AG41+AI41+AK41+AM41+AO41+AQ41+AS41+AU41+AW41+AY41 -> 110 | AR41: 1 | AS41: 110
A42: 36 | B42: ACHAVAL FORRAY, ANNA ZOE | C42: 2012 | D42: SEN | E42: =G42+I42+K42+M42+O42+Q42+S42+U42+W42+Y42+AA42+AC42+AE42+AG42+AI42+AK42+AM42+AO42+AQ42+AS42+AU42+AW42+AY42 -> 90 | AX42: 3Z | AY42: 90
A43: 37 | B43: LORENZO, ORIANA | C43: 2008 | D43: LPA | E43: =G43+I43+K43+M43+O43+Q43+S43+U43+W43+Y43+AA43+AC43+AE43+AG43+AI43+AK43+AM43+AO43+AQ43+AS43+AU43+AW43+AY43 -> 90 | AR43: 2 | AS43: 90
A44: 38 | B44: MUÑOZ CONSTANZO, VALENTINA SOLEDAD | C44: 2007 | D44: SCZ | E44: =G44+I44+K44+M44+O44+Q44+S44+U44+W44+Y44+AA44+AC44+AE44+AG44+AI44+AK44+AM44+AO44+AQ44+AS44+AU44+AW44+AY44 -> 70 | P44: SF | Q44: 70
A45: 39 | B45: FIGUEROA, CHABELI | C45: 2009 | D45: LPA | E45: =G45+I45+K45+M45+O45+Q45+S45+U45+W45+Y45+AA45+AC45+AE45+AG45+AI45+AK45+AM45+AO45+AQ45+AS45+AU45+AW45+AY45 -> 70 | AR45: 3 | AS45: 70
A46: 40 | B46: NIETO, FLORENCIA | C46: 2009 | D46: CHI | E46: =G46+I46+K46+M46+O46+Q46+S46+U46+W46+Y46+AA46+AC46+AE46+AG46+AI46+AK46+AM46+AO46+AQ46+AS46+AU46+AW46+AY46 -> 70 | AJ46: SF | AK46: 70
A47: 41 | B47: TOSCANO, DAIANA ANTONELLA | C47: 2013 | D47: SAL | E47: =G47+I47+K47+M47+O47+Q47+S47+U47+W47+Y47+AA47+AC47+AE47+AG47+AI47+AK47+AM47+AO47+AQ47+AS47+AU47+AW47+AY47 -> 70 | N47: SF | O47: 70
A48: 42 | B48: GATICA, LUCIA | C48: 2007 | D48: SCZ | E48: =G48+I48+K48+M48+O48+Q48+S48+U48+W48+Y48+AA48+AC48+AE48+AG48+AI48+AK48+AM48+AO48+AQ48+AS48+AU48+AW48+AY48 -> 55 | P48: 3Z | Q48: 55
A49: 43 | B49: TEJERINA, JAZMIN | C49: 2009 | D49: JUJ | E49: =G49+I49+K49+M49+O49+Q49+S49+U49+W49+Y49+AA49+AC49+AE49+AG49+AI49+AK49+AM49+AO49+AQ49+AS49+AU49+AW49+AY49 -> 35 | N49: SF B | O49: 35
A50: 44 | B50: TAN, VICTORIA | C50: 2011 | D50: FET | E50: =G50+I50+K50+M50+O50+Q50+S50+U50+W50+Y50+AA50+AC50+AE50+AG50+AI50+AK50+AM50+AO50+AQ50+AS50+AU50+AW50+AY50 -> 35 | H50: SF B | I50: 35
A51: 45 | B51: SOTO, MARTINA | C51: 2007 | D51: FET | E51: =G51+I51+K51+M51+O51+Q51+S51+U51+W51+Y51+AA51+AC51+AE51+AG51+AI51+AK51+AM51+AO51+AQ51+AS51+AU51+AW51+AY51 -> 25 | AN51: SF B | AO51: 25
A52: 46 | B52: BENITEZ OROZ, VICTORIA | C52: 2008 | D52: FET | E52: =G52+I52+K52+M52+O52+Q52+S52+U52+W52+Y52+AA52+AC52+AE52+AG52+AI52+AK52+AM52+AO52+AQ52+AS52+AU52+AW52+AY52 -> 25 | AN52: SF B | AO52: 25

Sheet ID U23
B1: INDIVIDUAL DAMAS U23 | F1: RANKING NACIONAL | TEMPORADA 2026
F2: Challenger | H2: Regional Abierto | J2: Challenger | L2: Regional Abierto | N2: Regional Abierto | P2: Regional Abierto | R2: Regional Abierto | T2: Regional Abierto | V2: Regional Abierto | X2: Regional Abierto | Z2: Challenger | AB2: Regional Abierto | AD2: Nacional | AF2: Regional Abierto | AH2: Regional Abierto | AJ2: Regional Abierto | AL2: Grand Prix | AN2: Regional Abierto | AP2: Regional Abierto | AR2: Regional Abierto | AT2: Challenger | AV2: Abierto de la Rep. | AX2: Challenger
F3: CHAPADMALAL | H3: FETEMBA | J3: SANT. DEL ESTERO | L3: MENDOZA | N3: SALTA | P3: TIERRA DEL FUEGO | R3: FETEMBA | T3: JUJUY | V3: SANTA FE | X3: MENDOZA | Z3: SALTA | AB3: NEUQUÉN | AD3: SANTA FE | AF3: MENDOZA | AH3: FETEMBA | AJ3: SANTA CRUZ | AL3: MENDOZA | AN3: FETEMBA | AP3: MENDOZA | AR3: RIO NEGRO | AT3: ROSARIO | AV3: BUENOS AIRES | AX3: ROSARIO
F4: 2 A 4 MAR 2025 | H4: 29 Y 30 MAR 2025 | J4: 11 A 13 ABR 2025 | L4: 26 Y 27 ABR 2025 | N4: 26 Y 27 ABR 2025 | P4: 04 MAY 2025 | R4: 10 Y 11 MAY 2025 | T4: 24 Y 25 MAY 2025 | V4: 31 MAY Y 1 JUN 2025 | X4: 7 Y 8 JUN 2025 | Z4: 14 A 16 JUN 2025 | AB4: 21 Y 22 JUN 2025 | AD4: 9 A 13 JUL 2025 | AF4: 9 Y 10 AGO 2025 | AH4: 15 AGO 2025 | AJ4: 15 A 17 AGO 2025 | AL4: 5 A 7 SEP 2025 | AN4: 27 Y 28 SEP 2025 | AP4: 4 Y 5 OCT 2025 | AR4: 11 Y 12 OCT 2025 | AT4: 17 A 19 OCT 2025 | AV4: 21 A 24 NOV 2025 | AX4: 15 A 17 FEB 2026
A5: POS. | B5: ATLETA | C5: CAT. | D5: ASOC. | E5: TOTAL | F5: Pos. | G5: Ptos. | H5: Pos. | I5: Ptos. | J5: Pos. | K5: Ptos. | L5: Pos. | M5: Ptos. | N5: Pos. | O5: Ptos. | P5: Pos. | Q5: Ptos. | R5: Pos. | S5: Ptos. | T5: Pos. | U5: Ptos. | V5: Pos. | W5: Ptos. | X5: Pos. | Y5: Ptos. | Z5: Pos. | AA5: Ptos. | AB5: Pos. | AC5: Ptos. | AD5: Pos. | AE5: Ptos. | AF5: Pos. | AG5: Ptos. | AH5: Pos. | AI5: Ptos. | AJ5: Pos. | AK5: Ptos. | AL5: Pos. | AM5: Ptos. | AN5: Pos. | AO5: Ptos. | AP5: Pos. | AQ5: Ptos. | AR5: Pos. | AS5: Ptos. | AT5: Pos. | AU5: Ptos. | AV5: Pos. | AW5: Ptos. | AX5: Pos. | AY5: Ptos.
A7: 1 | B7: PEREZ, CAMILA | C7: 2005 | D7: FBA | E7: =G7+I7+K7+M7+O7+Q7+S7+U7+W7+Y7+AA7+AC7+AE7+AG7+AI7+AK7+AM7+AO7+AQ7+AS7+AU7+AW7+AY7 -> 1337.5 | F7: 1 | G7: 220 | AD7: 2 | AE7: 405 | AL7: Prom. | AM7: 217.5 | AV7: 1 | AW7: 495
A8: 2 | B8: ALAMO, VALENTINA | C8: 2007 | D8: LIB | E8: =G8+I8+K8+M8+O8+Q8+S8+U8+W8+Y8+AA8+AC8+AE8+AG8+AI8+AK8+AM8+AO8+AQ8+AS8+AU8+AW8+AY8 -> 755 | P8: 1 | Q8: 110 | AL8: 1 | AM8: 330 | AV8: SF | AW8: 315
A9: 3 | B9: IWASA, ABRIL | C9: 2006 | D9: FET | E9: =G9+I9+K9+M9+O9+Q9+S9+U9+W9+Y9+AA9+AC9+AE9+AG9+AI9+AK9+AM9+AO9+AQ9+AS9+AU9+AW9+AY9 -> 635 | AL9: 3 | AM9: 210 | AN9: 1 | AO9: 110 | AV9: SF | AW9: 315
A10: 4 | B10: PEREYRA, MANUELA | C10: 2006 | D10: RNG | E10: =G10+I10+K10+M10+O10+Q10+S10+U10+W10+Y10+AA10+AC10+AE10+AG10+AI10+AK10+AM10+AO10+AQ10+AS10+AU10+AW10+AY10 -> 515 | AR10: 1 | AS10: 110 | AV10: 2 | AW10: 405
A11: 5 | B11: OKUYAMA, ABRIL | C11: 2005 | D11: FET | E11: =G11+I11+K11+M11+O11+Q11+S11+U11+W11+Y11+AA11+AC11+AE11+AG11+AI11+AK11+AM11+AO11+AQ11+AS11+AU11+AW11+AY11 -> 495 | AD11: 1 | AE11: 495
A12: 6 | B12: LIFSCHITZ, YAEL | C12: 2006 | D12: FET | E12: =G12+I12+K12+M12+O12+Q12+S12+U12+W12+Y12+AA12+AC12+AE12+AG12+AI12+AK12+AM12+AO12+AQ12+AS12+AU12+AW12+AY12 -> 365 | R12: SF B | S12: 35 | AH12: 2B | AI12: 45 | AN12: SF B | AO12: 35 | AV12: 3Z | AW12: 250
A13: 7 | B13: CHACON, DANIELA | C13: 2004 | D13: FET | E13: =G13+I13+K13+M13+O13+Q13+S13+U13+W13+Y13+AA13+AC13+AE13+AG13+AI13+AK13+AM13+AO13+AQ13+AS13+AU13+AW13+AY13 -> 340 | H13: 2 | I13: 90 | AD13: 4 | AE13: 250
A14: 8 | B14: SICILIANO, KIARA | C14: 2005 | D14: FET | E14: =G14+I14+K14+M14+O14+Q14+S14+U14+W14+Y14+AA14+AC14+AE14+AG14+AI14+AK14+AM14+AO14+AQ14+AS14+AU14+AW14+AY14 -> 295 | H14: 5 | I14: 45 | R14: 2B | S14: 45 | AD14: 5 | AE14: 205
A15: 9 | B15: TAKAHASHI, BRISA | C15: 2008 | D15: FET | E15: =G15+I15+K15+M15+O15+Q15+S15+U15+W15+Y15+AA15+AC15+AE15+AG15+AI15+AK15+AM15+AO15+AQ15+AS15+AU15+AW15+AY15 -> 290.07 | H15: 1 | I15: 110 | R15: SF | S15: 0.07 | AH15: 2 | AI15: 90 | AN15: 2 | AO15: 90
A16: 10 | B16: SHAHMURADYAN, MARIAM | C16: 2008 | D16: FET | E16: =G16+I16+K16+M16+O16+Q16+S16+U16+W16+Y16+AA16+AC16+AE16+AG16+AI16+AK16+AM16+AO16+AQ16+AS16+AU16+AW16+AY16 -> 290 | F16: 2 | G16: 180 | AH16: 1 | AI16: 110
A17: 11 | B17: MARIÑO, NAOMI | C17: 2006 | D17: FET | E17: =G17+I17+K17+M17+O17+Q17+S17+U17+W17+Y17+AA17+AC17+AE17+AG17+AI17+AK17+AM17+AO17+AQ17+AS17+AU17+AW17+AY17 -> 270 | AL17: 2 | AM17: 270
A18: 12 | B18: MARCIAL, ALMA | C18: 2006 | D18: FET | E18: =G18+I18+K18+M18+O18+Q18+S18+U18+W18+Y18+AA18+AC18+AE18+AG18+AI18+AK18+AM18+AO18+AQ18+AS18+AU18+AW18+AY18 -> 220 | Z18: 1 | AA18: 220
A19: 13 | B19: AGUILAR IKEDA, JUSTINA MAYUMI | C19: 2008 | D19: FET | E19: =G19+I19+K19+M19+O19+Q19+S19+U19+W19+Y19+AA19+AC19+AE19+AG19+AI19+AK19+AM19+AO19+AQ19+AS19+AU19+AW19+AY19 -> 218.75 | H19: 3 | I19: 70 | R19: 1B | S19: 55 | AL19: Prom. | AM19: 93.75
A20: 14 | B20: VALERIO, GEMMA | C20: 2011 | D20: SAL | E20: =G20+I20+K20+M20+O20+Q20+S20+U20+W20+Y20+AA20+AC20+AE20+AG20+AI20+AK20+AM20+AO20+AQ20+AS20+AU20+AW20+AY20 -> 180 | Z20: 2 | AA20: 180
A21: 15 | B21: SATO, MIA HIROMMI | C21: 2014 | D21: FET | E21: =G21+I21+K21+M21+O21+Q21+S21+U21+W21+Y21+AA21+AC21+AE21+AG21+AI21+AK21+AM21+AO21+AQ21+AS21+AU21+AW21+AY21 -> 165 | AL21: 4 | AM21: 165
A22: 16 | B22: GUIA MONZON, IXCHEL | C22: 2012 | D22: SFE | E22: =G22+I22+K22+M22+O22+Q22+S22+U22+W22+Y22+AA22+AC22+AE22+AG22+AI22+AK22+AM22+AO22+AQ22+AS22+AU22+AW22+AY22 -> 160 | R22: 2 | S22: 90 | AN22: SF | AO22: 70
A23: 17 | B23: GOMEZ, MARIA LUJAN | C23: 2009 | D23: FBA | E23: =G23+I23+K23+M23+O23+Q23+S23+U23+W23+Y23+AA23+AC23+AE23+AG23+AI23+AK23+AM23+AO23+AQ23+AS23+AU23+AW23+AY23 -> 140 | F23: 3 | G23: 140
A24: 17 | B24: GUARDIA, MARIA VICTORIA | C24: 2011 | D24: SAL | E24: =G24+I24+K24+M24+O24+Q24+S24+U24+W24+Y24+AA24+AC24+AE24+AG24+AI24+AK24+AM24+AO24+AQ24+AS24+AU24+AW24+AY24 -> 140 | Z24: SF | AA24: 140
A25: 17 | B25: MAEHAMA, TRINIDAD | C25: 2012 | D25: FET | E25: =G25+I25+K25+M25+O25+Q25+S25+U25+W25+Y25+AA25+AC25+AE25+AG25+AI25+AK25+AM25+AO25+AQ25+AS25+AU25+AW25+AY25 -> 140 | Z25: SF | AA25: 140
A26: 20 | B26: SOTO, MARTINA | C26: 2007 | D26: FET | E26: =G26+I26+K26+M26+O26+Q26+S26+U26+W26+Y26+AA26+AC26+AE26+AG26+AI26+AK26+AM26+AO26+AQ26+AS26+AU26+AW26+AY26 -> 125 | R26: SF | S26: 70 | AN26: 1B | AO26: 55
A27: 21 | B27: GITELMAN, LORENA | C27: 2009 | D27: FET | E27: =G27+I27+K27+M27+O27+Q27+S27+U27+W27+Y27+AA27+AC27+AE27+AG27+AI27+AK27+AM27+AO27+AQ27+AS27+AU27+AW27+AY27 -> 110 | R27: 1 | S27: 110
A28: 22 | B28: KRAISMAN, MARIA FERNANDA | C28: 2004 | D28: SAL | E28: =G28+I28+K28+M28+O28+Q28+S28+U28+W28+Y28+AA28+AC28+AE28+AG28+AI28+AK28+AM28+AO28+AQ28+AS28+AU28+AW28+AY28 -> 110 | Z28: 3Z | AA28: 110
A29: 22 | B29: LOPEZ AUAT, MALENA | C29: 2009 | D29: SEN | E29: =G29+I29+K29+M29+O29+Q29+S29+U29+W29+Y29+AA29+AC29+AE29+AG29+AI29+AK29+AM29+AO29+AQ29+AS29+AU29+AW29+AY29 -> 110 | Z29: 3Z | AA29: 110
A30: 24 | B30: BENITEZ OROZ, VICTORIA | C30: 2008 | D30: FET | E30: =G30+I30+K30+M30+O30+Q30+S30+U30+W30+Y30+AA30+AC30+AE30+AG30+AI30+AK30+AM30+AO30+AQ30+AS30+AU30+AW30+AY30 -> 90 | AH30: 1B | AI30: 55 | AN30: SF B | AO30: 35
A31: 25 | B31: CACERES, ISABELLA | C31: 2012 | D31: RNG | E31: =G31+I31+K31+M31+O31+Q31+S31+U31+W31+Y31+AA31+AC31+AE31+AG31+AI31+AK31+AM31+AO31+AQ31+AS31+AU31+AW31+AY31 -> 90 | AR31: 2 | AS31: 90
A32: 26 | B32: JARA, PRISCILA | C32: 2006 | D32: RNG | E32: =G32+I32+K32+M32+O32+Q32+S32+U32+W32+Y32+AA32+AC32+AE32+AG32+AI32+AK32+AM32+AO32+AQ32+AS32+AU32+AW32+AY32 -> 70 | AR32: SF | AS32: 70
A33: 27 | B33: MUÑOZ CONSTANZO, VALENTINA SOLEDAD | C33: 2007 | D33: SCZ | E33: =G33+I33+K33+M33+O33+Q33+S33+U33+W33+Y33+AA33+AC33+AE33+AG33+AI33+AK33+AM33+AO33+AQ33+AS33+AU33+AW33+AY33 -> 70 | P33: 3 | Q33: 70
A34: 28 | B34: JANDULA, AMBAR | C34: 2009 | D34: SAL | E34: =G34+I34+K34+M34+O34+Q34+S34+U34+W34+Y34+AA34+AC34+AE34+AG34+AI34+AK34+AM34+AO34+AQ34+AS34+AU34+AW34+AY34 -> 70 | AH34: SF | AI34: 70
A35: 29 | B35: FRIAS PAZ, LUCIANA GABRIELA | C35: 2010 | D35: SEN | E35: =G35+I35+K35+M35+O35+Q35+S35+U35+W35+Y35+AA35+AC35+AE35+AG35+AI35+AK35+AM35+AO35+AQ35+AS35+AU35+AW35+AY35 -> 70 | AN35: SF | AO35: 70
A36: 30 | B36: GIMENEZ, MALENA | C36: 2010 | D36: JUJ | E36: =G36+I36+K36+M36+O36+Q36+S36+U36+W36+Y36+AA36+AC36+AE36+AG36+AI36+AK36+AM36+AO36+AQ36+AS36+AU36+AW36+AY36 -> 70 | AH36: SF | AI36: 70
A37: 31 | B37: MENDEZ, MAITENA NEREA | C37: 2005 | D37: FET | E37: =G37+I37+K37+M37+O37+Q37+S37+U37+W37+Y37+AA37+AC37+AE37+AG37+AI37+AK37+AM37+AO37+AQ37+AS37+AU37+AW37+AY37 -> 55 | H37: 4 | I37: 55
A38: 32 | B38: GATICA, LUCIA | C38: 2007 | D38: SCZ | E38: =G38+I38+K38+M38+O38+Q38+S38+U38+W38+Y38+AA38+AC38+AE38+AG38+AI38+AK38+AM38+AO38+AQ38+AS38+AU38+AW38+AY38 -> 55 | P38: 4 | Q38: 55
A39: 33 | B39: LORENZO, ORIANA | C39: 2008 | D39: LPA | E39: =G39+I39+K39+M39+O39+Q39+S39+U39+W39+Y39+AA39+AC39+AE39+AG39+AI39+AK39+AM39+AO39+AQ39+AS39+AU39+AW39+AY39 -> 55 | AR39: 3Z | AS39: 55
A40: 34 | B40: FIGUEROA, CHABELI | C40: 2009 | D40: LPA | E40: =G40+I40+K40+M40+O40+Q40+S40+U40+W40+Y40+AA40+AC40+AE40+AG40+AI40+AK40+AM40+AO40+AQ40+AS40+AU40+AW40+AY40 -> 55 | AR40: 3Z | AS40: 55
A41: 35 | B41: PEREZ MAZZARELLO, JULIA | C41: 2009 | D41: FET | E41: =G41+I41+K41+M41+O41+Q41+S41+U41+W41+Y41+AA41+AC41+AE41+AG41+AI41+AK41+AM41+AO41+AQ41+AS41+AU41+AW41+AY41 -> 45 | AN41: 2B | AO41: 45

Sheet ID TC
B1: INDIVIDUAL DAMAS TODA COMPETIDORA | E1: RANKING NACIONAL | TEMPORADA 2026
E2: Challenger | G2: Regional Abierto | I2: Challenger | K2: Regional Abierto | M2: Regional Abierto | O2: Regional Abierto | Q2: Regional Abierto | S2: Regional Abierto | U2: Regional Abierto | W2: Regional Abierto | Y2: Challenger | AA2: Regional Abierto | AC2: Nacional | AE2: Regional Abierto | AG2: Regional Abierto | AI2: Regional Abierto | AK2: Grand Prix | AM2: Regional Abierto | AO2: Regional Abierto | AQ2: Regional Abierto | AS2: Challenger | AU2: Abierto de la Rep. | AW2: Challenger
E3: CHAPADMALAL | G3: FETEMBA | I3: SANT. DEL ESTERO | K3: MENDOZA | M3: SALTA | O3: TIERRA DEL FUEGO | Q3: FETEMBA | S3: JUJUY | U3: SANTA FE | W3: MENDOZA | Y3: SALTA | AA3: NEUQUÉN | AC3: SANTA FE | AE3: MENDOZA | AG3: FETEMBA | AI3: SANTA CRUZ | AK3: MENDOZA | AM3: FETEMBA | AO3: MENDOZA | AQ3: RIO NEGRO | AS3: ROSARIO | AU3: BUENOS AIRES | AW3: ROSARIO
E4: 2 A 4 MAR 2025 | G4: 29 Y 30 MAR 2025 | I4: 11 A 13 ABR 2025 | K4: 26 Y 27 ABR 2025 | M4: 26 Y 27 ABR 2025 | O4: 04 MAY 2025 | Q4: 10 Y 11 MAY 2025 | S4: 24 Y 25 MAY 2025 | U4: 31 MAY Y 1 JUN 2025 | W4: 7 Y 8 JUN 2025 | Y4: 14 A 16 JUN 2025 | AA4: 21 Y 22 JUN 2025 | AC4: 9 A 13 JUL 2025 | AE4: 9 Y 10 AGO 2025 | AG4: 15 AGO 2025 | AI4: 15 A 17 AGO 2025 | AK4: 5 A 7 SEP 2025 | AM4: 27 Y 28 SEP 2025 | AO4: 4 Y 5 OCT 2025 | AQ4: 11 Y 12 OCT 2025 | AS4: 17 A 19 OCT 2025 | AU4: 21 A 24 NOV 2025 | AW4: 15 A 17 FEB 2026
A5: POS. | B5: ATLETA | C5: ASOC. | D5: TOTAL | E5: Pos. | F5: Ptos. | G5: Pos. | H5: Ptos. | I5: Pos. | J5: Ptos. | K5: Pos. | L5: Ptos. | M5: Pos. | N5: Ptos. | O5: Pos. | P5: Ptos. | Q5: Pos. | R5: Ptos. | S5: Pos. | T5: Ptos. | U5: Pos. | V5: Ptos. | W5: Pos. | X5: Ptos. | Y5: Pos. | Z5: Ptos. | AA5: Pos. | AB5: Ptos. | AC5: Pos. | AD5: Ptos. | AE5: Pos. | AF5: Ptos. | AG5: Pos. | AH5: Ptos. | AI5: Pos. | AJ5: Ptos. | AK5: Pos. | AL5: Ptos. | AM5: Pos. | AN5: Ptos. | AO5: Pos. | AP5: Ptos. | AQ5: Pos. | AR5: Ptos. | AS5: Pos. | AT5: Ptos. | AU5: Pos. | AV5: Ptos. | AW5: Pos. | AX5: Ptos.
A7: 1 | B7: FRIAS PAZ, LUCIANA GABRIELA | C7: SEN | D7: =F7+H7+J7+L7+N7+P7+R7+T7+V7+X7+Z7+AB7+AD7+AF7+AH7+AJ7+AL7+AN7+AP7+AR7+AT7+AV7+AX7 -> 1320.32 | I7: 2 | J7: 0.18 | M7: SF | N7: 70 | Q7: SF | R7: 70 | W7: 1 | X7: 110 | Y7: SF | Z7: 0.14 | AC7: 4F | AD7: 250 | AK7: SF | AL7: 210 | AS7: 2 | AT7: 180 | AU7: 4F | AV7: 250 | AW7: 2 | AX7: 180
A8: 2 | B8: ZAPATERO HEIT, ANA | C8: JUJ | D8: =F8+H8+J8+L8+N8+P8+R8+T8+V8+X8+Z8+AB8+AD8+AF8+AH8+AJ8+AL8+AN8+AP8+AR8+AT8+AV8+AX8 -> 1305 | I8: 1 | J8: 220 | M8: 1 | N8: 110 | S8: 1 | T8: 110 | Y8: 1 | Z8: 220 | AC8: SF | AD8: 315 | AK8: Prom. | AL8: 330
A9: 3 | B9: MARCIAL, ALMA | C9: FET | D9: =F9+H9+J9+L9+N9+P9+R9+T9+V9+X9+Z9+AB9+AD9+AF9+AH9+AJ9+AL9+AN9+AP9+AR9+AT9+AV9+AX9 -> 1160 | Q9: SF | R9: 70 | Y9: SF | Z9: 140 | AC9: 2 | AD9: 405 | AU9: 2 | AV9: 405 | AW9: SF | AX9: 140
A10: 4 | B10: ZAPATERO HEIT, DANIELA | C10: JUJ | D10: =F10+H10+J10+L10+N10+P10+R10+T10+V10+X10+Z10+AB10+AD10+AF10+AH10+AJ10+AL10+AN10+AP10+AR10+AT10+AV10+AX10 -> 1035 | I10: SF | J10: 140 | M10: 2 | N10: 90 | S10: 2 | T10: 90 | Y10: 2 | Z10: 180 | AC10: 4F | AD10: 250 | AK10: Prom. | AL10: 285
A11: 5 | B11: MOLERO, CANDELA | C11: FET | D11: =F11+H11+J11+L11+N11+P11+R11+T11+V11+X11+Z11+AB11+AD11+AF11+AH11+AJ11+AL11+AN11+AP11+AR11+AT11+AV11+AX11 -> 990 | AC11: 1 | AD11: 495 | AU11: 1 | AV11: 495
A12: 6 | B12: PEREZ, CAMILA | C12: FBA | D12: =F12+H12+J12+L12+N12+P12+R12+T12+V12+X12+Z12+AB12+AD12+AF12+AH12+AJ12+AL12+AN12+AP12+AR12+AT12+AV12+AX12 -> 988.75 | E12: 2 | F12: 180 | AC12: 4F | AD12: 250 | AK12: Prom. | AL12: 243.75 | AU12: SF | AV12: 315
A13: 7 | B13: PEREYRA, MANUELA | C13: RNG | D13: =F13+H13+J13+L13+N13+P13+R13+T13+V13+X13+Z13+AB13+AD13+AF13+AH13+AJ13+AL13+AN13+AP13+AR13+AT13+AV13+AX13 -> 938.75 | K13: 1 | L13: 110 | AA13: 1 | AB13: 110 | AC13: 3ZT | AD13: 205 | AK13: Prom. | AL13: 198.75 | AQ13: 1 | AR13: 110 | AU13: 8F | AV13: 205
A14: 8 | B14: SHAHMURADYAN, MARIAM | C14: FET | D14: =F14+H14+J14+L14+N14+P14+R14+T14+V14+X14+Z14+AB14+AD14+AF14+AH14+AJ14+AL14+AN14+AP14+AR14+AT14+AV14+AX14 -> 830 | E14: 1 | F14: 220 | U14: 2 | V14: 90 | AC14: 3ZT | AD14: 205 | AU14: SF | AV14: 315
A15: 9 | B15: PEREZ ERASO, GIULIANA | C15: MZA | D15: =F15+H15+J15+L15+N15+P15+R15+T15+V15+X15+Z15+AB15+AD15+AF15+AH15+AJ15+AL15+AN15+AP15+AR15+AT15+AV15+AX15 -> 765 | K15: 2 | L15: 90 | Q15: 1B | R15: 45 | W15: 2 | X15: 90 | Y15: 1B | Z15: 90 | AC15: 3ZT | AD15: 205 | AK15: 1B | AL15: 105 | AW15: SF | AX15: 140
A16: 10 | B16: IWASA, ABRIL | C16: FET | D16: =F16+H16+J16+L16+N16+P16+R16+T16+V16+X16+Z16+AB16+AD16+AF16+AH16+AJ16+AL16+AN16+AP16+AR16+AT16+AV16+AX16 -> 615 | E16: 1B | F16: 110 | AC16: SF B | AD16: 90 | AK16: 4F | AL16: 165 | AU16: 4F | AV16: 250
A17: 11 | B17: VALERIO, GEMMA | C17: SAL | D17: =F17+H17+J17+L17+N17+P17+R17+T17+V17+X17+Z17+AB17+AD17+AF17+AH17+AJ17+AL17+AN17+AP17+AR17+AT17+AV17+AX17 -> 550 | I17: 1B | J17: 110 | M17: 4F | N17: 55 | S17: SF | T17: 70 | Y17: 4F | Z17: 110 | AU17: 8F | AV17: 205
A18: 12 | B18: GIMENEZ, MALENA | C18: JUJ | D18: =F18+H18+J18+L18+N18+P18+R18+T18+V18+X18+Z18+AB18+AD18+AF18+AH18+AJ18+AL18+AN18+AP18+AR18+AT18+AV18+AX18 -> 530 | E18: Prom. | F18: 140 | M18: 4F | N18: 55 | Q18: 2B | R18: 35 | Y18: SF B | Z18: 50 | AU18: 4F | AV18: 250
A19: 13 | B19: MARIÑO, NAOMI | C19: FET | D19: =F19+H19+J19+L19+N19+P19+R19+T19+V19+X19+Z19+AB19+AD19+AF19+AH19+AJ19+AL19+AN19+AP19+AR19+AT19+AV19+AX19 -> 520 | AK19: 2 | AL19: 270 | AU19: 4F | AV19: 250
A20: 14 | B20: LOPEZ AUAT, MALENA | C20: SEN | D20: =F20+H20+J20+L20+N20+P20+R20+T20+V20+X20+Z20+AB20+AD20+AF20+AH20+AJ20+AL20+AN20+AP20+AR20+AT20+AV20+AX20 -> 490.05 | I20: SF B | J20: 70 | M20: 4F | N20: 55 | S20: SF | T20: 70 | Y20: SF B | Z20: 0.05 | AK20: 8F | AL20: 135 | AU20: SF B | AV20: 90 | AW20: 2B | AX20: 70
A21: 15 | B21: GITELMAN, LORENA | C21: FET | D21: =F21+H21+J21+L21+N21+P21+R21+T21+V21+X21+Z21+AB21+AD21+AF21+AH21+AJ21+AL21+AN21+AP21+AR21+AT21+AV21+AX21 -> 425 | AC21: 4ZT | AD21: 205 | AW21: 1 | AX21: 220
A22: 16 | B22: PAROLA, VALENTINA | C22: SFE | D22: =F22+H22+J22+L22+N22+P22+R22+T22+V22+X22+Z22+AB22+AD22+AF22+AH22+AJ22+AL22+AN22+AP22+AR22+AT22+AV22+AX22 -> 408.75 | AC22: SF | AD22: 315 | AK22: Prom. | AL22: 93.75
A23: 17 | B23: OKUYAMA, ABRIL | C23: FET | D23: =F23+H23+J23+L23+N23+P23+R23+T23+V23+X23+Z23+AB23+AD23+AF23+AH23+AJ23+AL23+AN23+AP23+AR23+AT23+AV23+AX23 -> 340 | Q23: 2 | R23: 90 | AC23: 4F | AD23: 250
A24: 18 | B24: SANCHI, CANDELA | C24: MZA | D24: =F24+H24+J24+L24+N24+P24+R24+T24+V24+X24+Z24+AB24+AD24+AF24+AH24+AJ24+AL24+AN24+AP24+AR24+AT24+AV24+AX24 -> 330 | AK24: 1 | AL24: 330
A25: 19 | B25: PALAMEDI, UMA | C25: SFE | D25: =F25+H25+J25+L25+N25+P25+R25+T25+V25+X25+Z25+AB25+AD25+AF25+AH25+AJ25+AL25+AN25+AP25+AR25+AT25+AV25+AX25 -> 325 | Q25: SF B | R25: 25 | U25: 3 | V25: 70 | AS25: 3 | AT25: 140 | AW25: 1B | AX25: 90
A26: 20 | B26: GUARDIA, MARIA VICTORIA | C26: SAL | D26: =F26+H26+J26+L26+N26+P26+R26+T26+V26+X26+Z26+AB26+AD26+AF26+AH26+AJ26+AL26+AN26+AP26+AR26+AT26+AV26+AX26 -> 325 | I26: 2B | J26: 90 | M26: SF | N26: 70 | Q26: 4F | R26: 55 | AW26: 4F | AX26: 110
A27: 21 | B27: AGUILAR IKEDA, JUSTINA MAYUMI | C27: FET | D27: =F27+H27+J27+L27+N27+P27+R27+T27+V27+X27+Z27+AB27+AD27+AF27+AH27+AJ27+AL27+AN27+AP27+AR27+AT27+AV27+AX27 -> 316.25 | Q27: 4F | R27: 55 | AK27: Prom. | AL27: 41.25 | AS27: 1 | AT27: 220
A28: 22 | B28: JANDULA, AMBAR | C28: SAL | D28: =F28+H28+J28+L28+N28+P28+R28+T28+V28+X28+Z28+AB28+AD28+AF28+AH28+AJ28+AL28+AN28+AP28+AR28+AT28+AV28+AX28 -> 305 | I28: SF | J28: 140 | M28: 4F | N28: 55 | Y28: 4F | Z28: 110
A29: 23 | B29: SALUSSO, TATIANA | C29: FET | D29: =F29+H29+J29+L29+N29+P29+R29+T29+V29+X29+Z29+AB29+AD29+AF29+AH29+AJ29+AL29+AN29+AP29+AR29+AT29+AV29+AX29 -> 275 | Q29: SF B | R29: 25 | AC29: SF B | AD29: 90 | AU29: 1B | AV29: 160
A30: 24 | B30: CIAMBELLA, GIULIANA | C30: MZA | D30: =F30+H30+J30+L30+N30+P30+R30+T30+V30+X30+Z30+AB30+AD30+AF30+AH30+AJ30+AL30+AN30+AP30+AR30+AT30+AV30+AX30 -> 265 | K30: 5 | L30: 45 | W30: 3Z | X30: 55 | AK30: 4F | AL30: 165
A31: 25 | B31: CHACON, DANIELA | C31: FET | D31: =F31+H31+J31+L31+N31+P31+R31+T31+V31+X31+Z31+AB31+AD31+AF31+AH31+AJ31+AL31+AN31+AP31+AR31+AT31+AV31+AX31 -> 215 | Q31: 4F | R31: 55 | AC31: 1B | AD31: 160
A32: 26 | B32: PAREDES, LUANA | C32: LIB | D32: =F32+H32+J32+L32+N32+P32+R32+T32+V32+X32+Z32+AB32+AD32+AF32+AH32+AJ32+AL32+AN32+AP32+AR32+AT32+AV32+AX32 -> 210 | AK32: SF | AL32: 210
A33: 27 | B33: POKORNY, SOLANGE | C33: FET | D33: =F33+H33+J33+L33+N33+P33+R33+T33+V33+X33+Z33+AB33+AD33+AF33+AH33+AJ33+AL33+AN33+AP33+AR33+AT33+AV33+AX33 -> 205 | AC33: 3ZT | AD33: 205
A34: 28 | B34: MAEHAMA, TRINIDAD | C34: FET | D34: =F34+H34+J34+L34+N34+P34+R34+T34+V34+X34+Z34+AB34+AD34+AF34+AH34+AJ34+AL34+AN34+AP34+AR34+AT34+AV34+AX34 -> 180 | Y34: 2B | Z34: 70 | AW34: 4F | AX34: 110
A35: 29 | B35: IGLESIAS, VALENTINA | C35: MZA | D35: =F35+H35+J35+L35+N35+P35+R35+T35+V35+X35+Z35+AB35+AD35+AF35+AH35+AJ35+AL35+AN35+AP35+AR35+AT35+AV35+AX35 -> 175 | K35: 4 | L35: 55 | W35: SF | X35: 70 | AW35: SF B | AX35: 50
A36: 30 | B36: LOPEZ, DIANA | C36: CHI | D36: =F36+H36+J36+L36+N36+P36+R36+T36+V36+X36+Z36+AB36+AD36+AF36+AH36+AJ36+AL36+AN36+AP36+AR36+AT36+AV36+AX36 -> 165 | AK36: 4F | AL36: 165
A37: 31 | B37: FRAGAPANE, FRANCESCA | C37: FBA | D37: =F37+H37+J37+L37+N37+P37+R37+T37+V37+X37+Z37+AB37+AD37+AF37+AH37+AJ37+AL37+AN37+AP37+AR37+AT37+AV37+AX37 -> 165 | AK37: 4F | AL37: 165
A38: 32 | B38: VELAZQUEZ, IRUPE | C38: SFE | D38: =F38+H38+J38+L38+N38+P38+R38+T38+V38+X38+Z38+AB38+AD38+AF38+AH38+AJ38+AL38+AN38+AP38+AR38+AT38+AV38+AX38 -> 155 | U38: 5 | V38: 45 | AS38: 4 | AT38: 110
A39: 33 | B39: OLIVAREZ, ISABELLA | C39: SFE | D39: =F39+H39+J39+L39+N39+P39+R39+T39+V39+X39+Z39+AB39+AD39+AF39+AH39+AJ39+AL39+AN39+AP39+AR39+AT39+AV39+AX39 -> 145 | U39: 4 | V39: 55 | AS39: 5 | AT39: 90
A40: 34 | B40: MUÑOZ, GISELLE | C40: FAT | D40: =F40+H40+J40+L40+N40+P40+R40+T40+V40+X40+Z40+AB40+AD40+AF40+AH40+AJ40+AL40+AN40+AP40+AR40+AT40+AV40+AX40 -> 140 | E40: SF | F40: 140
A41: 35 | B41: SALPETER, LUANA | C41: FET | D41: =F41+H41+J41+L41+N41+P41+R41+T41+V41+X41+Z41+AB41+AD41+AF41+AH41+AJ41+AL41+AN41+AP41+AR41+AT41+AV41+AX41 -> 140 | E41: SF | F41: 140
A42: 36 | B42: SOLARES, MARCELA | C42: MZA | D42: =F42+H42+J42+L42+N42+P42+R42+T42+V42+X42+Z42+AB42+AD42+AF42+AH42+AJ42+AL42+AN42+AP42+AR42+AT42+AV42+AX42 -> 140 | K42: 3 | L42: 70 | W42: SF | X42: 70
A43: 37 | B43: IPPOLITI, PAULINA | C43: MZA | D43: =F43+H43+J43+L43+N43+P43+R43+T43+V43+X43+Z43+AB43+AD43+AF43+AH43+AJ43+AL43+AN43+AP43+AR43+AT43+AV43+AX43 -> 135 | AK43: 8F | AL43: 135
A44: 38 | B44: GORRI, AMIRA | C44: NQN | D44: =F44+H44+J44+L44+N44+P44+R44+T44+V44+X44+Z44+AB44+AD44+AF44+AH44+AJ44+AL44+AN44+AP44+AR44+AT44+AV44+AX44 -> 122.5 | AA44: 3 | AB44: 70 | AK44: Prom. | AL44: 52.5
A45: 39 | B45: CHIRINO, FLORENCIA | C45: MZA | D45: =F45+H45+J45+L45+N45+P45+R45+T45+V45+X45+Z45+AB45+AD45+AF45+AH45+AJ45+AL45+AN45+AP45+AR45+AT45+AV45+AX45 -> 115 | AC45: 2B | AD45: 115
A46: 40 | B46: ROJAS, MAYA | C46: URU | D46: =F46+H46+J46+L46+N46+P46+R46+T46+V46+X46+Z46+AB46+AD46+AF46+AH46+AJ46+AL46+AN46+AP46+AR46+AT46+AV46+AX46 -> 115 | AU46: 2B | AV46: 115
A47: 41 | B47: FUKUHARA, PAULA | C47: FET | D47: =F47+H47+J47+L47+N47+P47+R47+T47+V47+X47+Z47+AB47+AD47+AF47+AH47+AJ47+AL47+AN47+AP47+AR47+AT47+AV47+AX47 -> 110 | Q47: 1 | R47: 110
A48: 42 | B48: BAHAMONDE, CONSUELO | C48: CHI | D48: =F48+H48+J48+L48+N48+P48+R48+T48+V48+X48+Z48+AB48+AD48+AF48+AH48+AJ48+AL48+AN48+AP48+AR48+AT48+AV48+AX48 -> 110 | AI48: 1 | AJ48: 110
A49: 43 | B49: GUIA MONZON, IXCHEL | C49: SFE | D49: =F49+H49+J49+L49+N49+P49+R49+T49+V49+X49+Z49+AB49+AD49+AF49+AH49+AJ49+AL49+AN49+AP49+AR49+AT49+AV49+AX49 -> 110 | U49: 1 | V49: 110
A50: 44 | B50: LIFSCHITZ, YAEL | C50: FET | D50: =F50+H50+J50+L50+N50+P50+R50+T50+V50+X50+Z50+AB50+AD50+AF50+AH50+AJ50+AL50+AN50+AP50+AR50+AT50+AV50+AX50 -> 90 | AU50: SF B | AV50: 90
A51: 45 | B51: EREBITIS, CLAUDIA | C51: CHI | D51: =F51+H51+J51+L51+N51+P51+R51+T51+V51+X51+Z51+AB51+AD51+AF51+AH51+AJ51+AL51+AN51+AP51+AR51+AT51+AV51+AX51 -> 90 | AI51: 2 | AJ51: 90
A52: 46 | B52: MAZA, VICTORIA | C52: NQN | D52: =F52+H52+J52+L52+N52+P52+R52+T52+V52+X52+Z52+AB52+AD52+AF52+AH52+AJ52+AL52+AN52+AP52+AR52+AT52+AV52+AX52 -> 90 | AA52: 2 | AB52: 90
A53: 47 | B53: TAKAHASHI, BRISA | C53: FET | D53: =F53+H53+J53+L53+N53+P53+R53+T53+V53+X53+Z53+AB53+AD53+AF53+AH53+AJ53+AL53+AN53+AP53+AR53+AT53+AV53+AX53 -> 90 | E53: 2B | F53: 90
A54: 48 | B54: CACERES, ISABELLA | C54: RNG | D54: =F54+H54+J54+L54+N54+P54+R54+T54+V54+X54+Z54+AB54+AD54+AF54+AH54+AJ54+AL54+AN54+AP54+AR54+AT54+AV54+AX54 -> 90 | AQ54: 2 | AR54: 90
A55: 49 | B55: CAUCOTA, FEDRA | C55: JUJ | D55: =F55+H55+J55+L55+N55+P55+R55+T55+V55+X55+Z55+AB55+AD55+AF55+AH55+AJ55+AL55+AN55+AP55+AR55+AT55+AV55+AX55 -> 80 | M55: 1B | N55: 35 | S55: 2B | T55: 45
A56: 50 | B56: ALAMO, VALENTINA | C56: LIB | D56: =F56+H56+J56+L56+N56+P56+R56+T56+V56+X56+Z56+AB56+AD56+AF56+AH56+AJ56+AL56+AN56+AP56+AR56+AT56+AV56+AX56 -> 75 | AK56: 2B | AL56: 75
A57: 51 | B57: BARRIO, JASIEL | C57: RNG | D57: =F57+H57+J57+L57+N57+P57+R57+T57+V57+X57+Z57+AB57+AD57+AF57+AH57+AJ57+AL57+AN57+AP57+AR57+AT57+AV57+AX57 -> 70 | AQ57: SF | AR57: 70
A58: 52 | B58: JARA, PRISCILA | C58: RNG | D58: =F58+H58+J58+L58+N58+P58+R58+T58+V58+X58+Z58+AB58+AD58+AF58+AH58+AJ58+AL58+AN58+AP58+AR58+AT58+AV58+AX58 -> 70 | AQ58: SF | AR58: 70
A59: 53 | B59: UZQUEDA, SORAYA | C59: JUJ | D59: =F59+H59+J59+L59+N59+P59+R59+T59+V59+X59+Z59+AB59+AD59+AF59+AH59+AJ59+AL59+AN59+AP59+AR59+AT59+AV59+AX59 -> 70 | AI59: 3 | AJ59: 70
A60: 54 | B60: RODRIGUEZ QUINTANA, MARIA VALENTINA | C60: SEN | D60: =F60+H60+J60+L60+N60+P60+R60+T60+V60+X60+Z60+AB60+AD60+AF60+AH60+AJ60+AL60+AN60+AP60+AR60+AT60+AV60+AX60 -> 70 | I60: SF B | J60: 70
A61: 55 | B61: GOMEZ, MARIA LUJAN | C61: FBA | D61: =F61+H61+J61+L61+N61+P61+R61+T61+V61+X61+Z61+AB61+AD61+AF61+AH61+AJ61+AL61+AN61+AP61+AR61+AT61+AV61+AX61 -> 70 | E61: SF B | F61: 70
A62: 56 | B62: BERRUET, LUCIA | C62: FBA | D62: =F62+H62+J62+L62+N62+P62+R62+T62+V62+X62+Z62+AB62+AD62+AF62+AH62+AJ62+AL62+AN62+AP62+AR62+AT62+AV62+AX62 -> 70 | E62: SF B | F62: 70
A63: 57 | B63: LORENZO, ISABELLA | C63: MZA | D63: =F63+H63+J63+L63+N63+P63+R63+T63+V63+X63+Z63+AB63+AD63+AF63+AH63+AJ63+AL63+AN63+AP63+AR63+AT63+AV63+AX63 -> 60 | AK63: SF B | AL63: 60
A64: 58 | B64: MUJICA, NATALI | C64: FET | D64: =F64+H64+J64+L64+N64+P64+R64+T64+V64+X64+Z64+AB64+AD64+AF64+AH64+AJ64+AL64+AN64+AP64+AR64+AT64+AV64+AX64 -> 55 | Q64: 4F | R64: 55
A65: 59 | B65: LORENZO, ORIANA | C65: LPA | D65: =F65+H65+J65+L65+N65+P65+R65+T65+V65+X65+Z65+AB65+AD65+AF65+AH65+AJ65+AL65+AN65+AP65+AR65+AT65+AV65+AX65 -> 55 | AQ65: 1B | AR65: 55
A66: 60 | B66: JELINCIC, PIA | C66: CHI | D66: =F66+H66+J66+L66+N66+P66+R66+T66+V66+X66+Z66+AB66+AD66+AF66+AH66+AJ66+AL66+AN66+AP66+AR66+AT66+AV66+AX66 -> 55 | AI66: 4 | AJ66: 55
A67: 61 | B67: VELIZ, ANDREA | C67: JUJ | D67: =F67+H67+J67+L67+N67+P67+R67+T67+V67+X67+Z67+AB67+AD67+AF67+AH67+AJ67+AL67+AN67+AP67+AR67+AT67+AV67+AX67 -> 55 | S67: 1B | T67: 55
A68: 62 | B68: KRAISMAN, MARIA FERNANDA | C68: SAL | D68: =F68+H68+J68+L68+N68+P68+R68+T68+V68+X68+Z68+AB68+AD68+AF68+AH68+AJ68+AL68+AN68+AP68+AR68+AT68+AV68+AX68 -> 55 | M68: SF B | N68: 20 | S68: SF B | T68: 35
A69: 63 | B69: CEVALLOS, DAIRA | C69: NQN | D69: =F69+H69+J69+L69+N69+P69+R69+T69+V69+X69+Z69+AB69+AD69+AF69+AH69+AJ69+AL69+AN69+AP69+AR69+AT69+AV69+AX69 -> 55 | AA69: 4 | AB69: 55
A70: 64 | B70: DE LA VEGA, CELESTE | C70: MZA | D70: =F70+H70+J70+L70+N70+P70+R70+T70+V70+X70+Z70+AB70+AD70+AF70+AH70+AJ70+AL70+AN70+AP70+AR70+AT70+AV70+AX70 -> 55 | W70: 3Z | X70: 55
A71: 65 | B71: SICILIANO, KIARA NIOLE | C71: FET | D71: =F71+H71+J71+L71+N71+P71+R71+T71+V71+X71+Z71+AB71+AD71+AF71+AH71+AJ71+AL71+AN71+AP71+AR71+AT71+AV71+AX71 -> 50 | AW71: SF B | AX71: 50
A72: 66 | B72: FIGUEROA, CHABELI | C72: LPA | D72: =F72+H72+J72+L72+N72+P72+R72+T72+V72+X72+Z72+AB72+AD72+AF72+AH72+AJ72+AL72+AN72+AP72+AR72+AT72+AV72+AX72 -> 45 | AQ72: 2B | AR72: 45
A73: 67 | B73: SANCHEZ, MELISA | C73: JUJ | D73: =F73+H73+J73+L73+N73+P73+R73+T73+V73+X73+Z73+AB73+AD73+AF73+AH73+AJ73+AL73+AN73+AP73+AR73+AT73+AV73+AX73 -> 45 | M73: 8F | N73: 45
A74: 68 | B74: CANDIA, JOSELIN | C74: NQN | D74: =F74+H74+J74+L74+N74+P74+R74+T74+V74+X74+Z74+AB74+AD74+AF74+AH74+AJ74+AL74+AN74+AP74+AR74+AT74+AV74+AX74 -> 45 | AA74: 5 | AB74: 45
A75: 69 | B75: ZAPATERO, CARINA | C75: JUJ | D75: =F75+H75+J75+L75+N75+P75+R75+T75+V75+X75+Z75+AB75+AD75+AF75+AH75+AJ75+AL75+AN75+AP75+AR75+AT75+AV75+AX75 -> 45 | M75: 8F | N75: 45
A76: 70 | B76: DORIGATTI, PATRICIA | C76: CAT | D76: =F76+H76+J76+L76+N76+P76+R76+T76+V76+X76+Z76+AB76+AD76+AF76+AH76+AJ76+AL76+AN76+AP76+AR76+AT76+AV76+AX76 -> 25 | M76: 2B | N76: 25
A77: 71 | B77: LOPEZ, ROCIO | C77: SAL | D77: =F77+H77+J77+L77+N77+P77+R77+T77+V77+X77+Z77+AB77+AD77+AF77+AH77+AJ77+AL77+AN77+AP77+AR77+AT77+AV77+AX77 -> 20 | M77: SF B | N77: 20

Sheet TOP 8
D4: TOP 8 NACIONAL | TEMPORADA 2026
D6: INDIVIDUAL DAMAS U9 | I6: INDIVIDUAL DAMAS U17 | N6: INDIVIDUAL CABALLEROS U9 | S6: INDIVIDUAL CABALLEROS U17
D7: 1 | E7: =IF(('ID U9'!B7)="","",'ID U9'!B7) -> SANHUEZA, ESPERANZA | F7: =IF(('ID U9'!D7)="","",'ID U9'!D7) -> MZA | G7: =IF(('ID U9'!E7)="","",'ID U9'!E7) -> 1145 | I7: 1 | J7: =IF(('ID U17'!B7)="","",'ID U17'!B7) -> PEREZ MAZZARELLO, JULIA | K7: =IF(('ID U17'!D7)="","",'ID U17'!D7) -> FET | L7: =IF(('ID U17'!E7)="","",'ID U17'!E7) -> 950 | N7: 1 | O7: =IF(('IC U9'!B7)="","",'IC U9'!B7) -> FERNANDEZ, ENZO | P7: =IF(('IC U9'!D7)="","",'IC U9'!D7) -> FET | Q7: =IF(('IC U9'!E7)="","",'IC U9'!E7) -> 1555.055 | S7: 1 | T7: =IF(('IC U17'!B7)="","",'IC U17'!B7) -> NAKAGAMA, ALAN JUN | U7: =IF(('IC U17'!D7)="","",'IC U17'!D7) -> FET | V7: =IF(('IC U17'!E7)="","",'IC U17'!E7) -> 1430.155
D8: 2 | E8: =IF(('ID U9'!B8)="","",'ID U9'!B8) -> PASTERI, DELFINA | F8: =IF(('ID U9'!D8)="","",'ID U9'!D8) -> SFE | G8: =IF(('ID U9'!E8)="","",'ID U9'!E8) -> 1075 | I8: 2 | J8: =IF(('ID U17'!B8)="","",'ID U17'!B8) -> PALAMEDI, UMA | K8: =IF(('ID U17'!D8)="","",'ID U17'!D8) -> SFE | L8: =IF(('ID U17'!E8)="","",'ID U17'!E8) -> 780 | N8: 2 | O8: =IF(('IC U9'!B8)="","",'IC U9'!B8) -> HEREDIA, MARCOS | P8: =IF(('IC U9'!D8)="","",'IC U9'!D8) -> FET | Q8: =IF(('IC U9'!E8)="","",'IC U9'!E8) -> 1540 | S8: 2 | T8: =IF(('IC U17'!B8)="","",'IC U17'!B8) -> NOTTURNO, NICOLAS | U8: =IF(('IC U17'!D8)="","",'IC U17'!D8) -> FET | V8: =IF(('IC U17'!E8)="","",'IC U17'!E8) -> 1185.155
D9: 3 | E9: =IF(('ID U9'!B9)="","",'ID U9'!B9) -> PALAMEDI, ALMA ANTONELLA | F9: =IF(('ID U9'!D9)="","",'ID U9'!D9) -> SFE | G9: =IF(('ID U9'!E9)="","",'ID U9'!E9) -> 1030 | I9: 3 | J9: =IF(('ID U17'!B9)="","",'ID U17'!B9) -> GUIA MONZON, IXCHEL | K9: =IF(('ID U17'!D9)="","",'ID U17'!D9) -> SFE | L9: =IF(('ID U17'!E9)="","",'ID U17'!E9) -> 495 | N9: 3 | O9: =IF(('IC U9'!B9)="","",'IC U9'!B9) -> RUBIN MINETTI, GALO | P9: =IF(('IC U9'!D9)="","",'IC U9'!D9) -> FET | Q9: =IF(('IC U9'!E9)="","",'IC U9'!E9) -> 1170.07 | S9: 3 | T9: =IF(('IC U17'!B9)="","",'IC U17'!B9) -> DOMINGUEZ, AGUSTIN | U9: =IF(('IC U17'!D9)="","",'IC U17'!D9) -> MZA | V9: =IF(('IC U17'!E9)="","",'IC U17'!E9) -> 1085
D10: 4 | E10: =IF(('ID U9'!B10)="","",'ID U9'!B10) -> PIRUZI, SIENNA | F10: =IF(('ID U9'!D10)="","",'ID U9'!D10) -> MZA | G10: =IF(('ID U9'!E10)="","",'ID U9'!E10) -> 795 | I10: 3 | J10: =IF(('ID U17'!B10)="","",'ID U17'!B10) -> LOPEZ AUAT, MALENA | K10: =IF(('ID U17'!D10)="","",'ID U17'!D10) -> SEN | L10: =IF(('ID U17'!E10)="","",'ID U17'!E10) -> 495 | N10: 4 | O10: =IF(('IC U9'!B10)="","",'IC U9'!B10) -> MULLER, ILAN | P10: =IF(('IC U9'!D10)="","",'IC U9'!D10) -> FET | Q10: =IF(('IC U9'!E10)="","",'IC U9'!E10) -> 825 | S10: 4 | T10: =IF(('IC U17'!B10)="","",'IC U17'!B10) -> LEHNER, FACUNDO | U10: =IF(('IC U17'!D10)="","",'IC U17'!D10) -> CBA | V10: =IF(('IC U17'!E10)="","",'IC U17'!E10) -> 1020
D11: 5 | E11: =IF(('ID U9'!B11)="","",'ID U9'!B11) -> ALTO, MARTINA | F11: =IF(('ID U9'!D11)="","",'ID U9'!D11) -> MZA | G11: =IF(('ID U9'!E11)="","",'ID U9'!E11) -> 435 | I11: 5 | J11: =IF(('ID U17'!B11)="","",'ID U17'!B11) -> VELASQUEZ, ARIANA | K11: =IF(('ID U17'!D11)="","",'ID U17'!D11) -> TDF | L11: =IF(('ID U17'!E11)="","",'ID U17'!E11) -> 430 | N11: 5 | O11: =IF(('IC U9'!B11)="","",'IC U9'!B11) -> TORRES, JOAQUIN | P11: =IF(('IC U9'!D11)="","",'IC U9'!D11) -> FET | Q11: =IF(('IC U9'!E11)="","",'IC U9'!E11) -> 645 | S11: 5 | T11: =IF(('IC U17'!B11)="","",'IC U17'!B11) -> AGÜERO, RENZO | U11: =IF(('IC U17'!D11)="","",'IC U17'!D11) -> MZA | V11: =IF(('IC U17'!E11)="","",'IC U17'!E11) -> 1005
D12: 6 | E12: =IF(('ID U9'!B12)="","",'ID U9'!B12) -> NOTARNICOLA, PAULINA | F12: =IF(('ID U9'!D12)="","",'ID U9'!D12) -> SFE | G12: =IF(('ID U9'!E12)="","",'ID U9'!E12) -> 345 | I12: 6 | J12: =IF(('ID U17'!B12)="","",'ID U17'!B12) -> BENITEZ TOME, MARTINA | K12: =IF(('ID U17'!D12)="","",'ID U17'!D12) -> COR | L12: =IF(('ID U17'!E12)="","",'ID U17'!E12) -> 410 | N12: 6 | O12: =IF(('IC U9'!B12)="","",'IC U9'!B12) -> MUT, GERMAN | P12: =IF(('IC U9'!D12)="","",'IC U9'!D12) -> MZA | Q12: =IF(('IC U9'!E12)="","",'IC U9'!E12) -> 370 | S12: 6 | T12: =IF(('IC U17'!B12)="","",'IC U17'!B12) -> AXON, JUAN CRUZ | U12: =IF(('IC U17'!D12)="","",'IC U17'!D12) -> CHA | V12: =IF(('IC U17'!E12)="","",'IC U17'!E12) -> 915
D13: 7 | E13: =IF(('ID U9'!B13)="","",'ID U9'!B13) -> ITALIANO, DONATELLA | F13: =IF(('ID U9'!D13)="","",'ID U9'!D13) -> MZA | G13: =IF(('ID U9'!E13)="","",'ID U9'!E13) -> 275 | I13: 7 | J13: =IF(('ID U17'!B13)="","",'ID U17'!B13) -> ROJAS, MAYA | K13: =IF(('ID U17'!D13)="","",'ID U17'!D13) -> URU | L13: =IF(('ID U17'!E13)="","",'ID U17'!E13) -> 405 | N13: 7 | O13: =IF(('IC U9'!B13)="","",'IC U9'!B13) -> SANTORO, GIOVANNI | P13: =IF(('IC U9'!D13)="","",'IC U9'!D13) -> SFE | Q13: =IF(('IC U9'!E13)="","",'IC U9'!E13) -> 230 | S13: 7 | T13: =IF(('IC U17'!B13)="","",'IC U17'!B13) -> USLENGHI, SANTIAGO | U13: =IF(('IC U17'!D13)="","",'IC U17'!D13) -> FET | V13: =IF(('IC U17'!E13)="","",'IC U17'!E13) -> 910
D14: 8 | E14: =IF(('ID U9'!B14)="","",'ID U9'!B14) -> RICART CIACCI, EMMA | F14: =IF(('ID U9'!D14)="","",'ID U9'!D14) -> CBA | G14: =IF(('ID U9'!E14)="","",'ID U9'!E14) -> 205 | I14: 8 | J14: =IF(('ID U17'!B14)="","",'ID U17'!B14) -> VELAZQUEZ, IRUPE | K14: =IF(('ID U17'!D14)="","",'ID U17'!D14) -> SFE | L14: =IF(('ID U17'!E14)="","",'ID U17'!E14) -> 360 | N14: 8 | O14: =IF(('IC U9'!B14)="","",'IC U9'!B14) -> CIRILLO, SIMON | P14: =IF(('IC U9'!D14)="","",'IC U9'!D14) -> SFE | Q14: =IF(('IC U9'!E14)="","",'IC U9'!E14) -> 220 | S14: 8 | T14: =IF(('IC U17'!B14)="","",'IC U17'!B14) -> SATO, LEONARDO EZEQUIEL | U14: =IF(('IC U17'!D14)="","",'IC U17'!D14) -> FET | V14: =IF(('IC U17'!E14)="","",'IC U17'!E14) -> 835
D16: INDIVIDUAL DAMAS U11 | I16: INDIVIDUAL DAMAS U19 | N16: INDIVIDUAL CABALLEROS U11 | S16: INDIVIDUAL CABALLEROS U19
D17: 1 | E17: =IF(('ID U11'!B7)="","",'ID U11'!B7) -> PIRUZI, ALBA ALLEGRA | F17: =IF(('ID U11'!D7)="","",'ID U11'!D7) -> MZA | G17: =IF(('ID U11'!E7)="","",'ID U11'!E7) -> 1245 | I17: 1 | J17: =IF(('ID U19'!B7)="","",'ID U19'!B7) -> FRIAS PAZ, LUCIANA GABRIELA | K17: =IF(('ID U19'!D7)="","",'ID U19'!D7) -> SEN | L17: =IF(('ID U19'!E7)="","",'ID U19'!E7) -> 2000.54 | N17: 1 | O17: =IF(('IC U11'!B7)="","",'IC U11'!B7) -> HEREDIA, MARCOS | P17: =IF(('IC U11'!D7)="","",'IC U11'!D7) -> FET | Q17: =IF(('IC U11'!E7)="","",'IC U11'!E7) -> 1335.58 | S17: 1 | T17: =IF(('IC U19'!B7)="","",'IC U19'!B7) -> NOTTURNO, NICOLAS | U17: =IF(('IC U19'!D7)="","",'IC U19'!D7) -> FET | V17: =IF(('IC U19'!E7)="","",'IC U19'!E7) -> 1440.39
D18: 2 | E18: =IF(('ID U11'!B8)="","",'ID U11'!B8) -> ALVARADO, ORIANA | F18: =IF(('ID U11'!D8)="","",'ID U11'!D8) -> SCZ | G18: =IF(('ID U11'!E8)="","",'ID U11'!E8) -> 1145 | I18: 2 | J18: =IF(('ID U19'!B8)="","",'ID U19'!B8) -> SHAHMURADYAN, MARIAM | K18: =IF(('ID U19'!D8)="","",'ID U19'!D8) -> FET | L18: =IF(('ID U19'!E8)="","",'ID U19'!E8) -> 1215 | N18: 2 | O18: =IF(('IC U11'!B8)="","",'IC U11'!B8) -> DOMINGUEZ, BENICIO | P18: =IF(('IC U11'!D8)="","",'IC U11'!D8) -> MZA | Q18: =IF(('IC U11'!E8)="","",'IC U11'!E8) -> 1255.09 | S18: 2 | T18: =IF(('IC U19'!B8)="","",'IC U19'!B8) -> LA VIA, GIULIANO ADRIEL | U18: =IF(('IC U19'!D8)="","",'IC U19'!D8) -> SLU | V18: =IF(('IC U19'!E8)="","",'IC U19'!E8) -> 1440
D19: 3 | E19: =IF(('ID U11'!B9)="","",'ID U11'!B9) -> BIBBO, AITANA | F19: =IF(('ID U11'!D9)="","",'ID U11'!D9) -> SFE | G19: =IF(('ID U11'!E9)="","",'ID U11'!E9) -> 1095 | I19: 3 | J19: =IF(('ID U19'!B9)="","",'ID U19'!B9) -> PEREZ ERASO, GIULIANA | K19: =IF(('ID U19'!D9)="","",'ID U19'!D9) -> MZA | L19: =IF(('ID U19'!E9)="","",'ID U19'!E9) -> 1120.235 | N19: 3 | O19: =IF(('IC U11'!B9)="","",'IC U11'!B9) -> ALTO, VALENTINO | P19: =IF(('IC U11'!D9)="","",'IC U11'!D9) -> MZA | Q19: =IF(('IC U11'!E9)="","",'IC U11'!E9) -> 1100 | S19: 3 | T19: =IF(('IC U19'!B9)="","",'IC U19'!B9) -> LEHNER, FACUNDO | U19: =IF(('IC U19'!D9)="","",'IC U19'!D9) -> CBA | V19: =IF(('IC U19'!E9)="","",'IC U19'!E9) -> 1070.175
D20: 4 | E20: =IF(('ID U11'!B10)="","",'ID U11'!B10) -> ROMERO, ANITA EMILIA | F20: =IF(('ID U11'!D10)="","",'ID U11'!D10) -> COR | G20: =IF(('ID U11'!E10)="","",'ID U11'!E10) -> 1035 | I20: 4 | J20: =IF(('ID U19'!B10)="","",'ID U19'!B10) -> JANDULA, AMBAR | K20: =IF(('ID U19'!D10)="","",'ID U19'!D10) -> SAL | L20: =IF(('ID U19'!E10)="","",'ID U19'!E10) -> 935.11 | N20: 4 | O20: =IF(('IC U11'!B10)="","",'IC U11'!B10) -> FERNANDEZ, ENZO | P20: =IF(('IC U11'!D10)="","",'IC U11'!D10) -> FET | Q20: =IF(('IC U11'!E10)="","",'IC U11'!E10) -> 1040.18 | S20: 4 | T20: =IF(('IC U19'!B10)="","",'IC U19'!B10) -> MOSTEIRIN CLEMENTE, CAMILO | U20: =IF(('IC U19'!D10)="","",'IC U19'!D10) -> FET | V20: =IF(('IC U19'!E10)="","",'IC U19'!E10) -> 1040
D21: 5 | E21: =IF(('ID U11'!B11)="","",'ID U11'!B11) -> HILARION, ZOE | F21: =IF(('ID U11'!D11)="","",'ID U11'!D11) -> SCZ | G21: =IF(('ID U11'!E11)="","",'ID U11'!E11) -> 860 | I21: 5 | J21: =IF(('ID U19'!B11)="","",'ID U19'!B11) -> GUARDIA, MARIA VICTORIA | K21: =IF(('ID U19'!D11)="","",'ID U19'!D11) -> SAL | L21: =IF(('ID U19'!E11)="","",'ID U19'!E11) -> 905.14 | N21: 5 | O21: =IF(('IC U11'!B11)="","",'IC U11'!B11) -> DRATEWKA, DROR | P21: =IF(('IC U11'!D11)="","",'IC U11'!D11) -> FET | Q21: =IF(('IC U11'!E11)="","",'IC U11'!E11) -> 995.11 | S21: 5 | T21: =IF(('IC U19'!B11)="","",'IC U19'!B11) -> ARCHUA, BENJAMIN | U21: =IF(('IC U19'!D11)="","",'IC U19'!D11) -> MZA | V21: =IF(('IC U19'!E11)="","",'IC U19'!E11) -> 1000
D22: 6 | E22: =IF(('ID U11'!B12)="","",'ID U11'!B12) -> PASTERI, DELFINA | F22: =IF(('ID U11'!D12)="","",'ID U11'!D12) -> SFE | G22: =IF(('ID U11'!E12)="","",'ID U11'!E12) -> 715 | I22: 6 | J22: =IF(('ID U19'!B12)="","",'ID U19'!B12) -> GIMENEZ, MALENA | K22: =IF(('ID U19'!D12)="","",'ID U19'!D12) -> JUJ | L22: =IF(('ID U19'!E12)="","",'ID U19'!E12) -> 880 | N22: 6 | O22: =IF(('IC U11'!B12)="","",'IC U11'!B12) -> NOTARNICOLA, FELIPE | P22: =IF(('IC U11'!D12)="","",'IC U11'!D12) -> SFE | Q22: =IF(('IC U11'!E12)="","",'IC U11'!E12) -> 935.26 | S22: 6 | T22: =IF(('IC U19'!B12)="","",'IC U19'!B12) -> ISURA, JOAQUIN | U22: =IF(('IC U19'!D12)="","",'IC U19'!D12) -> MZA | V22: =IF(('IC U19'!E12)="","",'IC U19'!E12) -> 980
D23: 7 | E23: =IF(('ID U11'!B13)="","",'ID U11'!B13) -> TUSCO, MACKENSI | F23: =IF(('ID U11'!D13)="","",'ID U11'!D13) -> SCZ | G23: =IF(('ID U11'!E13)="","",'ID U11'!E13) -> 600 | I23: 7 | J23: =IF(('ID U19'!B13)="","",'ID U19'!B13) -> LOPEZ AUAT, MALENA | K23: =IF(('ID U19'!D13)="","",'ID U19'!D13) -> SEN | L23: =IF(('ID U19'!E13)="","",'ID U19'!E13) -> 875.09 | N23: 7 | O23: =IF(('IC U11'!B13)="","",'IC U11'!B13) -> ROSSI VERA, FRANCO | P23: =IF(('IC U11'!D13)="","",'IC U11'!D13) -> FET | Q23: =IF(('IC U11'!E13)="","",'IC U11'!E13) -> 850.035 | S23: 7 | T23: =IF(('IC U19'!B13)="","",'IC U19'!B13) -> AGÜERO, RENZO | U23: =IF(('IC U19'!D13)="","",'IC U19'!D13) -> MZA | V23: =IF(('IC U19'!E13)="","",'IC U19'!E13) -> 955.09
D24: 8 | E24: =IF(('ID U11'!B14)="","",'ID U11'!B14) -> CASSARA, CAMILA | F24: =IF(('ID U11'!D14)="","",'ID U11'!D14) -> FET | G24: =IF(('ID U11'!E14)="","",'ID U11'!E14) -> 545 | I24: 8 | J24: =IF(('ID U19'!B14)="","",'ID U19'!B14) -> AGUILAR IKEDA, JUSTINA MAYUMI | K24: =IF(('ID U19'!D14)="","",'ID U19'!D14) -> FET | L24: =IF(('ID U19'!E14)="","",'ID U19'!E14) -> 797.535 | N24: 8 | O24: =IF(('IC U11'!B14)="","",'IC U11'!B14) -> RUBIN MINETTI, GALO | P24: =IF(('IC U11'!D14)="","",'IC U11'!D14) -> FET | Q24: =IF(('IC U11'!E14)="","",'IC U11'!E14) -> 835.09 | S24: 8 | T24: =IF(('IC U19'!B14)="","",'IC U19'!B14) -> NAKAGAMA, ALAN JUN | U24: =IF(('IC U19'!D14)="","",'IC U19'!D14) -> FET | V24: =IF(('IC U19'!E14)="","",'IC U19'!E14) -> 940.145
D26: INDIVIDUAL DAMAS U13 | I26: INDIVIDUAL DAMAS U23 | N26: INDIVIDUAL CABALLEROS U13 | S26: INDIVIDUAL CABALLEROS U23
D27: 1 | E27: =IF(('ID U13'!B7)="","",'ID U13'!B7) -> SATO, MIA HIROMMI | F27: =IF(('ID U13'!D7)="","",'ID U13'!D7) -> FET | G27: =IF(('ID U13'!E7)="","",'ID U13'!E7) -> 1585.1937 | I27: 1 | J27: =IF(('ID U23'!B7)="","",'ID U23'!B7) -> PEREZ, CAMILA | K27: =IF(('ID U23'!D7)="","",'ID U23'!D7) -> FBA | L27: =IF(('ID U23'!E7)="","",'ID U23'!E7) -> 1337.5 | N27: 1 | O27: =IF(('IC U13'!B7)="","",'IC U13'!B7) -> VILLEGAS, VALENTINO ARIEL | P27: =IF(('IC U13'!D7)="","",'IC U13'!D7) -> MZA | Q27: =IF(('IC U13'!E7)="","",'IC U13'!E7) -> 1445 | S27: 1 | T27: =IF(('IC U23'!B7)="","",'IC U23'!B7) -> SERRANO, VALENTIN | U27: =IF(('IC U23'!D7)="","",'IC U23'!D7) -> SEN | V27: =IF(('IC U23'!E7)="","",'IC U23'!E7) -> 1230
D28: 2 | E28: =IF(('ID U13'!B8)="","",'ID U13'!B8) -> CRUZ MUÑOZ, MARTINA | F28: =IF(('ID U13'!D8)="","",'ID U13'!D8) -> FET | G28: =IF(('ID U13'!E8)="","",'ID U13'!E8) -> 1205.07 | I28: 2 | J28: =IF(('ID U23'!B8)="","",'ID U23'!B8) -> ALAMO, VALENTINA | K28: =IF(('ID U23'!D8)="","",'ID U23'!D8) -> LIB | L28: =IF(('ID U23'!E8)="","",'ID U23'!E8) -> 755 | N28: 2 | O28: =IF(('IC U13'!B8)="","",'IC U13'!B8) -> RUBIN MINETTI, DANTE | P28: =IF(('IC U13'!D8)="","",'IC U13'!D8) -> FET | Q28: =IF(('IC U13'!E8)="","",'IC U13'!E8) -> 1430.14 | S28: 2 | T28: =IF(('IC U23'!B8)="","",'IC U23'!B8) -> BERNARDOU, TOMAS | U28: =IF(('IC U23'!D8)="","",'IC U23'!D8) -> FET | V28: =IF(('IC U23'!E8)="","",'IC U23'!E8) -> 1140.07
D29: 3 | E29: =IF(('ID U13'!B9)="","",'ID U13'!B9) -> SIALLE, CONSTANTINA | F29: =IF(('ID U13'!D9)="","",'ID U13'!D9) -> SEN | G29: =IF(('ID U13'!E9)="","",'ID U13'!E9) -> 1160.14 | I29: 3 | J29: =IF(('ID U23'!B9)="","",'ID U23'!B9) -> IWASA, ABRIL | K29: =IF(('ID U23'!D9)="","",'ID U23'!D9) -> FET | L29: =IF(('ID U23'!E9)="","",'ID U23'!E9) -> 635 | N29: 3 | O29: =IF(('IC U13'!B9)="","",'IC U13'!B9) -> MARCIAL, LUCA | P29: =IF(('IC U13'!D9)="","",'IC U13'!D9) -> SFE | Q29: =IF(('IC U13'!E9)="","",'IC U13'!E9) -> 1297.82 | S29: 3 | T29: =IF(('IC U23'!B9)="","",'IC U23'!B9) -> ALVAREZ, FELIPE | U29: =IF(('IC U23'!D9)="","",'IC U23'!D9) -> CHA | V29: =IF(('IC U23'!E9)="","",'IC U23'!E9) -> 805.09
D30: 4 | E30: =IF(('ID U13'!B10)="","",'ID U13'!B10) -> TOSCANO, DAIANA ANTONELLA | F30: =IF(('ID U13'!D10)="","",'ID U13'!D10) -> SAL | G30: =IF(('ID U13'!E10)="","",'ID U13'!E10) -> 1140 | I30: 4 | J30: =IF(('ID U23'!B10)="","",'ID U23'!B10) -> PEREYRA, MANUELA | K30: =IF(('ID U23'!D10)="","",'ID U23'!D10) -> RNG | L30: =IF(('ID U23'!E10)="","",'ID U23'!E10) -> 515 | N30: 4 | O30: =IF(('IC U13'!B10)="","",'IC U13'!B10) -> PIRUZI, GIANNI | P30: =IF(('IC U13'!D10)="","",'IC U13'!D10) -> MZA | Q30: =IF(('IC U13'!E10)="","",'IC U13'!E10) -> 1095.2 | S30: 4 | T30: =IF(('IC U23'!B10)="","",'IC U23'!B10) -> POLLINI, EMILIANO | U30: =IF(('IC U23'!D10)="","",'IC U23'!D10) -> FET | V30: =IF(('IC U23'!E10)="","",'IC U23'!E10) -> 780.09
D31: 5 | E31: =IF(('ID U13'!B11)="","",'ID U13'!B11) -> VERA ARROYO, MIA LUANNA | F31: =IF(('ID U13'!D11)="","",'ID U13'!D11) -> MZA | G31: =IF(('ID U13'!E11)="","",'ID U13'!E11) -> 1045 | I31: 5 | J31: =IF(('ID U23'!B11)="","",'ID U23'!B11) -> OKUYAMA, ABRIL | K31: =IF(('ID U23'!D11)="","",'ID U23'!D11) -> FET | L31: =IF(('ID U23'!E11)="","",'ID U23'!E11) -> 495 | N31: 5 | O31: =IF(('IC U13'!B11)="","",'IC U13'!B11) -> VARELA, FEDERICO | P31: =IF(('IC U13'!D11)="","",'IC U13'!D11) -> SAL | Q31: =IF(('IC U13'!E11)="","",'IC U13'!E11) -> 1075.11 | S31: 5 | T31: =IF(('IC U23'!B11)="","",'IC U23'!B11) -> SPINELLI, FRANCO | U31: =IF(('IC U23'!D11)="","",'IC U23'!D11) -> FET | V31: =IF(('IC U23'!E11)="","",'IC U23'!E11) -> 705
D32: 6 | E32: =IF(('ID U13'!B12)="","",'ID U13'!B12) -> OLIVAREZ, ISABELLA | F32: =IF(('ID U13'!D12)="","",'ID U13'!D12) -> SFE | G32: =IF(('ID U13'!E12)="","",'ID U13'!E12) -> 1045 | I32: 6 | J32: =IF(('ID U23'!B12)="","",'ID U23'!B12) -> LIFSCHITZ, YAEL | K32: =IF(('ID U23'!D12)="","",'ID U23'!D12) -> FET | L32: =IF(('ID U23'!E12)="","",'ID U23'!E12) -> 365 | N32: 6 | O32: =IF(('IC U13'!B12)="","",'IC U13'!B12) -> ALTO, JULIAN | P32: =IF(('IC U13'!D12)="","",'IC U13'!D12) -> MZA | Q32: =IF(('IC U13'!E12)="","",'IC U13'!E12) -> 1055.07 | S32: 6 | T32: =IF(('IC U23'!B12)="","",'IC U23'!B12) -> GUEVARA FIGUEROA, BALTAZAR | U32: =IF(('IC U23'!D12)="","",'IC U23'!D12) -> FET | V32: =IF(('IC U23'!E12)="","",'IC U23'!E12) -> 705
D33: 7 | E33: =IF(('ID U13'!B13)="","",'ID U13'!B13) -> PIRUZI, ALBA ALLEGRA | F33: =IF(('ID U13'!D13)="","",'ID U13'!D13) -> MZA | G33: =IF(('ID U13'!E13)="","",'ID U13'!E13) -> 900.09 | I33: 7 | J33: =IF(('ID U23'!B13)="","",'ID U23'!B13) -> CHACON, DANIELA | K33: =IF(('ID U23'!D13)="","",'ID U23'!D13) -> FET | L33: =IF(('ID U23'!E13)="","",'ID U23'!E13) -> 340 | N33: 7 | O33: =IF(('IC U13'!B13)="","",'IC U13'!B13) -> MULLER, LUCA | P33: =IF(('IC U13'!D13)="","",'IC U13'!D13) -> FET | Q33: =IF(('IC U13'!E13)="","",'IC U13'!E13) -> 975.19 | S33: 7 | T33: =IF(('IC U23'!B13)="","",'IC U23'!B13) -> CARRIZO JOZAMI, BENJAMIN | U33: =IF(('IC U23'!D13)="","",'IC U23'!D13) -> SEN | V33: =IF(('IC U23'!E13)="","",'IC U23'!E13) -> 685
D34: 8 | E34: =IF(('ID U13'!B14)="","",'ID U13'!B14) -> GALLARDO BERESIARTE, PILAR | F34: =IF(('ID U13'!D14)="","",'ID U13'!D14) -> SAL | G34: =IF(('ID U13'!E14)="","",'ID U13'!E14) -> 820 | I34: 8 | J34: =IF(('ID U23'!B14)="","",'ID U23'!B14) -> SICILIANO, KIARA | K34: =IF(('ID U23'!D14)="","",'ID U23'!D14) -> FET | L34: =IF(('ID U23'!E14)="","",'ID U23'!E14) -> 295 | N34: 8 | O34: =IF(('IC U13'!B14)="","",'IC U13'!B14) -> LINARES, JERONIMO | P34: =IF(('IC U13'!D14)="","",'IC U13'!D14) -> SFE | Q34: =IF(('IC U13'!E14)="","",'IC U13'!E14) -> 895.1 | S34: 8 | T34: =IF(('IC U23'!B14)="","",'IC U23'!B14) -> RODRIGUEZ SCHOELLER, SANTIAGO | U34: =IF(('IC U23'!D14)="","",'IC U23'!D14) -> FET | V34: =IF(('IC U23'!E14)="","",'IC U23'!E14) -> 660
D36: INDIVIDUAL DAMAS U15 | I36: INDIVIDUAL DAMAS TODA COMPETIDORA | N36: INDIVIDUAL CABALLEROS U15 | S36: INDIVIDUAL CABALLEROS TODO COMPETIDOR
D37: 1 | E37: =IF(('ID U15'!B7)="","",'ID U15'!B7) -> SALUSSO, ALEXIA | F37: =IF(('ID U15'!D7)="","",'ID U15'!D7) -> FET | G37: =IF(('ID U15'!E7)="","",'ID U15'!E7) -> 1265 | I37: 1 | J37: =IF(('ID TC'!B7)="","",'ID TC'!B7) -> FRIAS PAZ, LUCIANA GABRIELA | K37: =IF(('ID TC'!C7)="","",'ID TC'!C7) -> SEN | L37: =IF(('ID TC'!D7)="","",'ID TC'!D7) -> 1320.32 | N37: 1 | O37: =IF(('IC U15'!B7)="","",'IC U15'!B7) -> DI GIROLAMO, BRUNO | P37: =IF(('IC U15'!D7)="","",'IC U15'!D7) -> FET | Q37: =IF(('IC U15'!E7)="","",'IC U15'!E7) -> 1556.43 | S37: 1 | T37: =IF(('IC TC'!B7)="","",'IC TC'!B7) -> LA VIA, GIULIANO ADRIEL | U37: =IF(('IC TC'!C7)="","",'IC TC'!C7) -> SLU | V37: =IF(('IC TC'!D7)="","",'IC TC'!D7) -> 855
D38: 2 | E38: =IF(('ID U15'!B8)="","",'ID U15'!B8) -> VALERIO, GEMMA | F38: =IF(('ID U15'!D8)="","",'ID U15'!D8) -> SAL | G38: =IF(('ID U15'!E8)="","",'ID U15'!E8) -> 1265.14 | I38: 2 | J38: =IF(('ID TC'!B8)="","",'ID TC'!B8) -> ZAPATERO HEIT, ANA | K38: =IF(('ID TC'!C8)="","",'ID TC'!C8) -> JUJ | L38: =IF(('ID TC'!D8)="","",'ID TC'!D8) -> 1305 | N38: 2 | O38: =IF(('IC U15'!B8)="","",'IC U15'!B8) -> AXON, JUAN CRUZ | P38: =IF(('IC U15'!D8)="","",'IC U15'!D8) -> CHA | Q38: =IF(('IC U15'!E8)="","",'IC U15'!E8) -> 1270.14 | S38: 2 | T38: =IF(('IC TC'!B8)="","",'IC TC'!B8) -> NOTTURNO, NICOLAS | U38: =IF(('IC TC'!C8)="","",'IC TC'!C8) -> FET | V38: =IF(('IC TC'!D8)="","",'IC TC'!D8) -> 820.28
D39: 3 | E39: =IF(('ID U15'!B9)="","",'ID U15'!B9) -> GUARDIA, MARIA VICTORIA | F39: =IF(('ID U15'!D9)="","",'ID U15'!D9) -> SAL | G39: =IF(('ID U15'!E9)="","",'ID U15'!E9) -> 1235.14 | I39: 3 | J39: =IF(('ID TC'!B9)="","",'ID TC'!B9) -> MARCIAL, ALMA | K39: =IF(('ID TC'!C9)="","",'ID TC'!C9) -> FET | L39: =IF(('ID TC'!D9)="","",'ID TC'!D9) -> 1160 | N39: 3 | O39: =IF(('IC U15'!B9)="","",'IC U15'!B9) -> MARCIAL, LUCA | P39: =IF(('IC U15'!D9)="","",'IC U15'!D9) -> SFE | Q39: =IF(('IC U15'!E9)="","",'IC U15'!E9) -> 1226.44 | S39: 3 | T39: =IF(('IC TC'!B9)="","",'IC TC'!B9) -> AGUAYSOL, LAUTARO | U39: =IF(('IC TC'!C9)="","",'IC TC'!C9) -> JUJ | V39: =IF(('IC TC'!D9)="","",'IC TC'!D9) -> 770
D40: 4 | E40: =IF(('ID U15'!B10)="","",'ID U15'!B10) -> GUIA MONZON, IXCHEL | F40: =IF(('ID U15'!D10)="","",'ID U15'!D10) -> SFE | G40: =IF(('ID U15'!E10)="","",'ID U15'!E10) -> 1151.25 | I40: 4 | J40: =IF(('ID TC'!B10)="","",'ID TC'!B10) -> ZAPATERO HEIT, DANIELA | K40: =IF(('ID TC'!C10)="","",'ID TC'!C10) -> JUJ | L40: =IF(('ID TC'!D10)="","",'ID TC'!D10) -> 1035 | N40: 4 | O40: =IF(('IC U15'!B10)="","",'IC U15'!B10) -> VILLEGAS, VALENTINO ARIEL | P40: =IF(('IC U15'!D10)="","",'IC U15'!D10) -> MZA | Q40: =IF(('IC U15'!E10)="","",'IC U15'!E10) -> 1205 | S40: 4 | T40: =IF(('IC TC'!B10)="","",'IC TC'!B10) -> GILABERT, RODRIGO | U40: =IF(('IC TC'!C10)="","",'IC TC'!C10) -> FET | V40: =IF(('IC TC'!D10)="","",'IC TC'!D10) -> 745
D41: 5 | E41: =IF(('ID U15'!B11)="","",'ID U15'!B11) -> SALPETER, LUANA | F41: =IF(('ID U15'!D11)="","",'ID U15'!D11) -> FET | G41: =IF(('ID U15'!E11)="","",'ID U15'!E11) -> 1121.305 | I41: 5 | J41: =IF(('ID TC'!B11)="","",'ID TC'!B11) -> MOLERO, CANDELA | K41: =IF(('ID TC'!C11)="","",'ID TC'!C11) -> FET | L41: =IF(('ID TC'!D11)="","",'ID TC'!D11) -> 990 | N41: 5 | O41: =IF(('IC U15'!B11)="","",'IC U15'!B11) -> PEDERNERA, LORENZO | P41: =IF(('IC U15'!D11)="","",'IC U15'!D11) -> MZA | Q41: =IF(('IC U15'!E11)="","",'IC U15'!E11) -> 1130.07 | S41: 5 | T41: =IF(('IC TC'!B11)="","",'IC TC'!B11) -> GUADALUPE, MATIAS | U41: =IF(('IC TC'!C11)="","",'IC TC'!C11) -> FET | V41: =IF(('IC TC'!D11)="","",'IC TC'!D11) -> 720
D42: 6 | E42: =IF(('ID U15'!B12)="","",'ID U15'!B12) -> PEREZ MAZZARELLO, MALENA | F42: =IF(('ID U15'!D12)="","",'ID U15'!D12) -> FET | G42: =IF(('ID U15'!E12)="","",'ID U15'!E12) -> 1030.055 | I42: 6 | J42: =IF(('ID TC'!B12)="","",'ID TC'!B12) -> PEREZ, CAMILA | K42: =IF(('ID TC'!C12)="","",'ID TC'!C12) -> FBA | L42: =IF(('ID TC'!D12)="","",'ID TC'!D12) -> 988.75 | N42: 6 | O42: =IF(('IC U15'!B12)="","",'IC U15'!B12) -> RUBIN MINETTI, DANTE | P42: =IF(('IC U15'!D12)="","",'IC U15'!D12) -> FET | Q42: =IF(('IC U15'!E12)="","",'IC U15'!E12) -> 925.165 | S42: 6 | T42: =IF(('IC TC'!B12)="","",'IC TC'!B12) -> SAAVEDRA, TOMAS | U42: =IF(('IC TC'!C12)="","",'IC TC'!C12) -> MZA | V42: =IF(('IC TC'!D12)="","",'IC TC'!D12) -> 630
D43: 7 | E43: =IF(('ID U15'!B13)="","",'ID U15'!B13) -> MAEHAMA, TRINIDAD | F43: =IF(('ID U15'!D13)="","",'ID U15'!D13) -> FET | G43: =IF(('ID U15'!E13)="","",'ID U15'!E13) -> 1005.165 | I43: 7 | J43: =IF(('ID TC'!B13)="","",'ID TC'!B13) -> PEREYRA, MANUELA | K43: =IF(('ID TC'!C13)="","",'ID TC'!C13) -> RNG | L43: =IF(('ID TC'!D13)="","",'ID TC'!D13) -> 938.75 | N43: 7 | O43: =IF(('IC U15'!B13)="","",'IC U15'!B13) -> URFEIG, FRANCISCO | P43: =IF(('IC U15'!D13)="","",'IC U15'!D13) -> FET | Q43: =IF(('IC U15'!E13)="","",'IC U15'!E13) -> 895.265 | S43: 7 | T43: =IF(('IC TC'!B13)="","",'IC TC'!B13) -> SERRANO, VALENTIN | U43: =IF(('IC TC'!C13)="","",'IC TC'!C13) -> SEN | V43: =IF(('IC TC'!D13)="","",'IC TC'!D13) -> 585
D44: 8 | E44: =IF(('ID U15'!B14)="","",'ID U15'!B14) -> SATO, MIA HIROMMI | F44: =IF(('ID U15'!D14)="","",'ID U15'!D14) -> FET | G44: =IF(('ID U15'!E14)="","",'ID U15'!E14) -> 995.1375 | I44: 8 | J44: =IF(('ID TC'!B14)="","",'ID TC'!B14) -> SHAHMURADYAN, MARIAM | K44: =IF(('ID TC'!C14)="","",'ID TC'!C14) -> FET | L44: =IF(('ID TC'!D14)="","",'ID TC'!D14) -> 830 | N44: 8 | O44: =IF(('IC U15'!B14)="","",'IC U15'!B14) -> VARELA, FEDERICO | P44: =IF(('IC U15'!D14)="","",'IC U15'!D14) -> SAL | Q44: =IF(('IC U15'!E14)="","",'IC U15'!E14) -> 855.09 | S44: 8 | T44: =IF(('IC TC'!B14)="","",'IC TC'!B14) -> WEISS, ALAN | U44: =IF(('IC TC'!C14)="","",'IC TC'!C14) -> FET | V44: =IF(('IC TC'!D14)="","",'IC TC'!D14) -> 583.75

Sheet IC U9
B1: INDIVIDUAL CABALLEROS U9 | F1: RANKING NACIONAL | TEMPORADA 2026
F2: Challenger | H2: Regional Abierto | J2: Challenger | L2: Regional Abierto | N2: Regional Abierto | P2: Regional Abierto | R2: Regional Abierto | T2: Regional Abierto | V2: Regional Abierto | X2: Regional Abierto | Z2: Challenger | AB2: Regional Abierto | AD2: Nacional | AF2: Regional Abierto | AH2: Regional Abierto | AJ2: Regional Abierto | AL2: Grand Prix | AN2: Regional Abierto | AP2: Regional Abierto | AR2: Regional Abierto | AT2: Challenger | AV2: Abierto de la Rep. | AX2: Challenger
F3: CHAPADMALAL | H3: FETEMBA | J3: SANT. DEL ESTERO | L3: MENDOZA | N3: SALTA | P3: TIERRA DEL FUEGO | R3: FETEMBA | T3: JUJUY | V3: SANTA FE | X3: MENDOZA | Z3: SALTA | AB3: NEUQUÉN | AD3: SANTA FE | AF3: MENDOZA | AH3: FETEMBA | AJ3: SANTA CRUZ | AL3: MENDOZA | AN3: FETEMBA | AP3: MENDOZA | AR3: RIO NEGRO | AT3: ROSARIO | AV3: BUENOS AIRES | AX3: ROSARIO
F4: 2 A 4 MAR 2025 | H4: 29 Y 30 MAR 2025 | J4: 11 A 13 ABR 2025 | L4: 26 Y 27 ABR 2025 | N4: 26 Y 27 ABR 2025 | P4: 04 MAY 2025 | R4: 10 Y 11 MAY 2025 | T4: 24 Y 25 MAY 2025 | V4: 31 MAY Y 1 JUN 2025 | X4: 7 Y 8 JUN 2025 | Z4: 14 A 16 JUN 2025 | AB4: 21 Y 22 JUN 2025 | AD4: 9 A 13 JUL 2025 | AF4: 9 Y 10 AGO 2025 | AH4: 15 AGO 2025 | AJ4: 15 A 17 AGO 2025 | AL4: 5 A 7 SEP 2025 | AN4: 27 Y 28 SEP 2025 | AP4: 4 Y 5 OCT 2025 | AR4: 11 Y 12 OCT 2025 | AT4: 17 A 19 OCT 2025 | AV4: 21 A 24 NOV 2025 | AX4: 15 A 17 FEB 2026
A5: POS. | B5: ATLETA | C5: CAT. | D5: ASOC. | E5: TOTAL | F5: Pos. | G5: Ptos. | H5: Pos. | I5: Ptos. | J5: Pos. | K5: Ptos. | L5: Pos. | M5: Ptos. | N5: Pos. | O5: Ptos. | P5: Pos. | Q5: Ptos. | R5: Pos. | S5: Ptos. | T5: Pos. | U5: Ptos. | V5: Pos. | W5: Ptos. | X5: Pos. | Y5: Ptos. | Z5: Pos. | AA5: Ptos. | AB5: Pos. | AC5: Ptos. | AD5: Pos. | AE5: Ptos. | AF5: Pos. | AG5: Ptos. | AH5: Pos. | AI5: Ptos. | AJ5: Pos. | AK5: Ptos. | AL5: Pos. | AM5: Ptos. | AN5: Pos. | AO5: Ptos. | AP5: Pos. | AQ5: Ptos. | AR5: Pos. | AS5: Ptos. | AT5: Pos. | AU5: Ptos. | AV5: Pos. | AW5: Ptos. | AX5: Pos. | AY5: Ptos.
A7: 1 | B7: FERNANDEZ, ENZO | C7: 2017 | D7: FET | E7: =G7+I7+K7+M7+O7+Q7+S7+U7+W7+Y7+AA7+AC7+AE7+AG7+AI7+AK7+AM7+AO7+AQ7+AS7+AU7+AW7+AY7 -> 1555.055 | F7: SF | G7: 140 | H7: SF | I7: 70 | R7: SF | S7: 70 | AD7: 2 | AE7: 405 | AH7: 4 | AI7: 0.055 | AL7: 1 | AM7: 330 | AN7: 1 | AO7: 110 | AT7: 2 | AU7: 180 | AV7: 4F | AW7: 250
A8: 2 | B8: HEREDIA, MARCOS | C8: 2017 | D8: FET | E8: =G8+I8+K8+M8+O8+Q8+S8+U8+W8+Y8+AA8+AC8+AE8+AG8+AI8+AK8+AM8+AO8+AQ8+AS8+AU8+AW8+AY8 -> 1540 | F8: 1 | G8: 220 | H8: 1 | I8: 110 | R8: 1 | S8: 110 | AD8: 1 | AE8: 495 | AH8: 1 | AI8: 110 | AV8: 1 | AW8: 495
A9: 3 | B9: RUBIN MINETTI, GALO | C9: 2017 | D9: FET | E9: =G9+I9+K9+M9+O9+Q9+S9+U9+W9+Y9+AA9+AC9+AE9+AG9+AI9+AK9+AM9+AO9+AQ9+AS9+AU9+AW9+AY9 -> 1170.07 | F9: 2 | G9: 180 | H9: SF | I9: 0.07 | R9: 2 | S9: 90 | AD9: 4F | AE9: 250 | AH9: 2 | AI9: 90 | AN9: 2 | AO9: 90 | AT9: 1 | AU9: 220 | AV9: 4F | AW9: 250
A10: 4 | B10: MULLER, ILAN | C10: 2017 | D10: FET | E10: =G10+I10+K10+M10+O10+Q10+S10+U10+W10+Y10+AA10+AC10+AE10+AG10+AI10+AK10+AM10+AO10+AQ10+AS10+AU10+AW10+AY10 -> 825 | H10: 1B | I10: 55 | AD10: SF | AE10: 315 | AH10: 3 | AI10: 70 | AN10: 3 | AO10: 70 | AV10: SF | AW10: 315
A11: 5 | B11: TORRES, JOAQUIN | C11: 2017 | D11: FET | E11: =G11+I11+K11+M11+O11+Q11+S11+U11+W11+Y11+AA11+AC11+AE11+AG11+AI11+AK11+AM11+AO11+AQ11+AS11+AU11+AW11+AY11 -> 645 | F11: 1B | G11: 110 | H11: SF B | I11: 35 | R11: 2B | S11: 45 | AD11: SF B | AE11: 115 | AH11: 5 | AI11: 45 | AV11: SF B | AW11: 115 | AX11: 2 | AY11: 180
A12: 6 | B12: MUT, GERMAN | C12: 2017 | D12: MZA | E12: =G12+I12+K12+M12+O12+Q12+S12+U12+W12+Y12+AA12+AC12+AE12+AG12+AI12+AK12+AM12+AO12+AQ12+AS12+AU12+AW12+AY12 -> 370 | X12: SF | Y12: 70 | AL12: SF | AM12: 210 | AR12: 2 | AS12: 90
A13: 7 | B13: SANTORO, GIOVANNI | C13: 2018 | D13: SFE | E13: =G13+I13+K13+M13+O13+Q13+S13+U13+W13+Y13+AA13+AC13+AE13+AG13+AI13+AK13+AM13+AO13+AQ13+AS13+AU13+AW13+AY13 -> 230 | AT13: 2B | AU13: 90 | AX13: 3 | AY13: 140
A14: 8 | B14: CIRILLO, SIMON | C14: 2017 | D14: SFE | E14: =G14+I14+K14+M14+O14+Q14+S14+U14+W14+Y14+AA14+AC14+AE14+AG14+AI14+AK14+AM14+AO14+AQ14+AS14+AU14+AW14+AY14 -> 220 | AX14: 1 | AY14: 220
A15: 9 | B15: BAROCCHI, VITTO | C15: 2018 | D15: MZA | E15: =G15+I15+K15+M15+O15+Q15+S15+U15+W15+Y15+AA15+AC15+AE15+AG15+AI15+AK15+AM15+AO15+AQ15+AS15+AU15+AW15+AY15 -> 190 | X15: 3Z | Y15: 55 | AL15: 1B | AM15: 135
A16: 10 | B16: SOTO JUAREZ, CAMILO | C16: 2018 | D16: JUJ | E16: =G16+I16+K16+M16+O16+Q16+S16+U16+W16+Y16+AA16+AC16+AE16+AG16+AI16+AK16+AM16+AO16+AQ16+AS16+AU16+AW16+AY16 -> 180 | N16: 2 | O16: 90 | T16: 2 | U16: 90
A17: 11 | B17: CAMPUSANO, VITTO | C17: 2017 | D17: MZA | E17: =G17+I17+K17+M17+O17+Q17+S17+U17+W17+Y17+AA17+AC17+AE17+AG17+AI17+AK17+AM17+AO17+AQ17+AS17+AU17+AW17+AY17 -> 175 | AF17: 3 | AG17: 70 | AL17: 2B | AM17: 105
A18: 12 | B18: LEGGIO, FACUNDO | C18: 2017 | D18: MZA | E18: =G18+I18+K18+M18+O18+Q18+S18+U18+W18+Y18+AA18+AC18+AE18+AG18+AI18+AK18+AM18+AO18+AQ18+AS18+AU18+AW18+AY18 -> 165 | AL18: 4F | AM18: 165
A19: 13 | B19: MUÑOZ, GIOVANNI BENJAMIN | C19: 2017 | D19: SFE | E19: =G19+I19+K19+M19+O19+Q19+S19+U19+W19+Y19+AA19+AC19+AE19+AG19+AI19+AK19+AM19+AO19+AQ19+AS19+AU19+AW19+AY19 -> 160 | AD19: 2B | AE19: 160
A20: 14 | B20: IPPOLITI, MARCO | C20: 2019 | D20: MZA | E20: =G20+I20+K20+M20+O20+Q20+S20+U20+W20+Y20+AA20+AC20+AE20+AG20+AI20+AK20+AM20+AO20+AQ20+AS20+AU20+AW20+AY20 -> 145 | AL20: SF B | AM20: 75 | AR20: 3 | AS20: 70
A21: 15 | B21: BENITTI, GEORGE | C21: 2017 | D21: TDF | E21: =G21+I21+K21+M21+O21+Q21+S21+U21+W21+Y21+AA21+AC21+AE21+AG21+AI21+AK21+AM21+AO21+AQ21+AS21+AU21+AW21+AY21 -> 140 | P21: 3 | Q21: 70 | AJ21: 3 | AK21: 70
A22: 16 | B22: BIOTT, AUGUSTO | C22: 2017 | D22: LIB | E22: =G22+I22+K22+M22+O22+Q22+S22+U22+W22+Y22+AA22+AC22+AE22+AG22+AI22+AK22+AM22+AO22+AQ22+AS22+AU22+AW22+AY22 -> 115 | AV22: SF B | AW22: 115
A23: 17 | B23: OLIVAREZ, SIMON | C23: 2020 | D23: SFE | E23: =G23+I23+K23+M23+O23+Q23+S23+U23+W23+Y23+AA23+AC23+AE23+AG23+AI23+AK23+AM23+AO23+AQ23+AS23+AU23+AW23+AY23 -> 110 | AX23: 4 | AY23: 110
A24: 18 | B24: GALVAN CAMPESSI, BAUTISTA | C24: 2017 | D24: FBA | E24: =G24+I24+K24+M24+O24+Q24+S24+U24+W24+Y24+AA24+AC24+AE24+AG24+AI24+AK24+AM24+AO24+AQ24+AS24+AU24+AW24+AY24 -> 90 | F24: 2B | G24: 90
A25: 19 | B25: LISOTTO, FELIX | C25: 2017 | D25: MZA | E25: =G25+I25+K25+M25+O25+Q25+S25+U25+W25+Y25+AA25+AC25+AE25+AG25+AI25+AK25+AM25+AO25+AQ25+AS25+AU25+AW25+AY25 -> 70 | X25: SF | Y25: 70
A26: 20 | B26: ARAMI BANGERTES, VICTORIA | C26: 2018 | D26: FBA | E26: =G26+I26+K26+M26+O26+Q26+S26+U26+W26+Y26+AA26+AC26+AE26+AG26+AI26+AK26+AM26+AO26+AQ26+AS26+AU26+AW26+AY26 -> 70 | F26: SF B | G26: 70

Sheet IC U11
B1: INDIVIDUAL CABALLEROS U11 | F1: RANKING NACIONAL | TEMPORADA 2026
F2: Challenger | H2: Regional Abierto | J2: Challenger | L2: Regional Abierto | N2: Regional Abierto | P2: Regional Abierto | R2: Regional Abierto | T2: Regional Abierto | V2: Regional Abierto | X2: Regional Abierto | Z2: Challenger | AB2: Regional Abierto | AD2: Nacional | AF2: Regional Abierto | AH2: Regional Abierto | AJ2: Regional Abierto | AL2: Grand Prix | AN2: Regional Abierto | AP2: Regional Abierto | AR2: Regional Abierto | AT2: Challenger | AV2: Abierto de la Rep. | AX2: Challenger
F3: CHAPADMALAL | H3: FETEMBA | J3: SANT. DEL ESTERO | L3: MENDOZA | N3: SALTA | P3: TIERRA DEL FUEGO | R3: FETEMBA | T3: JUJUY | V3: SANTA FE | X3: MENDOZA | Z3: SALTA | AB3: NEUQUÉN | AD3: SANTA FE | AF3: MENDOZA | AH3: FETEMBA | AJ3: SANTA CRUZ | AL3: MENDOZA | AN3: FETEMBA | AP3: MENDOZA | AR3: RIO NEGRO | AT3: ROSARIO | AV3: BUENOS AIRES | AX3: ROSARIO
F4: 2 A 4 MAR 2025 | H4: 29 Y 30 MAR 2025 | J4: 11 A 13 ABR 2025 | L4: 26 Y 27 ABR 2025 | N4: 26 Y 27 ABR 2025 | P4: 04 MAY 2025 | R4: 10 Y 11 MAY 2025 | T4: 24 Y 25 MAY 2025 | V4: 31 MAY Y 1 JUN 2025 | X4: 7 Y 8 JUN 2025 | Z4: 14 A 16 JUN 2025 | AB4: 21 Y 22 JUN 2025 | AD4: 9 A 13 JUL 2025 | AF4: 9 Y 10 AGO 2025 | AH4: 15 AGO 2025 | AJ4: 15 A 17 AGO 2025 | AL4: 5 A 7 SEP 2025 | AN4: 27 Y 28 SEP 2025 | AP4: 4 Y 5 OCT 2025 | AR4: 11 Y 12 OCT 2025 | AT4: 17 A 19 OCT 2025 | AV4: 21 A 24 NOV 2025 | AX4: 15 A 17 FEB 2026
A5: POS. | B5: ATLETA | C5: CAT. | D5: ASOC. | E5: TOTAL | F5: Pos. | G5: Ptos. | H5: Pos. | I5: Ptos. | J5: Pos. | K5: Ptos. | L5: Pos. | M5: Ptos. | N5: Pos. | O5: Ptos. | P5: Pos. | Q5: Ptos. | R5: Pos. | S5: Ptos. | T5: Pos. | U5: Ptos. | V5: Pos. | W5: Ptos. | X5: Pos. | Y5: Ptos. | Z5: Pos. | AA5: Ptos. | AB5: Pos. | AC5: Ptos. | AD5: Pos. | AE5: Ptos. | AF5: Pos. | AG5: Ptos. | AH5: Pos. | AI5: Ptos. | AJ5: Pos. | AK5: Ptos. | AL5: Pos. | AM5: Ptos. | AN5: Pos. | AO5: Ptos. | AP5: Pos. | AQ5: Ptos. | AR5: Pos. | AS5: Ptos. | AT5: Pos. | AU5: Ptos. | AV5: Pos. | AW5: Ptos. | AX5: Pos. | AY5: Ptos.
A7: 1 | B7: HEREDIA, MARCOS | C7: 2017 | D7: FET | E7: =G7+I7+K7+M7+O7+Q7+S7+U7+W7+Y7+AA7+AC7+AE7+AG7+AI7+AK7+AM7+AO7+AQ7+AS7+AU7+AW7+AY7 -> 1335.58 | F7: 1 | G7: 0.22 | H7: 1 | I7: 110 | J7: 1 | K7: 220 | R7: 2 | S7: 0.09 | V7: 2 | W7: 0.09 | AD7: 4F | AE7: 250 | AH7: 1 | AI7: 110 | AN7: 1 | AO7: 110 | AT7: 1 | AU7: 220 | AV7: SF | AW7: 315 | AX7: 2 | AY7: 0.18
A8: 2 | B8: DOMINGUEZ, BENICIO | C8: 2015 | D8: MZA | E8: =G8+I8+K8+M8+O8+Q8+S8+U8+W8+Y8+AA8+AC8+AE8+AG8+AI8+AK8+AM8+AO8+AQ8+AS8+AU8+AW8+AY8 -> 1255.09 | L8: 1 | M8: 110 | X8: 1 | Y8: 110 | AD8: 4F | AE8: 250 | AF8: 1 | AG8: 110 | AL8: 2 | AM8: 270 | AP8: 2 | AQ8: 0.09 | AV8: 2 | AW8: 405
A9: 3 | B9: ALTO, VALENTINO | C9: 2015 | D9: MZA | E9: =G9+I9+K9+M9+O9+Q9+S9+U9+W9+Y9+AA9+AC9+AE9+AG9+AI9+AK9+AM9+AO9+AQ9+AS9+AU9+AW9+AY9 -> 1100 | AD9: 1 | AE9: 495 | AP9: 1 | AQ9: 110 | AV9: 1 | AW9: 495
A10: 4 | B10: FERNANDEZ, ENZO | C10: 2017 | D10: FET | E10: =G10+I10+K10+M10+O10+Q10+S10+U10+W10+Y10+AA10+AC10+AE10+AG10+AI10+AK10+AM10+AO10+AQ10+AS10+AU10+AW10+AY10 -> 1040.18 | F10: SF | G10: 140 | H10: 1B | I10: 0.045 | R10: SF B | S10: 0.025 | V10: SF | W10: 70 | AD10: 8F | AE10: 205 | AH10: 4F | AI10: 55 | AL10: 4F | AM10: 165 | AN10: 2 | AO10: 90 | AT10: 4F | AU10: 0.11 | AV10: 8F | AW10: 205 | AX10: 4F | AY10: 110
A11: 5 | B11: DRATEWKA, DROR | C11: 2016 | D11: FET | E11: =G11+I11+K11+M11+O11+Q11+S11+U11+W11+Y11+AA11+AC11+AE11+AG11+AI11+AK11+AM11+AO11+AQ11+AS11+AU11+AW11+AY11 -> 995.11 | H11: SF | I11: 70 | R11: SF | S11: 70 | Z11: 1 | AA11: 220 | AD11: 8F | AE11: 205 | AN11: SF | AO11: 70 | AT11: 4F | AU11: 0.11 | AV11: 4F | AW11: 250 | AX11: 4F | AY11: 110
A12: 6 | B12: NOTARNICOLA, FELIPE | C12: 2016 | D12: SFE | E12: =G12+I12+K12+M12+O12+Q12+S12+U12+W12+Y12+AA12+AC12+AE12+AG12+AI12+AK12+AM12+AO12+AQ12+AS12+AU12+AW12+AY12 -> 935.26 | F12: 2B | G12: 0.09 | H12: 2B | I12: 0.035 | J12: 1B | K12: 0.11 | R12: 4F | S12: 55 | V12: SF | W12: 70 | Z12: 2 | AA12: 180 | AD12: 16F | AE12: 160 | AH12: 2B | AI12: 35 | AL12: 4F | AM12: 165 | AN12: SF B | AO12: 0.025 | AV12: 16F | AW12: 160 | AX12: 4F | AY12: 110
A13: 7 | B13: ROSSI VERA, FRANCO | C13: 2015 | D13: FET | E13: =G13+I13+K13+M13+O13+Q13+S13+U13+W13+Y13+AA13+AC13+AE13+AG13+AI13+AK13+AM13+AO13+AQ13+AS13+AU13+AW13+AY13 -> 850.035 | J13: SF | K13: 140 | R13: 2B | S13: 0.035 | V13: 4F | W13: 55 | AD13: SF B | AE13: 70 | AH13: SF | AI13: 70 | AL13: SF | AM13: 210 | AN13: 2B | AO13: 35 | AT13: 4F | AU13: 110 | AV13: 16F | AW13: 160
A14: 8 | B14: RUBIN MINETTI, GALO | C14: 2017 | D14: FET | E14: =G14+I14+K14+M14+O14+Q14+S14+U14+W14+Y14+AA14+AC14+AE14+AG14+AI14+AK14+AM14+AO14+AQ14+AS14+AU14+AW14+AY14 -> 835.09 | F14: 1B | G14: 110 | R14: SF | S14: 70 | AD14: 8F | AE14: 205 | AH14: 2 | AI14: 90 | AN14: 1B | AO14: 45 | AT14: 4F | AU14: 110 | AV14: 8F | AW14: 205 | AX14: 1B | AY14: 0.09
A15: 9 | B15: ROJAS ZANINI, PIERO | C15: 2015 | D15: SEN | E15: =G15+I15+K15+M15+O15+Q15+S15+U15+W15+Y15+AA15+AC15+AE15+AG15+AI15+AK15+AM15+AO15+AQ15+AS15+AU15+AW15+AY15 -> 685 | J15: SF | K15: 140 | N15: 1 | O15: 110 | T15: 3 | U15: 70 | AD15: 8F | AE15: 205 | AV15: 16F | AW15: 160
A16: 10 | B16: MORENO, MATEO | C16: 2016 | D16: MZA | E16: =G16+I16+K16+M16+O16+Q16+S16+U16+W16+Y16+AA16+AC16+AE16+AG16+AI16+AK16+AM16+AO16+AQ16+AS16+AU16+AW16+AY16 -> 575.045 | L16: 5 | M16: 0.045 | X16: 3Z | Y16: 45 | AF16: SF | AG16: 70 | AL16: 8F | AM16: 135 | AP16: 3Z | AQ16: 55 | AV16: 16F | AW16: 160 | AX16: 4F | AY16: 110
A17: 11 | B17: GIUMARRA, JUAN SEBASTIAN | C17: 2015 | D17: MZA | E17: =G17+I17+K17+M17+O17+Q17+S17+U17+W17+Y17+AA17+AC17+AE17+AG17+AI17+AK17+AM17+AO17+AQ17+AS17+AU17+AW17+AY17 -> 570.045 | X17: 3Z | Y17: 0.045 | AF17: 4F | AG17: 55 | AL17: 4F | AM17: 165 | AP17: SF | AQ17: 70 | AR17: SF | AS17: 70 | AV17: 16F | AW17: 160 | AX17: SF B | AY17: 50
A18: 12 | B18: PETELL, RAFAEL | C18: 2015 | D18: FET | E18: =G18+I18+K18+M18+O18+Q18+S18+U18+W18+Y18+AA18+AC18+AE18+AG18+AI18+AK18+AM18+AO18+AQ18+AS18+AU18+AW18+AY18 -> 395 | AH18: SF | AI18: 70 | AN18: SF | AO18: 70 | AV18: 1B | AW18: 115 | AX18: SF | AY18: 140
A19: 13 | B19: OLIVA, BRUNO | C19: 2015 | D19: CBA | E19: =G19+I19+K19+M19+O19+Q19+S19+U19+W19+Y19+AA19+AC19+AE19+AG19+AI19+AK19+AM19+AO19+AQ19+AS19+AU19+AW19+AY19 -> 390 | V19: 1 | W19: 110 | AT19: SF | AU19: 140 | AX19: SF | AY19: 140
A20: 14 | B20: DAIX, BRUNO | C20: 2015 | D20: FET | E20: =G20+I20+K20+M20+O20+Q20+S20+U20+W20+Y20+AA20+AC20+AE20+AG20+AI20+AK20+AM20+AO20+AQ20+AS20+AU20+AW20+AY20 -> 315 | AH20: 4F | AI20: 55 | AN20: 4F | AO20: 55 | AV20: 8F | AW20: 205
A21: 15 | B21: CABRERA JARDIN, JUAN DAVID | C21: 2015 | D21: FET | E21: =G21+I21+K21+M21+O21+Q21+S21+U21+W21+Y21+AA21+AC21+AE21+AG21+AI21+AK21+AM21+AO21+AQ21+AS21+AU21+AW21+AY21 -> 300 | AD21: 2B | AE21: 90 | AH21: SF B | AI21: 25 | AN21: SF B | AO21: 25 | AV21: 16F | AW21: 160
A22: 16 | B22: RASJIDO, YAMIR | C22: 2016 | D22: SCZ | E22: =G22+I22+K22+M22+O22+Q22+S22+U22+W22+Y22+AA22+AC22+AE22+AG22+AI22+AK22+AM22+AO22+AQ22+AS22+AU22+AW22+AY22 -> 290 | P22: 1 | Q22: 110 | AJ22: 1 | AK22: 110 | AV22: SF B | AW22: 70
A23: 17 | B23: MUÑOZ, GIOVANNI BENJAMIN | C23: 2017 | D23: SFE | E23: =G23+I23+K23+M23+O23+Q23+S23+U23+W23+Y23+AA23+AC23+AE23+AG23+AI23+AK23+AM23+AO23+AQ23+AS23+AU23+AW23+AY23 -> 260 | V23: 4F | W23: 55 | AD23: 8F | AE23: 205
A24: 18 | B24: MULLER, ILAN | C24: 2017 | D24: FET | E24: =G24+I24+K24+M24+O24+Q24+S24+U24+W24+Y24+AA24+AC24+AE24+AG24+AI24+AK24+AM24+AO24+AQ24+AS24+AU24+AW24+AY24 -> 260 | AH24: 1B | AI24: 45 | AN24: 4F | AO24: 55 | AV24: 16F | AW24: 160
A25: 19 | B25: ROCHA IBAÑEZ, AUGUSTO VALENTIN | C25: 2015 | D25: SEN | E25: =G25+I25+K25+M25+O25+Q25+S25+U25+W25+Y25+AA25+AC25+AE25+AG25+AI25+AK25+AM25+AO25+AQ25+AS25+AU25+AW25+AY25 -> 250 | J25: 2B | K25: 90 | AD25: 16F | AE25: 160
A26: 20 | B26: MURIEL, ISMAEL | C26: 2016 | D26: PER | E26: =G26+I26+K26+M26+O26+Q26+S26+U26+W26+Y26+AA26+AC26+AE26+AG26+AI26+AK26+AM26+AO26+AQ26+AS26+AU26+AW26+AY26 -> 220 | AX26: 1 | AY26: 220
A27: 21 | B27: OCAMPO, IGNACIO | C27: 2016 | D27: SAL | E27: =G27+I27+K27+M27+O27+Q27+S27+U27+W27+Y27+AA27+AC27+AE27+AG27+AI27+AK27+AM27+AO27+AQ27+AS27+AU27+AW27+AY27 -> 210 | N27: SF | O27: 70 | Z27: 3 | AA27: 140
A28: 22 | B28: WEITZNER, THIAGO | C28: 2016 | D28: URU | E28: =G28+I28+K28+M28+O28+Q28+S28+U28+W28+Y28+AA28+AC28+AE28+AG28+AI28+AK28+AM28+AO28+AQ28+AS28+AU28+AW28+AY28 -> 205 | AV28: 8F | AW28: 205
A29: 23 | B29: MOLEDA, FACUNDO | C29: 2016 | D29: URU | E29: =G29+I29+K29+M29+O29+Q29+S29+U29+W29+Y29+AA29+AC29+AE29+AG29+AI29+AK29+AM29+AO29+AQ29+AS29+AU29+AW29+AY29 -> 205 | AV29: 8F | AW29: 205
A30: 24 | B30: FERREYRA, FRANCISCO | C30: 2015 | D30: MZA | E30: =G30+I30+K30+M30+O30+Q30+S30+U30+W30+Y30+AA30+AC30+AE30+AG30+AI30+AK30+AM30+AO30+AQ30+AS30+AU30+AW30+AY30 -> 165 | L30: 4 | M30: 55 | X30: 4F | Y30: 55 | AF30: 4F | AG30: 55
A31: 25 | B31: FISHER, LUCA | C31: 2015 | D31: URU | E31: =G31+I31+K31+M31+O31+Q31+S31+U31+W31+Y31+AA31+AC31+AE31+AG31+AI31+AK31+AM31+AO31+AQ31+AS31+AU31+AW31+AY31 -> 160 | AV31: 16F | AW31: 160
A32: 26 | B32: OCAMPO, LIONEL | C32: 2016 | D32: SAL | E32: =G32+I32+K32+M32+O32+Q32+S32+U32+W32+Y32+AA32+AC32+AE32+AG32+AI32+AK32+AM32+AO32+AQ32+AS32+AU32+AW32+AY32 -> 155 | N32: 2B | O32: 45 | Z32: 4 | AA32: 110
A33: 27 | B33: CAMPUSANO, VITTO | C33: 2017 | D33: MZA | E33: =G33+I33+K33+M33+O33+Q33+S33+U33+W33+Y33+AA33+AC33+AE33+AG33+AI33+AK33+AM33+AO33+AQ33+AS33+AU33+AW33+AY33 -> 150 | AF33: 3Z | AG33: 45 | AL33: 1B | AM33: 105
A34: 28 | B34: TORRES, JOAQUIN | C34: 2017 | D34: FET | E34: =G34+I34+K34+M34+O34+Q34+S34+U34+W34+Y34+AA34+AC34+AE34+AG34+AI34+AK34+AM34+AO34+AQ34+AS34+AU34+AW34+AY34 -> 145 | F34: SF B | G34: 70 | AH34: SF B | AI34: 25 | AX34: SF B | AY34: 50
A35: 29 | B35: BAROCCHI, FILIPPO | C35: 2016 | D35: MZA | E35: =G35+I35+K35+M35+O35+Q35+S35+U35+W35+Y35+AA35+AC35+AE35+AG35+AI35+AK35+AM35+AO35+AQ35+AS35+AU35+AW35+AY35 -> 130 | X35: SF | Y35: 70 | AL35: SF B | AM35: 60
A36: 30 | B36: BAROCCHI, VITTO | C36: 2018 | D36: MZA | E36: =G36+I36+K36+M36+O36+Q36+S36+U36+W36+Y36+AA36+AC36+AE36+AG36+AI36+AK36+AM36+AO36+AQ36+AS36+AU36+AW36+AY36 -> 120 | X36: 3Z | Y36: 45 | AL36: 2B | AM36: 75
A37: 31 | B37: ARASAKI, KEI NICOLAS | C37: 2015 | D37: FET | E37: =G37+I37+K37+M37+O37+Q37+S37+U37+W37+Y37+AA37+AC37+AE37+AG37+AI37+AK37+AM37+AO37+AQ37+AS37+AU37+AW37+AY37 -> 90 | AV37: 2B | AW37: 90
A38: 32 | B38: SANTANA, GAEL ELOY | C38: 2015 | D38: LIB | E38: =G38+I38+K38+M38+O38+Q38+S38+U38+W38+Y38+AA38+AC38+AE38+AG38+AI38+AK38+AM38+AO38+AQ38+AS38+AU38+AW38+AY38 -> 70 | AV38: SF B | AW38: 70
A39: 33 | B39: ESQUERRO, JUAN IGNACIO | C39: 2016 | D39: SFE | E39: =G39+I39+K39+M39+O39+Q39+S39+U39+W39+Y39+AA39+AC39+AE39+AG39+AI39+AK39+AM39+AO39+AQ39+AS39+AU39+AW39+AY39 -> 70 | AX39: 2B | AY39: 70
A40: 34 | B40: LEAL, MATEO | C40: 2015 | D40: SAL | E40: =G40+I40+K40+M40+O40+Q40+S40+U40+W40+Y40+AA40+AC40+AE40+AG40+AI40+AK40+AM40+AO40+AQ40+AS40+AU40+AW40+AY40 -> 70 | N40: SF | O40: 70
A41: 35 | B41: MIRANDA, AQUILES | C41: 2015 | D41: SCZ | E41: =G41+I41+K41+M41+O41+Q41+S41+U41+W41+Y41+AA41+AC41+AE41+AG41+AI41+AK41+AM41+AO41+AQ41+AS41+AU41+AW41+AY41 -> 55 | AJ41: 4F | AK41: 55
A42: 36 | B42: GIRON, JEREMIAS | C42: 2016 | D42: JUJ | E42: =G42+I42+K42+M42+O42+Q42+S42+U42+W42+Y42+AA42+AC42+AE42+AG42+AI42+AK42+AM42+AO42+AQ42+AS42+AU42+AW42+AY42 -> 55 | T42: 4 | U42: 55
A43: 37 | B43: CANDIA, FACUNDO | C43: 2018 | D43: RNG | E43: =G43+I43+K43+M43+O43+Q43+S43+U43+W43+Y43+AA43+AC43+AE43+AG43+AI43+AK43+AM43+AO43+AQ43+AS43+AU43+AW43+AY43 -> 55 | AR43: 1B | AS43: 55
A44: 38 | B44: CATANESE, NICOLAS | C44: 2015 | D44: MZA | E44: =G44+I44+K44+M44+O44+Q44+S44+U44+W44+Y44+AA44+AC44+AE44+AG44+AI44+AK44+AM44+AO44+AQ44+AS44+AU44+AW44+AY44 -> 45 | AF44: 3Z | AG44: 45
A45: 39 | B45: BELTRAMI, BENJAMIN | C45: 2016 | D45: TDF | E45: =G45+I45+K45+M45+O45+Q45+S45+U45+W45+Y45+AA45+AC45+AE45+AG45+AI45+AK45+AM45+AO45+AQ45+AS45+AU45+AW45+AY45 -> 45 | AJ45: 3Z | AK45: 45
A46: 40 | B46: LISOTTO, FELIX | C46: 2017 | D46: MZA | E46: =G46+I46+K46+M46+O46+Q46+S46+U46+W46+Y46+AA46+AC46+AE46+AG46+AI46+AK46+AM46+AO46+AQ46+AS46+AU46+AW46+AY46 -> 45 | X46: 4Z | Y46: 45
A47: 41 | B47: VALLEJOS, TIZIANO | C47: 2016 | D47: RNG | E47: =G47+I47+K47+M47+O47+Q47+S47+U47+W47+Y47+AA47+AC47+AE47+AG47+AI47+AK47+AM47+AO47+AQ47+AS47+AU47+AW47+AY47 -> 35 | AR47: SF B | AS47: 35

Sheet IC U13
B1: INDIVIDUAL CABALLEROS U13 | F1: RANKING NACIONAL | TEMPORADA 2026
F2: Challenger | H2: Regional Abierto | J2: Challenger | L2: Regional Abierto | N2: Regional Abierto | P2: Regional Abierto | R2: Regional Abierto | T2: Regional Abierto | V2: Regional Abierto | X2: Regional Abierto | Z2: Challenger | AB2: Regional Abierto | AD2: Nacional | AF2: Regional Abierto | AH2: Regional Abierto | AJ2: Regional Abierto | AL2: Grand Prix | AN2: Regional Abierto | AP2: Regional Abierto | AR2: Regional Abierto | AT2: Challenger | AV2: Abierto de la Rep. | AX2: Challenger
F3: CHAPADMALAL | H3: FETEMBA | J3: SANT. DEL ESTERO | L3: MENDOZA | N3: SALTA | P3: TIERRA DEL FUEGO | R3: FETEMBA | T3: JUJUY | V3: SANTA FE | X3: MENDOZA | Z3: SALTA | AB3: NEUQUÉN | AD3: SANTA FE | AF3: MENDOZA | AH3: FETEMBA | AJ3: SANTA CRUZ | AL3: MENDOZA | AN3: FETEMBA | AP3: MENDOZA | AR3: RIO NEGRO | AT3: ROSARIO | AV3: BUENOS AIRES | AX3: ROSARIO
F4: 2 A 4 MAR 2025 | H4: 29 Y 30 MAR 2025 | J4: 11 A 13 ABR 2025 | L4: 26 Y 27 ABR 2025 | N4: 26 Y 27 ABR 2025 | P4: 04 MAY 2025 | R4: 10 Y 11 MAY 2025 | T4: 24 Y 25 MAY 2025 | V4: 31 MAY Y 1 JUN 2025 | X4: 7 Y 8 JUN 2025 | Z4: 14 A 16 JUN 2025 | AB4: 21 Y 22 JUN 2025 | AD4: 9 A 13 JUL 2025 | AF4: 9 Y 10 AGO 2025 | AH4: 15 AGO 2025 | AJ4: 15 A 17 AGO 2025 | AL4: 5 A 7 SEP 2025 | AN4: 27 Y 28 SEP 2025 | AP4: 4 Y 5 OCT 2025 | AR4: 11 Y 12 OCT 2025 | AT4: 17 A 19 OCT 2025 | AV4: 21 A 24 NOV 2025 | AX4: 15 A 17 FEB 2026
A5: POS. | B5: ATLETA | C5: CAT. | D5: ASOC. | E5: TOTAL | F5: Pos. | G5: Ptos. | H5: Pos. | I5: Ptos. | J5: Pos. | K5: Ptos. | L5: Pos. | M5: Ptos. | N5: Pos. | O5: Ptos. | P5: Pos. | Q5: Ptos. | R5: Pos. | S5: Ptos. | T5: Pos. | U5: Ptos. | V5: Pos. | W5: Ptos. | X5: Pos. | Y5: Ptos. | Z5: Pos. | AA5: Ptos. | AB5: Pos. | AC5: Ptos. | AD5: Pos. | AE5: Ptos. | AF5: Pos. | AG5: Ptos. | AH5: Pos. | AI5: Ptos. | AJ5: Pos. | AK5: Ptos. | AL5: Pos. | AM5: Ptos. | AN5: Pos. | AO5: Ptos. | AP5: Pos. | AQ5: Ptos. | AR5: Pos. | AS5: Ptos. | AT5: Pos. | AU5: Ptos. | AV5: Pos. | AW5: Ptos. | AX5: Pos. | AY5: Ptos.
A7: 1 | B7: VILLEGAS, VALENTINO ARIEL | C7: 2013 | D7: MZA | E7: =G7+I7+K7+M7+O7+Q7+S7+U7+W7+Y7+AA7+AC7+AE7+AG7+AI7+AK7+AM7+AO7+AQ7+AS7+AU7+AW7+AY7 -> 1445 | X7: 1 | Y7: 110 | Z7: 2 | AA7: 180 | AD7: SF | AE7: 315 | AF7: 1 | AG7: 110 | AL7: 4F | AM7: 165 | AP7: SF | AQ7: 70 | AT7: 2 | AU7: 180 | AV7: SF | AW7: 315
A8: 2 | B8: RUBIN MINETTI, DANTE | C8: 2013 | D8: FET | E8: =G8+I8+K8+M8+O8+Q8+S8+U8+W8+Y8+AA8+AC8+AE8+AG8+AI8+AK8+AM8+AO8+AQ8+AS8+AU8+AW8+AY8 -> 1430.14 | F8: 1 | G8: 220 | H8: 2 | I8: 90 | R8: 2 | S8: 90 | AD8: 1 | AE8: 495 | AH8: 1 | AI8: 110 | AT8: 1 | AU8: 220 | AV8: 8F | AW8: 205 | AX8: SF | AY8: 0.14
A9: 3 | B9: MARCIAL, LUCA | C9: 2013 | D9: SFE | E9: =G9+I9+K9+M9+O9+Q9+S9+U9+W9+Y9+AA9+AC9+AE9+AG9+AI9+AK9+AM9+AO9+AQ9+AS9+AU9+AW9+AY9 -> 1297.82 | F9: Prom. | G9: 0.11 | H9: Prom. | I9: 27.5 | V9: 1 | W9: 110 | Z9: 1 | AA9: 220 | AD9: 2 | AE9: 405 | AT9: Prom. | AU9: 0.21 | AV9: SF | AW9: 315 | AX9: 1 | AY9: 220
A10: 4 | B10: PIRUZI, GIANNI | C10: 2014 | D10: MZA | E10: =G10+I10+K10+M10+O10+Q10+S10+U10+W10+Y10+AA10+AC10+AE10+AG10+AI10+AK10+AM10+AO10+AQ10+AS10+AU10+AW10+AY10 -> 1095.2 | L10: 2 | M10: 90 | X10: 4F | Y10: 0.055 | Z10: SF | AA10: 140 | AD10: 8F | AE10: 205 | AF10: 4F | AG10: 0.055 | AL10: 8F | AM10: 135 | AP10: 4F | AQ10: 55 | AR10: 1 | AS10: 110 | AT10: 4F | AU10: 110 | AV10: 4F | AW10: 250 | AX10: 8F | AY10: 0.09
A11: 5 | B11: VARELA, FEDERICO | C11: 2013 | D11: SAL | E11: =G11+I11+K11+M11+O11+Q11+S11+U11+W11+Y11+AA11+AC11+AE11+AG11+AI11+AK11+AM11+AO11+AQ11+AS11+AU11+AW11+AY11 -> 1075.11 | J11: 1 | K11: 220 | N11: 1 | O11: 110 | T11: 1 | U11: 110 | Z11: 4F | AA11: 0.11 | AD11: 4F | AE11: 250 | AV11: 8F | AW11: 205 | AX11: 2 | AY11: 180
A12: 6 | B12: ALTO, JULIAN | C12: 2014 | D12: MZA | E12: =G12+I12+K12+M12+O12+Q12+S12+U12+W12+Y12+AA12+AC12+AE12+AG12+AI12+AK12+AM12+AO12+AQ12+AS12+AU12+AW12+AY12 -> 1055.07 | L12: SF | M12: 0.07 | X12: 2 | Y12: 90 | AD12: SF | AE12: 315 | AF12: SF | AG12: 70 | AL12: 1 | AM12: 330 | AP12: 2 | AQ12: 90 | AV12: 16F | AW12: 160
A13: 7 | B13: MULLER, LUCA | C13: 2013 | D13: FET | E13: =G13+I13+K13+M13+O13+Q13+S13+U13+W13+Y13+AA13+AC13+AE13+AG13+AI13+AK13+AM13+AO13+AQ13+AS13+AU13+AW13+AY13 -> 975.19 | F13: 4F | G13: 110 | H13: 4F | I13: 0.055 | R13: 8F | S13: 0.045 | V13: SF | W13: 70 | AD13: 8F | AE13: 205 | AH13: SF | AI13: 70 | AL13: 8F | AM13: 135 | AN13: SF | AO13: 70 | AT13: 8F | AU13: 0.09 | AV13: 8F | AW13: 205 | AX13: 4F | AY13: 110
A14: 8 | B14: LINARES, JERONIMO | C14: 2013 | D14: SFE | E14: =G14+I14+K14+M14+O14+Q14+S14+U14+W14+Y14+AA14+AC14+AE14+AG14+AI14+AK14+AM14+AO14+AQ14+AS14+AU14+AW14+AY14 -> 895.1 | H14: 8F | I14: 0.045 | R14: 4F | S14: 0.055 | V14: 2 | W14: 90 | AD14: 4F | AE14: 250 | AH14: 2 | AI14: 90 | AL14: 16F | AM14: 105 | AN14: 1 | AO14: 110 | AT14: 8F | AU14: 90 | AV14: 16F | AW14: 160
A15: 9 | B15: ROMEGO, ERNESTO | C15: 2013 | D15: FET | E15: =G15+I15+K15+M15+O15+Q15+S15+U15+W15+Y15+AA15+AC15+AE15+AG15+AI15+AK15+AM15+AO15+AQ15+AS15+AU15+AW15+AY15 -> 875.045 | F15: 4F | G15: 110 | H15: 8F | I15: 0.045 | R15: 8F | S15: 45 | AD15: 8F | AE15: 205 | AH15: SF | AI15: 70 | AL15: 16F | AM15: 105 | AN15: 2 | AO15: 90 | AT15: 8F | AU15: 90 | AV15: 16F | AW15: 160
A16: 10 | B16: ALTO, LUCAS | C16: 2014 | D16: MZA | E16: =G16+I16+K16+M16+O16+Q16+S16+U16+W16+Y16+AA16+AC16+AE16+AG16+AI16+AK16+AM16+AO16+AQ16+AS16+AU16+AW16+AY16 -> 810 | L16: 4F | M16: 55 | X16: SF | Y16: 70 | AD16: 8F | AE16: 205 | AL16: SF | AM16: 210 | AP16: 1 | AQ16: 110 | AV16: 16F | AW16: 160
A17: 11 | B17: ALTO, VALENTINO | C17: 2015 | D17: MZA | E17: =G17+I17+K17+M17+O17+Q17+S17+U17+W17+Y17+AA17+AC17+AE17+AG17+AI17+AK17+AM17+AO17+AQ17+AS17+AU17+AW17+AY17 -> 795.055 | L17: 1 | M17: 110 | X17: 4F | Y17: 0.055 | AD17: 16F | AE17: 160 | AF17: SF | AG17: 70 | AL17: 8F | AM17: 135 | AP17: SF | AQ17: 70 | AV17: 4F | AW17: 250
A18: 12 | B18: HAGIWARA, NAOKI | C18: 2014 | D18: FET | E18: =G18+I18+K18+M18+O18+Q18+S18+U18+W18+Y18+AA18+AC18+AE18+AG18+AI18+AK18+AM18+AO18+AQ18+AS18+AU18+AW18+AY18 -> 625.025 | H18: 8F | I18: 45 | R18: 2B | S18: 0.025 | AD18: 2B | AE18: 90 | AH18: 4F | AI18: 55 | AN18: 8F | AO18: 45 | AT18: 8F | AU18: 90 | AV18: 16F | AW18: 160 | AX18: SF | AY18: 140
A19: 13 | B19: MORALES TAPIA, VICENTE | C19: 2013 | D19: CHI | E19: =G19+I19+K19+M19+O19+Q19+S19+U19+W19+Y19+AA19+AC19+AE19+AG19+AI19+AK19+AM19+AO19+AQ19+AS19+AU19+AW19+AY19 -> 615 | AL19: SF | AM19: 210 | AV19: 2 | AW19: 405
A20: 14 | B20: MARTININI, LAUTARO | C20: 2013 | D20: FET | E20: =G20+I20+K20+M20+O20+Q20+S20+U20+W20+Y20+AA20+AC20+AE20+AG20+AI20+AK20+AM20+AO20+AQ20+AS20+AU20+AW20+AY20 -> 530 | H20: 1B | I20: 35 | R20: 1B | S20: 35 | AD20: 1B | AE20: 115 | AH20: 4F | AI20: 55 | AT20: SF B | AU20: 40 | AV20: 16F | AW20: 160 | AX20: 8F | AY20: 90
A21: 15 | B21: DOMINGUEZ, BENICIO | C21: 2015 | D21: MZA | E21: =G21+I21+K21+M21+O21+Q21+S21+U21+W21+Y21+AA21+AC21+AE21+AG21+AI21+AK21+AM21+AO21+AQ21+AS21+AU21+AW21+AY21 -> 485.055 | L21: 4F | M21: 0.055 | X21: 4F | Y21: 55 | AD21: 16F | AE21: 160 | AF21: 4F | AG21: 55 | AP21: 4F | AQ21: 55 | AV21: 16F | AW21: 160
A22: 16 | B22: FIORE SHIMOJI, JUAN MANUEL | C22: 2014 | D22: FET | E22: =G22+I22+K22+M22+O22+Q22+S22+U22+W22+Y22+AA22+AC22+AE22+AG22+AI22+AK22+AM22+AO22+AQ22+AS22+AU22+AW22+AY22 -> 485 | AD22: 16F | AE22: 160 | AH22: 4F | AI22: 55 | AN22: 4F | AO22: 55 | AT22: 2B | AU22: 50 | AV22: 32F | AW22: 115 | AX22: 1B | AY22: 50
A23: 17 | B23: TAKAHASHI, VICENTE | C23: 2014 | D23: FET | E23: =G23+I23+K23+M23+O23+Q23+S23+U23+W23+Y23+AA23+AC23+AE23+AG23+AI23+AK23+AM23+AO23+AQ23+AS23+AU23+AW23+AY23 -> 450 | R23: SF B | S23: 20 | AD23: 16F | AE23: 160 | AN23: 8F | AO23: 45 | AT23: SF B | AU23: 40 | AV23: 32F | AW23: 115 | AX23: 16F | AY23: 70
A24: 18 | B24: DRATEWKA, DROR | C24: 2016 | D24: FET | E24: =G24+I24+K24+M24+O24+Q24+S24+U24+W24+Y24+AA24+AC24+AE24+AG24+AI24+AK24+AM24+AO24+AQ24+AS24+AU24+AW24+AY24 -> 440 | AN24: 4F | AO24: 55 | AT24: 8F | AU24: 90 | AV24: 8F | AW24: 205 | AX24: 8F | AY24: 90
A25: 19 | B25: ROSSI VERA, FRANCO | C25: 2015 | D25: FET | E25: =G25+I25+K25+M25+O25+Q25+S25+U25+W25+Y25+AA25+AC25+AE25+AG25+AI25+AK25+AM25+AO25+AQ25+AS25+AU25+AW25+AY25 -> 410 | J25: 4F | K25: 110 | AD25: 16F | AE25: 160 | AH25: SF B | AI25: 20 | AL25: 1B | AM25: 75 | AN25: 8F | AO25: 45
A26: 20 | B26: DI PIERRI, FELIPE | C26: 2013 | D26: SFE | E26: =G26+I26+K26+M26+O26+Q26+S26+U26+W26+Y26+AA26+AC26+AE26+AG26+AI26+AK26+AM26+AO26+AQ26+AS26+AU26+AW26+AY26 -> 395 | V26: 4F | W26: 55 | AD26: 16F | AE26: 160 | AT26: 8F | AU26: 90 | AX26: 8F | AY26: 90
A27: 21 | B27: TEJEDA CERDA, VICENTE | C27: 2014 | D27: CHI | E27: =G27+I27+K27+M27+O27+Q27+S27+U27+W27+Y27+AA27+AC27+AE27+AG27+AI27+AK27+AM27+AO27+AQ27+AS27+AU27+AW27+AY27 -> 385 | AL27: 8F | AM27: 135 | AV27: 4F | AW27: 250
A28: 22 | B28: RUIZ DIAZ, LEANDRO | C28: 2014 | D28: CHA | E28: =G28+I28+K28+M28+O28+Q28+S28+U28+W28+Y28+AA28+AC28+AE28+AG28+AI28+AK28+AM28+AO28+AQ28+AS28+AU28+AW28+AY28 -> 385 | AD28: 16F | AE28: 160 | AV28: 32F | AW28: 115 | AX28: 4F | AY28: 110
A29: 23 | B29: CAPELLA, JUAN CRUZ | C29: 2013 | D29: SFE | E29: =G29+I29+K29+M29+O29+Q29+S29+U29+W29+Y29+AA29+AC29+AE29+AG29+AI29+AK29+AM29+AO29+AQ29+AS29+AU29+AW29+AY29 -> 360 | AT29: 4F | AU29: 110 | AV29: 16F | AW29: 160 | AX29: 8F | AY29: 90
A30: 24 | B30: HEREDIA, MARCOS | C30: 2017 | D30: FET | E30: =G30+I30+K30+M30+O30+Q30+S30+U30+W30+Y30+AA30+AC30+AE30+AG30+AI30+AK30+AM30+AO30+AQ30+AS30+AU30+AW30+AY30 -> 345.11 | J30: 4F | K30: 0.11 | V30: 4F | W30: 55 | AN30: SF | AO30: 70 | AT30: 4F | AU30: 110 | AX30: 4F | AY30: 110
A31: 25 | B31: TARICO, LISANDRO | C31: 2014 | D31: FET | E31: =G31+I31+K31+M31+O31+Q31+S31+U31+W31+Y31+AA31+AC31+AE31+AG31+AI31+AK31+AM31+AO31+AQ31+AS31+AU31+AW31+AY31 -> 340.02 | H31: SF B | I31: 0.02 | R31: SF B | S31: 20 | AD31: 16F | AE31: 160 | AH31: 8F | AI31: 45 | AN31: 2B | AO31: 25 | AT31: 8F | AU31: 90
A32: 26 | B32: OLIVA, BRUNO | C32: 2015 | D32: CBA | E32: =G32+I32+K32+M32+O32+Q32+S32+U32+W32+Y32+AA32+AC32+AE32+AG32+AI32+AK32+AM32+AO32+AQ32+AS32+AU32+AW32+AY32 -> 340 | V32: 1B | W32: 45 | AT32: 8F | AU32: 90 | AV32: 32F | AW32: 115 | AX32: 8F | AY32: 90
A33: 27 | B33: ARCE, LIONEL | C33: 2013 | D33: FET | E33: =G33+I33+K33+M33+O33+Q33+S33+U33+W33+Y33+AA33+AC33+AE33+AG33+AI33+AK33+AM33+AO33+AQ33+AS33+AU33+AW33+AY33 -> 335.07 | F33: 2B | G33: 0.07 | H33: SF B | I33: 20 | Z33: 2B | AA33: 70 | AH33: 4F | AI33: 55 | AN33: 4F | AO33: 55 | AV33: SF B | AW33: 45 | AX33: 8F | AY33: 90
A34: 28 | B34: ROJAS ZANINI, PIERO | C34: 2015 | D34: SEN | E34: =G34+I34+K34+M34+O34+Q34+S34+U34+W34+Y34+AA34+AC34+AE34+AG34+AI34+AK34+AM34+AO34+AQ34+AS34+AU34+AW34+AY34 -> 330 | J34: 1B | K34: 90 | N34: SF | O34: 70 | T34: 4F | U34: 55 | AV34: 32F | AW34: 115
A35: 29 | B35: KALADJIAN, CONSTANTINO | C35: 2013 | D35: FET | E35: =G35+I35+K35+M35+O35+Q35+S35+U35+W35+Y35+AA35+AC35+AE35+AG35+AI35+AK35+AM35+AO35+AQ35+AS35+AU35+AW35+AY35 -> 295.025 | H35: 2B | I35: 0.025 | R35: 8F | S35: 45 | AH35: 8F | AI35: 45 | AN35: 8F | AO35: 45 | AV35: 1B | AW35: 90 | AX35: 16F | AY35: 70
A36: 30 | B36: PARDO, LUCIANO | C36: 2014 | D36: CHI | E36: =G36+I36+K36+M36+O36+Q36+S36+U36+W36+Y36+AA36+AC36+AE36+AG36+AI36+AK36+AM36+AO36+AQ36+AS36+AU36+AW36+AY36 -> 295 | AL36: 8F | AM36: 135 | AV36: 16F | AW36: 160
A37: 31 | B37: RECUPERO, MARTINO | C37: 2013 | D37: JUJ | E37: =G37+I37+K37+M37+O37+Q37+S37+U37+W37+Y37+AA37+AC37+AE37+AG37+AI37+AK37+AM37+AO37+AQ37+AS37+AU37+AW37+AY37 -> 275 | J37: 4F | K37: 110 | N37: 4F | O37: 55 | Z37: 4F | AA37: 110
A38: 32 | B38: PETELL, FRANCISCO | C38: 2013 | D38: FET | E38: =G38+I38+K38+M38+O38+Q38+S38+U38+W38+Y38+AA38+AC38+AE38+AG38+AI38+AK38+AM38+AO38+AQ38+AS38+AU38+AW38+AY38 -> 240 | AH38: 8F | AI38: 45 | AN38: 1B | AO38: 35 | AV38: 16F | AW38: 160
A39: 33 | B39: DIAZ, BENJAMIN | C39: 2013 | D39: SCZ | E39: =G39+I39+K39+M39+O39+Q39+S39+U39+W39+Y39+AA39+AC39+AE39+AG39+AI39+AK39+AM39+AO39+AQ39+AS39+AU39+AW39+AY39 -> 230 | P39: 3 | Q39: 70 | AJ39: 8F | AK39: 45 | AV39: 32F | AW39: 115
A40: 34 | B40: CARENINI, FRANCISCO | C40: 2014 | D40: MZA | E40: =G40+I40+K40+M40+O40+Q40+S40+U40+W40+Y40+AA40+AC40+AE40+AG40+AI40+AK40+AM40+AO40+AQ40+AS40+AU40+AW40+AY40 -> 205.045 | L40: 8F | M40: 0.045 | X40: 8F | Y40: 45 | AF40: 8F | AG40: 45 | AL40: 2B | AM40: 60 | AR40: 4F | AS40: 55
A41: 35 | B41: GONZALES SOSA, PEDRO | C41: 2014 | D41: SFE | E41: =G41+I41+K41+M41+O41+Q41+S41+U41+W41+Y41+AA41+AC41+AE41+AG41+AI41+AK41+AM41+AO41+AQ41+AS41+AU41+AW41+AY41 -> 185 | AV41: 32F | AW41: 115 | AX41: 16F | AY41: 70
A42: 36 | B42: BATTAN, LISANDRO | C42: 2014 | D42: SEN | E42: =G42+I42+K42+M42+O42+Q42+S42+U42+W42+Y42+AA42+AC42+AE42+AG42+AI42+AK42+AM42+AO42+AQ42+AS42+AU42+AW42+AY42 -> 175 | J42: SF B | K42: 50 | N42: 4F | O42: 55 | AD42: SF B | AE42: 70
A43: 37 | B43: FELDMAN, IAN | C43: 2013 | D43: URU | E43: =G43+I43+K43+M43+O43+Q43+S43+U43+W43+Y43+AA43+AC43+AE43+AG43+AI43+AK43+AM43+AO43+AQ43+AS43+AU43+AW43+AY43 -> 160 | AV43: 16F | AW43: 160
A44: 38 | B44: FIGUEIREDO, MATIAS | C44: 2014 | D44: URU | E44: =G44+I44+K44+M44+O44+Q44+S44+U44+W44+Y44+AA44+AC44+AE44+AG44+AI44+AK44+AM44+AO44+AQ44+AS44+AU44+AW44+AY44 -> 160 | AV44: 16F | AW44: 160
A45: 39 | B45: ULLOA, DIEGO BENJAMIN | C45: 2014 | D45: SCZ | E45: =G45+I45+K45+M45+O45+Q45+S45+U45+W45+Y45+AA45+AC45+AE45+AG45+AI45+AK45+AM45+AO45+AQ45+AS45+AU45+AW45+AY45 -> 160 | AV45: 16F | AW45: 160
A46: 40 | B46: ESPINDOLA, DYLAN | C46: 2014 | D46: MIS | E46: =G46+I46+K46+M46+O46+Q46+S46+U46+W46+Y46+AA46+AC46+AE46+AG46+AI46+AK46+AM46+AO46+AQ46+AS46+AU46+AW46+AY46 -> 160 | AV46: 16F | AW46: 160
A47: 41 | B47: ZIMERMAN, CARMELO | C47: 2013 | D47: CBA | E47: =G47+I47+K47+M47+O47+Q47+S47+U47+W47+Y47+AA47+AC47+AE47+AG47+AI47+AK47+AM47+AO47+AQ47+AS47+AU47+AW47+AY47 -> 140 | AD47: SF B | AE47: 70 | AV47: 2B | AW47: 70
A48: 42 | B48: GIUMARRA, JUAN SEBASTIAN | C48: 2015 | D48: MZA | E48: =G48+I48+K48+M48+O48+Q48+S48+U48+W48+Y48+AA48+AC48+AE48+AG48+AI48+AK48+AM48+AO48+AQ48+AS48+AU48+AW48+AY48 -> 135 | X48: 3Z | Y48: 35 | AP48: 3Z | AQ48: 45 | AR48: 4F | AS48: 55
A49: 43 | B49: CORTEZ OYARZO, IAN SANTINO | C49: 2013 | D49: LIB | E49: =G49+I49+K49+M49+O49+Q49+S49+U49+W49+Y49+AA49+AC49+AE49+AG49+AI49+AK49+AM49+AO49+AQ49+AS49+AU49+AW49+AY49 -> 115 | AV49: 32F | AW49: 115
A50: 44 | B50: IRURZUN NAVARRO, MATIAS IÑAKI | C50: 2013 | D50: SFE | E50: =G50+I50+K50+M50+O50+Q50+S50+U50+W50+Y50+AA50+AC50+AE50+AG50+AI50+AK50+AM50+AO50+AQ50+AS50+AU50+AW50+AY50 -> 115 | AV50: 32F | AW50: 115
A51: 45 | B51: LUCERO, SANTIAGO | C51: 2013 | D51: MZA | E51: =G51+I51+K51+M51+O51+Q51+S51+U51+W51+Y51+AA51+AC51+AE51+AG51+AI51+AK51+AM51+AO51+AQ51+AS51+AU51+AW51+AY51 -> 115 | X51: 4Z | Y51: 35 | AF51: 3Z | AG51: 35 | AL51: SF B | AM51: 45
A52: 46 | B52: NOTARNICOLA, FELIPE | C52: 2016 | D52: SFE | E52: =G52+I52+K52+M52+O52+Q52+S52+U52+W52+Y52+AA52+AC52+AE52+AG52+AI52+AK52+AM52+AO52+AQ52+AS52+AU52+AW52+AY52 -> 115 | V52: SF B | W52: 25 | AH52: SF B | AI52: 20 | AX52: 16F | AY52: 70
A53: 47 | B53: MURIEL, ISMAEL | C53: 2016 | D53: PER | E53: =G53+I53+K53+M53+O53+Q53+S53+U53+W53+Y53+AA53+AC53+AE53+AG53+AI53+AK53+AM53+AO53+AQ53+AS53+AU53+AW53+AY53 -> 110 | AX53: 4F | AY53: 110
A54: 48 | B54: TORRES, LAUTARO | C54: 2013 | D54: SCZ | E54: =G54+I54+K54+M54+O54+Q54+S54+U54+W54+Y54+AA54+AC54+AE54+AG54+AI54+AK54+AM54+AO54+AQ54+AS54+AU54+AW54+AY54 -> 110 | AJ54: 1 | AK54: 110
A55: 49 | B55: FUENTES, JASSIEL | C55: 2014 | D55: PER | E55: =G55+I55+K55+M55+O55+Q55+S55+U55+W55+Y55+AA55+AC55+AE55+AG55+AI55+AK55+AM55+AO55+AQ55+AS55+AU55+AW55+AY55 -> 90 | AX55: 8F | AY55: 90
A56: 50 | B56: CARRIBERO, MATEO | C56: 2013 | D56: MZA | E56: =G56+I56+K56+M56+O56+Q56+S56+U56+W56+Y56+AA56+AC56+AE56+AG56+AI56+AK56+AM56+AO56+AQ56+AS56+AU56+AW56+AY56 -> 90 | L56: SF B | M56: 20 | X56: 3Z | Y56: 35 | AF56: 3Z | AG56: 35
A57: 51 | B57: FLORES, AUGUSTO | C57: 2013 | D57: MZA | E57: =G57+I57+K57+M57+O57+Q57+S57+U57+W57+Y57+AA57+AC57+AE57+AG57+AI57+AK57+AM57+AO57+AQ57+AS57+AU57+AW57+AY57 -> 90 | X57: 8F | Y57: 45 | AF57: 8F | AG57: 45
A58: 52 | B58: FERNANDEZ THEILLET, SANTINO | C58: 2013 | D58: FET | E58: =G58+I58+K58+M58+O58+Q58+S58+U58+W58+Y58+AA58+AC58+AE58+AG58+AI58+AK58+AM58+AO58+AQ58+AS58+AU58+AW58+AY58 -> 90 | AH58: 8F | AI58: 45 | AN58: 8F | AO58: 45
A59: 53 | B59: ESTRADA, BAUTISTA | C59: 2013 | D59: MZA | E59: =G59+I59+K59+M59+O59+Q59+S59+U59+W59+Y59+AA59+AC59+AE59+AG59+AI59+AK59+AM59+AO59+AQ59+AS59+AU59+AW59+AY59 -> 80 | X59: 3Z | Y59: 35 | AP59: 3Z | AQ59: 45
A60: 54 | B60: BAROCCHI, LUCA | C60: 2014 | D60: MZA | E60: =G60+I60+K60+M60+O60+Q60+S60+U60+W60+Y60+AA60+AC60+AE60+AG60+AI60+AK60+AM60+AO60+AQ60+AS60+AU60+AW60+AY60 -> 80 | X60: 3Z | Y60: 35 | AP60: 4Z | AQ60: 45
A61: 55 | B61: TAGLIAVINI RAMPULLA, RENZO | C61: 2013 | D61: SEN | E61: =G61+I61+K61+M61+O61+Q61+S61+U61+W61+Y61+AA61+AC61+AE61+AG61+AI61+AK61+AM61+AO61+AQ61+AS61+AU61+AW61+AY61 -> 75 | J61: SF B | K61: 50 | T61: SF B | U61: 25
A62: 56 | B62: FERNANDEZ, ENZO | C62: 2017 | D62: FET | E62: =G62+I62+K62+M62+O62+Q62+S62+U62+W62+Y62+AA62+AC62+AE62+AG62+AI62+AK62+AM62+AO62+AQ62+AS62+AU62+AW62+AY62 -> 75 | V62: 2B | W62: 35 | AX62: 2B | AY62: 40
A63: 57 | B63: MORENO, MATEO | C63: 2016 | D63: MZA | E63: =G63+I63+K63+M63+O63+Q63+S63+U63+W63+Y63+AA63+AC63+AE63+AG63+AI63+AK63+AM63+AO63+AQ63+AS63+AU63+AW63+AY63 -> 70 | AX63: 16F | AY63: 70
A64: 58 | B64: RUBIN MINETTI, GALO | C64: 2017 | D64: FET | E64: =G64+I64+K64+M64+O64+Q64+S64+U64+W64+Y64+AA64+AC64+AE64+AG64+AI64+AK64+AM64+AO64+AQ64+AS64+AU64+AW64+AY64 -> 70 | AX64: 16F | AY64: 70
A65: 59 | B65: VERGARA, SANTIAGO | C65: 2013 | D65: JUJ | E65: =G65+I65+K65+M65+O65+Q65+S65+U65+W65+Y65+AA65+AC65+AE65+AG65+AI65+AK65+AM65+AO65+AQ65+AS65+AU65+AW65+AY65 -> 70 | T65: SF | U65: 70
A66: 60 | B66: BALLAY, GAEL | C66: 2013 | D66: JUJ | E66: =G66+I66+K66+M66+O66+Q66+S66+U66+W66+Y66+AA66+AC66+AE66+AG66+AI66+AK66+AM66+AO66+AQ66+AS66+AU66+AW66+AY66 -> 55 | N66: 4F | O66: 55
A67: 61 | B67: SOLORZANO, FEDERICO | C67: 2013 | D67: JUJ | E67: =G67+I67+K67+M67+O67+Q67+S67+U67+W67+Y67+AA67+AC67+AE67+AG67+AI67+AK67+AM67+AO67+AQ67+AS67+AU67+AW67+AY67 -> 55 | T67: 4F | U67: 55
A68: 62 | B68: TUFIK, ATHUR | C68: 2013 | D68: MZA | E68: =G68+I68+K68+M68+O68+Q68+S68+U68+W68+Y68+AA68+AC68+AE68+AG68+AI68+AK68+AM68+AO68+AQ68+AS68+AU68+AW68+AY68 -> 55 | AP68: 4F | AQ68: 55
A69: 63 | B69: MORALES, MATEO | C69: 2013 | D69: RNG | E69: =G69+I69+K69+M69+O69+Q69+S69+U69+W69+Y69+AA69+AC69+AE69+AG69+AI69+AK69+AM69+AO69+AQ69+AS69+AU69+AW69+AY69 -> 55 | AR69: 4F | AS69: 55
A70: 64 | B70: MORINO, PEDRO | C70: 2013 | D70: FET | E70: =G70+I70+K70+M70+O70+Q70+S70+U70+W70+Y70+AA70+AC70+AE70+AG70+AI70+AK70+AM70+AO70+AQ70+AS70+AU70+AW70+AY70 -> 55 | AN70: 4F | AO70: 55
A71: 65 | B71: HIGA, BENJAMIN RYU | C71: 2013 | D71: FET | E71: =G71+I71+K71+M71+O71+Q71+S71+U71+W71+Y71+AA71+AC71+AE71+AG71+AI71+AK71+AM71+AO71+AQ71+AS71+AU71+AW71+AY71 -> 50 | F71: SF B | G71: 50
A72: 66 | B72: PETELL, RAFAEL | C72: 2015 | D72: FET | E72: =G72+I72+K72+M72+O72+Q72+S72+U72+W72+Y72+AA72+AC72+AE72+AG72+AI72+AK72+AM72+AO72+AQ72+AS72+AU72+AW72+AY72 -> 50 | AN72: SF B | AO72: 20 | AX72: SF B | AY72: 30
A73: 67 | B73: POPOVSKY, RAFAEL | C73: 2013 | D73: FET | E73: =G73+I73+K73+M73+O73+Q73+S73+U73+W73+Y73+AA73+AC73+AE73+AG73+AI73+AK73+AM73+AO73+AQ73+AS73+AU73+AW73+AY73 -> 45 | R73: 8F | S73: 45
A74: 68 | B74: FUERTES BUBIEN, FEDERICO | C74: 2013 | D74: FET | E74: =G74+I74+K74+M74+O74+Q74+S74+U74+W74+Y74+AA74+AC74+AE74+AG74+AI74+AK74+AM74+AO74+AQ74+AS74+AU74+AW74+AY74 -> 45 | AN74: 8F | AO74: 45
A75: 69 | B75: RODRIGUEZ, FACUNDO | C75: 2013 | D75: FET | E75: =G75+I75+K75+M75+O75+Q75+S75+U75+W75+Y75+AA75+AC75+AE75+AG75+AI75+AK75+AM75+AO75+AQ75+AS75+AU75+AW75+AY75 -> 45 | AH75: 8F | AI75: 45
A76: 70 | B76: ITALIANO, DEMIAN | C76: 2014 | D76: MZA | E76: =G76+I76+K76+M76+O76+Q76+S76+U76+W76+Y76+AA76+AC76+AE76+AG76+AI76+AK76+AM76+AO76+AQ76+AS76+AU76+AW76+AY76 -> 45 | AP76: 3Z | AQ76: 45
A77: 71 | B77: GONZALEZ, FRANCISCO | C77: 2014 | D77: RNG | E77: =G77+I77+K77+M77+O77+Q77+S77+U77+W77+Y77+AA77+AC77+AE77+AG77+AI77+AK77+AM77+AO77+AQ77+AS77+AU77+AW77+AY77 -> 45 | AR77: 1B | AS77: 45
A78: 72 | B78: BELTRAMI, FELIPE | C78: 2014 | D78: TDF | E78: =G78+I78+K78+M78+O78+Q78+S78+U78+W78+Y78+AA78+AC78+AE78+AG78+AI78+AK78+AM78+AO78+AQ78+AS78+AU78+AW78+AY78 -> 45 | AJ78: 8F | AK78: 45
A79: 73 | B79: BOBEDA, MATEO | C79: 2014 | D79: FET | E79: =G79+I79+K79+M79+O79+Q79+S79+U79+W79+Y79+AA79+AC79+AE79+AG79+AI79+AK79+AM79+AO79+AQ79+AS79+AU79+AW79+AY79 -> 45 | AH79: 8F | AI79: 45
A80: 74 | B80: AREPOCO, THIAGO | C80: 2014 | D80: FET | E80: =G80+I80+K80+M80+O80+Q80+S80+U80+W80+Y80+AA80+AC80+AE80+AG80+AI80+AK80+AM80+AO80+AQ80+AS80+AU80+AW80+AY80 -> 45 | AH80: 2B | AI80: 25 | AN80: SF B | AO80: 20
A81: 75 | B81: SANTANA, GAEL ELOY | C81: 2015 | D81: LIB | E81: =G81+I81+K81+M81+O81+Q81+S81+U81+W81+Y81+AA81+AC81+AE81+AG81+AI81+AK81+AM81+AO81+AQ81+AS81+AU81+AW81+AY81 -> 45 | AV81: SF B | AW81: 45
A82: 76 | B82: FARFAN, SANTINO | C82: 2013 | D82: SAL | E82: =G82+I82+K82+M82+O82+Q82+S82+U82+W82+Y82+AA82+AC82+AE82+AG82+AI82+AK82+AM82+AO82+AQ82+AS82+AU82+AW82+AY82 -> 35 | T82: 2B | U82: 35
A83: 77 | B83: VIDELA, FRANCISCO | C83: 2013 | D83: MZA | E83: =G83+I83+K83+M83+O83+Q83+S83+U83+W83+Y83+AA83+AC83+AE83+AG83+AI83+AK83+AM83+AO83+AQ83+AS83+AU83+AW83+AY83 -> 35 | X83: 3Z | Y83: 35
A84: 78 | B84: HUENCHULLANCA, ISAIAS | C84: 2014 | D84: CHI | E84: =G84+I84+K84+M84+O84+Q84+S84+U84+W84+Y84+AA84+AC84+AE84+AG84+AI84+AK84+AM84+AO84+AQ84+AS84+AU84+AW84+AY84 -> 35 | AJ84: 3Z | AK84: 35
A85: 79 | B85: ETCHEVERRY, TOMAS | C85: 2014 | D85: FET | E85: =G85+I85+K85+M85+O85+Q85+S85+U85+W85+Y85+AA85+AC85+AE85+AG85+AI85+AK85+AM85+AO85+AQ85+AS85+AU85+AW85+AY85 -> 35 | AH85: 1B | AI85: 35
A86: 80 | B86: MIRANDA, AQUILES | C86: 2015 | D86: SCZ | E86: =G86+I86+K86+M86+O86+Q86+S86+U86+W86+Y86+AA86+AC86+AE86+AG86+AI86+AK86+AM86+AO86+AQ86+AS86+AU86+AW86+AY86 -> 35 | AJ86: 4Z | AK86: 35
A87: 81 | B87: FERREYRA, FRANCISCO | C87: 2015 | D87: MZA | E87: =G87+I87+K87+M87+O87+Q87+S87+U87+W87+Y87+AA87+AC87+AE87+AG87+AI87+AK87+AM87+AO87+AQ87+AS87+AU87+AW87+AY87 -> 35 | AF87: 3Z | AG87: 35
A88: 82 | B88: BAROCCHI, FILIPPO | C88: 2016 | D88: MZA | E88: =G88+I88+K88+M88+O88+Q88+S88+U88+W88+Y88+AA88+AC88+AE88+AG88+AI88+AK88+AM88+AO88+AQ88+AS88+AU88+AW88+AY88 -> 35 | AF88: 3Z | AG88: 35
A89: 83 | B89: COLLATTI, SANTINO | C89: 2014 | D89: SFE | E89: =G89+I89+K89+M89+O89+Q89+S89+U89+W89+Y89+AA89+AC89+AE89+AG89+AI89+AK89+AM89+AO89+AQ89+AS89+AU89+AW89+AY89 -> 30 | AX89: SF B | AY89: 30
A90: 84 | B90: CACERES, FELIPE | C90: 2013 | D90: RNG | E90: =G90+I90+K90+M90+O90+Q90+S90+U90+W90+Y90+AA90+AC90+AE90+AG90+AI90+AK90+AM90+AO90+AQ90+AS90+AU90+AW90+AY90 -> 25 | AR90: SF B | AS90: 25
A91: 85 | B91: CANDIA, FACUNDO | C91: 2018 | D91: RNG | E91: =G91+I91+K91+M91+O91+Q91+S91+U91+W91+Y91+AA91+AC91+AE91+AG91+AI91+AK91+AM91+AO91+AQ91+AS91+AU91+AW91+AY91 -> 25 | AR91: SF B | AS91: 25

Sheet IC U15
B1: INDIVIDUAL CABALLEROS U15 | F1: RANKING NACIONAL | TEMPORADA 2026
F2: Challenger | H2: Regional Abierto | J2: Challenger | L2: Regional Abierto | N2: Regional Abierto | P2: Regional Abierto | R2: Regional Abierto | T2: Regional Abierto | V2: Regional Abierto | X2: Regional Abierto | Z2: Challenger | AB2: Regional Abierto | AD2: Nacional | AF2: Regional Abierto | AH2: Regional Abierto | AJ2: Regional Abierto | AL2: Grand Prix | AN2: Regional Abierto | AP2: Regional Abierto | AR2: Regional Abierto | AT2: Challenger | AV2: Abierto de la Rep. | AX2: Challenger
F3: CHAPADMALAL | H3: FETEMBA | J3: SANT. DEL ESTERO | L3: MENDOZA | N3: SALTA | P3: TIERRA DEL FUEGO | R3: FETEMBA | T3: JUJUY | V3: SANTA FE | X3: MENDOZA | Z3: SALTA | AB3: NEUQUÉN | AD3: SANTA FE | AF3: MENDOZA | AH3: FETEMBA | AJ3: SANTA CRUZ | AL3: MENDOZA | AN3: FETEMBA | AP3: MENDOZA | AR3: RIO NEGRO | AT3: ROSARIO | AV3: BUENOS AIRES | AX3: ROSARIO
F4: 2 A 4 MAR 2025 | H4: 29 Y 30 MAR 2025 | J4: 11 A 13 ABR 2025 | L4: 26 Y 27 ABR 2025 | N4: 26 Y 27 ABR 2025 | P4: 04 MAY 2025 | R4: 10 Y 11 MAY 2025 | T4: 24 Y 25 MAY 2025 | V4: 31 MAY Y 1 JUN 2025 | X4: 7 Y 8 JUN 2025 | Z4: 14 A 16 JUN 2025 | AB4: 21 Y 22 JUN 2025 | AD4: 9 A 13 JUL 2025 | AF4: 9 Y 10 AGO 2025 | AH4: 15 AGO 2025 | AJ4: 15 A 17 AGO 2025 | AL4: 5 A 7 SEP 2025 | AN4: 27 Y 28 SEP 2025 | AP4: 4 Y 5 OCT 2025 | AR4: 11 Y 12 OCT 2025 | AT4: 17 A 19 OCT 2025 | AV4: 21 A 24 NOV 2025 | AX4: 15 A 17 FEB 2026
A5: POS. | B5: ATLETA | C5: CAT. | D5: ASOC. | E5: TOTAL | F5: Pos. | G5: Ptos. | H5: Pos. | I5: Ptos. | J5: Pos. | K5: Ptos. | L5: Pos. | M5: Ptos. | N5: Pos. | O5: Ptos. | P5: Pos. | Q5: Ptos. | R5: Pos. | S5: Ptos. | T5: Pos. | U5: Ptos. | V5: Pos. | W5: Ptos. | X5: Pos. | Y5: Ptos. | Z5: Pos. | AA5: Ptos. | AB5: Pos. | AC5: Ptos. | AD5: Pos. | AE5: Ptos. | AF5: Pos. | AG5: Ptos. | AH5: Pos. | AI5: Ptos. | AJ5: Pos. | AK5: Ptos. | AL5: Pos. | AM5: Ptos. | AN5: Pos. | AO5: Ptos. | AP5: Pos. | AQ5: Ptos. | AR5: Pos. | AS5: Ptos. | AT5: Pos. | AU5: Ptos. | AV5: Pos. | AW5: Ptos. | AX5: Pos. | AY5: Ptos.
A7: 1 | B7: DI GIROLAMO, BRUNO | C7: 2012 | D7: FET | E7: =G7+I7+K7+M7+O7+Q7+S7+U7+W7+Y7+AA7+AC7+AE7+AG7+AI7+AK7+AM7+AO7+AQ7+AS7+AU7+AW7+AY7 -> 1556.43 | F7: 1 | G7: 220 | H7: Prom. | I7: 81.25 | R7: 4F | S7: 55 | AD7: 8F | AE7: 205 | AL7: SF | AM7: 210 | AN7: 1 | AO7: 110 | AT7: 2 | AU7: 0.18 | AV7: 1 | AW7: 495 | AX7: 2 | AY7: 180
A8: 2 | B8: AXON, JUAN CRUZ | C8: 2011 | D8: CHA | E8: =G8+I8+K8+M8+O8+Q8+S8+U8+W8+Y8+AA8+AC8+AE8+AG8+AI8+AK8+AM8+AO8+AQ8+AS8+AU8+AW8+AY8 -> 1270.14 | R8: 1 | S8: 110 | Z8: 1 | AA8: 220 | AD8: SF | AE8: 315 | AT8: 1 | AU8: 220 | AV8: 2 | AW8: 405 | AX8: SF | AY8: 0.14
A9: 3 | B9: MARCIAL, LUCA | C9: 2013 | D9: SFE | E9: =G9+I9+K9+M9+O9+Q9+S9+U9+W9+Y9+AA9+AC9+AE9+AG9+AI9+AK9+AM9+AO9+AQ9+AS9+AU9+AW9+AY9 -> 1226.44 | F9: Prom. | G9: 0.05 | H9: Prom. | I9: 13.75 | V9: 1 | W9: 110 | Z9: SF | AA9: 0.14 | AD9: 8F | AE9: 205 | AL9: SF | AM9: 210 | AT9: Prom. | AU9: 152.5 | AV9: SF | AW9: 315 | AX9: 1 | AY9: 220
A10: 4 | B10: VILLEGAS, VALENTINO ARIEL | C10: 2013 | D10: MZA | E10: =G10+I10+K10+M10+O10+Q10+S10+U10+W10+Y10+AA10+AC10+AE10+AG10+AI10+AK10+AM10+AO10+AQ10+AS10+AU10+AW10+AY10 -> 1205 | X10: SF | Y10: 70 | Z10: 4F | AA10: 110 | AD10: 4F | AE10: 250 | AF10: 2 | AG10: 90 | AL10: 2 | AM10: 270 | AP10: SF | AQ10: 70 | AT10: SF | AU10: 140 | AV10: 8F | AW10: 205
A11: 5 | B11: PEDERNERA, LORENZO | C11: 2011 | D11: MZA | E11: =G11+I11+K11+M11+O11+Q11+S11+U11+W11+Y11+AA11+AC11+AE11+AG11+AI11+AK11+AM11+AO11+AQ11+AS11+AU11+AW11+AY11 -> 1130.07 | L11: SF | M11: 0.07 | X11: 1 | Y11: 110 | Z11: 4F | AA11: 110 | AD11: 8F | AE11: 205 | AF11: 1 | AG11: 110 | AL11: 4F | AM11: 165 | AP11: 2 | AQ11: 90 | AT11: 8F | AU11: 90 | AV11: 4F | AW11: 250
A12: 6 | B12: RUBIN MINETTI, DANTE | C12: 2013 | D12: FET | E12: =G12+I12+K12+M12+O12+Q12+S12+U12+W12+Y12+AA12+AC12+AE12+AG12+AI12+AK12+AM12+AO12+AQ12+AS12+AU12+AW12+AY12 -> 925.165 | F12: SF | G12: 140 | H12: 4F | I12: 0.055 | R12: 4F | S12: 55 | AD12: 8F | AE12: 205 | AH12: 1 | AI12: 110 | AN12: SF | AO12: 70 | AT12: 4F | AU12: 0.11 | AV12: 8F | AW12: 205 | AX12: SF | AY12: 140
A13: 7 | B13: URFEIG, FRANCISCO | C13: 2012 | D13: FET | E13: =G13+I13+K13+M13+O13+Q13+S13+U13+W13+Y13+AA13+AC13+AE13+AG13+AI13+AK13+AM13+AO13+AQ13+AS13+AU13+AW13+AY13 -> 895.265 | F13: 4F | G13: 0.11 | H13: 8F | I13: 0.045 | J13: 4F | K13: 0.11 | R13: 8F | S13: 45 | AD13: 16F | AE13: 160 | AH13: 2 | AI13: 90 | AL13: 16F | AM13: 105 | AN13: SF | AO13: 70 | AT13: 4F | AU13: 110 | AV13: 8F | AW13: 205 | AX13: 4F | AY13: 110
A14: 8 | B14: VARELA, FEDERICO | C14: 2013 | D14: SAL | E14: =G14+I14+K14+M14+O14+Q14+S14+U14+W14+Y14+AA14+AC14+AE14+AG14+AI14+AK14+AM14+AO14+AQ14+AS14+AU14+AW14+AY14 -> 855.09 | J14: SF | K14: 140 | N14: SF | O14: 70 | T14: 4F | U14: 55 | Z14: 2 | AA14: 180 | AD14: 8F | AE14: 205 | AV14: 8F | AW14: 205 | AX14: 8F | AY14: 0.09
A15: 9 | B15: DOMINGUEZ, FELIPE | C15: 2012 | D15: MZA | E15: =G15+I15+K15+M15+O15+Q15+S15+U15+W15+Y15+AA15+AC15+AE15+AG15+AI15+AK15+AM15+AO15+AQ15+AS15+AU15+AW15+AY15 -> 855.09 | L15: 4F | M15: 55 | R15: 8F | S15: 0.045 | X15: SF | Y15: 70 | Z15: SF B | AA15: 40 | AD15: 8F | AE15: 205 | AF15: 4F | AG15: 55 | AL15: 8F | AM15: 135 | AP15: 3Z | AQ15: 0.045 | AT15: 8F | AU15: 90 | AV15: 8F | AW15: 205
A16: 10 | B16: OCAMPO, BRAIAN | C16: 2011 | D16: SAL | E16: =G16+I16+K16+M16+O16+Q16+S16+U16+W16+Y16+AA16+AC16+AE16+AG16+AI16+AK16+AM16+AO16+AQ16+AS16+AU16+AW16+AY16 -> 850 | J16: 2 | K16: 180 | N16: 1 | O16: 110 | T16: 4F | U16: 55 | Z16: SF | AA16: 140 | AD16: 8F | AE16: 205 | AV16: 16F | AW16: 160
A17: 11 | B17: PIRUZI, GIANNI | C17: 2014 | D17: MZA | E17: =G17+I17+K17+M17+O17+Q17+S17+U17+W17+Y17+AA17+AC17+AE17+AG17+AI17+AK17+AM17+AO17+AQ17+AS17+AU17+AW17+AY17 -> 840.18 | L17: 4F | M17: 55 | X17: 8F | Y17: 0.045 | Z17: 4F | AA17: 110 | AF17: SF | AG17: 70 | AL17: 8F | AM17: 135 | AP17: 3Z | AQ17: 0.045 | AR17: 1 | AS17: 110 | AT17: 8F | AU17: 0.09 | AV17: 4F | AW17: 250 | AX17: 4F | AY17: 110
A18: 12 | B18: SPINELLI, THIAGO | C18: 2012 | D18: FET | E18: =G18+I18+K18+M18+O18+Q18+S18+U18+W18+Y18+AA18+AC18+AE18+AG18+AI18+AK18+AM18+AO18+AQ18+AS18+AU18+AW18+AY18 -> 835.11 | H18: 8F | I18: 45 | J18: 4F | K18: 0.11 | R18: 8F | S18: 45 | V18: SF | W18: 70 | AD18: 16F | AE18: 160 | AL18: 8F | AM18: 135 | AT18: 4F | AU18: 110 | AV18: 16F | AW18: 160 | AX18: 4F | AY18: 110
A19: 13 | B19: SATO, LEONARDO EZEQUIEL | C19: 2011 | D19: FET | E19: =G19+I19+K19+M19+O19+Q19+S19+U19+W19+Y19+AA19+AC19+AE19+AG19+AI19+AK19+AM19+AO19+AQ19+AS19+AU19+AW19+AY19 -> 795.29 | F19: 4F | G19: 0.11 | H19: SF | I19: 0.07 | J19: 4F | K19: 0.11 | V19: 2 | W19: 90 | Z19: 4F | AA19: 110 | AD19: 16F | AE19: 160 | AH19: SF | AI19: 70 | AL19: 4F | AM19: 165 | AN19: 2 | AO19: 90 | AT19: 4F | AU19: 110
A20: 14 | B20: PASTERI, GINO | C20: 2012 | D20: SFE | E20: =G20+I20+K20+M20+O20+Q20+S20+U20+W20+Y20+AA20+AC20+AE20+AG20+AI20+AK20+AM20+AO20+AQ20+AS20+AU20+AW20+AY20 -> 745.09 | F20: 8F | G20: 0.09 | V20: 1B | W20: 45 | AD20: 16F | AE20: 160 | AH20: 4F | AI20: 55 | AL20: 8F | AM20: 135 | AN20: 4F | AO20: 55 | AT20: 8F | AU20: 90 | AV20: 32F | AW20: 115 | AX20: 8F | AY20: 90
A21: 15 | B21: MOLINA, JUAN GREGORIO | C21: 2012 | D21: SEN | E21: =G21+I21+K21+M21+O21+Q21+S21+U21+W21+Y21+AA21+AC21+AE21+AG21+AI21+AK21+AM21+AO21+AQ21+AS21+AU21+AW21+AY21 -> 740 | H21: 8F | I21: 45 | J21: 2B | K21: 50 | N21: 4F | O21: 55 | T21: 8F | U21: 45 | AD21: 16F | AE21: 160 | AL21: 8F | AM21: 135 | AV21: 16F | AW21: 160 | AX21: 8F | AY21: 90
A22: 16 | B22: ROMEGO, ERNESTO | C22: 2013 | D22: FET | E22: =G22+I22+K22+M22+O22+Q22+S22+U22+W22+Y22+AA22+AC22+AE22+AG22+AI22+AK22+AM22+AO22+AQ22+AS22+AU22+AW22+AY22 -> 705.07 | F22: 8F | G22: 90 | H22: 8F | I22: 45 | AD22: 16F | AE22: 160 | AH22: 4F | AI22: 55 | AL22: 16F | AM22: 105 | AN22: 8F | AO22: 45 | AT22: 1B | AU22: 0.07 | AV22: 32F | AW22: 115 | AX22: 8F | AY22: 90
A23: 17 | B23: MULLER, LUCA | C23: 2013 | D23: FET | E23: =G23+I23+K23+M23+O23+Q23+S23+U23+W23+Y23+AA23+AC23+AE23+AG23+AI23+AK23+AM23+AO23+AQ23+AS23+AU23+AW23+AY23 -> 670.035 | F23: 1B | G23: 70 | H23: 4F | I23: 55 | R23: 16F | S23: 0.035 | AD23: 16F | AE23: 160 | AH23: 8F | AI23: 45 | AL23: 16F | AM23: 105 | AN23: 8F | AO23: 45 | AV23: 16F | AW23: 160 | AX23: SF B | AY23: 30
A24: 18 | B24: MASSARE, DANTE | C24: 2012 | D24: FET | E24: =G24+I24+K24+M24+O24+Q24+S24+U24+W24+Y24+AA24+AC24+AE24+AG24+AI24+AK24+AM24+AO24+AQ24+AS24+AU24+AW24+AY24 -> 635.045 | F24: 4F | G24: 110 | H24: 4F | I24: 55 | R24: 8F | S24: 0.045 | AH24: SF | AI24: 70 | AL24: 16F | AM24: 105 | AN24: 8F | AO24: 45 | AV24: 16F | AW24: 160 | AX24: 8F | AY24: 90
A25: 19 | B25: ALTO, JULIAN | C25: 2014 | D25: MZA | E25: =G25+I25+K25+M25+O25+Q25+S25+U25+W25+Y25+AA25+AC25+AE25+AG25+AI25+AK25+AM25+AO25+AQ25+AS25+AU25+AW25+AY25 -> 630.055 | L25: 4F | M25: 0.055 | X25: 2 | Y25: 90 | AF25: SF | AG25: 70 | AL25: 4F | AM25: 165 | AP25: 4F | AQ25: 55 | AV25: 4F | AW25: 250
A26: 20 | B26: PEÑALVES, LINO | C26: 2012 | D26: SFE | E26: =G26+I26+K26+M26+O26+Q26+S26+U26+W26+Y26+AA26+AC26+AE26+AG26+AI26+AK26+AM26+AO26+AQ26+AS26+AU26+AW26+AY26 -> 615.015 | F26: 4F | G26: 110 | H26: 8F | I26: 45 | R26: SF B | S26: 0.015 | AD26: 32F | AE26: 115 | AH26: 8F | AI26: 45 | AL26: 2B | AM26: 60 | AN26: 4F | AO26: 55 | AV26: 32F | AW26: 115 | AX26: 16F | AY26: 70
A27: 21 | B27: ORQUERA, JEREMIAS | C27: 2012 | D27: MZA | E27: =G27+I27+K27+M27+O27+Q27+S27+U27+W27+Y27+AA27+AC27+AE27+AG27+AI27+AK27+AM27+AO27+AQ27+AS27+AU27+AW27+AY27 -> 590.1 | L27: SF | M27: 70 | R27: 8F | S27: 0.045 | X27: 4F | Y27: 0.055 | AD27: 16F | AE27: 160 | AF27: 4F | AG27: 55 | AL27: SF B | AM27: 45 | AP27: 4F | AQ27: 55 | AT27: 8F | AU27: 90 | AV27: 32F | AW27: 115
A28: 22 | B28: LINARES, JERONIMO | C28: 2013 | D28: SFE | E28: =G28+I28+K28+M28+O28+Q28+S28+U28+W28+Y28+AA28+AC28+AE28+AG28+AI28+AK28+AM28+AO28+AQ28+AS28+AU28+AW28+AY28 -> 590.065 | H28: 8F | I28: 0.045 | R28: 2B | S28: 0.02 | V28: 4F | W28: 55 | AH28: 8F | AI28: 45 | AL28: 16F | AM28: 105 | AN28: 8F | AO28: 45 | AT28: 8F | AU28: 90 | AV28: 16F | AW28: 160 | AX28: 8F | AY28: 90
A29: 23 | B29: MASETRO, CIRO | C29: 2012 | D29: SFE | E29: =G29+I29+K29+M29+O29+Q29+S29+U29+W29+Y29+AA29+AC29+AE29+AG29+AI29+AK29+AM29+AO29+AQ29+AS29+AU29+AW29+AY29 -> 585.075 | F29: 8F | G29: 90 | H29: 2B | I29: 0.025 | R29: 1B | S29: 25 | V29: 4F | W29: 55 | AD29: 16F | AE29: 160 | AH29: 8F | AI29: 45 | AT29: 2B | AU29: 0.05 | AV29: 16F | AW29: 160 | AX29: 1B | AY29: 50
A30: 24 | B30: TAGLIAVINI ARAGON, BENICIO | C30: 2012 | D30: SEN | E30: =G30+I30+K30+M30+O30+Q30+S30+U30+W30+Y30+AA30+AC30+AE30+AG30+AI30+AK30+AM30+AO30+AQ30+AS30+AU30+AW30+AY30 -> 535 | J30: 8F | K30: 90 | N30: 8F | O30: 45 | Z30: 2B | AA30: 50 | AD30: 16F | AE30: 160 | AL30: 1B | AM30: 75 | AV30: 32F | AW30: 115
A31: 25 | B31: ALTO, LUCAS | C31: 2014 | D31: MZA | E31: =G31+I31+K31+M31+O31+Q31+S31+U31+W31+Y31+AA31+AC31+AE31+AG31+AI31+AK31+AM31+AO31+AQ31+AS31+AU31+AW31+AY31 -> 530 | L31: 1 | M31: 110 | X31: 4F | Y31: 55 | AL31: 8F | AM31: 135 | AP31: SF | AQ31: 70 | AV31: 16F | AW31: 160
A32: 26 | B32: MARTININI, LAUTARO | C32: 2013 | D32: FET | E32: =G32+I32+K32+M32+O32+Q32+S32+U32+W32+Y32+AA32+AC32+AE32+AG32+AI32+AK32+AM32+AO32+AQ32+AS32+AU32+AW32+AY32 -> 470 | H32: SF B | I32: 20 | AD32: 16F | AE32: 160 | AH32: 8F | AI32: 45 | AT32: SF B | AU32: 40 | AV32: 32F | AW32: 115 | AX32: 8F | AY32: 90
A33: 27 | B33: BENITEZ, EMANUEL JULIAN | C33: 2011 | D33: JUJ | E33: =G33+I33+K33+M33+O33+Q33+S33+U33+W33+Y33+AA33+AC33+AE33+AG33+AI33+AK33+AM33+AO33+AQ33+AS33+AU33+AW33+AY33 -> 460 | J33: SF | K33: 140 | N33: SF | O33: 70 | R33: 8F | S33: 45 | Z33: 8F | AA33: 90 | AD33: 32F | AE33: 115
A34: 28 | B34: MARAGNA, GASTON | C34: 2011 | D34: MZA | E34: =G34+I34+K34+M34+O34+Q34+S34+U34+W34+Y34+AA34+AC34+AE34+AG34+AI34+AK34+AM34+AO34+AQ34+AS34+AU34+AW34+AY34 -> 435 | AL34: 8F | AM34: 135 | AP34: 3Z | AQ34: 45 | AT34: SF | AU34: 140 | AV34: 32F | AW34: 115
A35: 29 | B35: ACUÑA VELASQUEZ, AGUSTIN | C35: 2012 | D35: CHI | E35: =G35+I35+K35+M35+O35+Q35+S35+U35+W35+Y35+AA35+AC35+AE35+AG35+AI35+AK35+AM35+AO35+AQ35+AS35+AU35+AW35+AY35 -> 385 | AL35: 8F | AM35: 135 | AV35: 4F | AW35: 250
A36: 30 | B36: MORALES TAPIA, VICENTE | C36: 2013 | D36: CHI | E36: =G36+I36+K36+M36+O36+Q36+S36+U36+W36+Y36+AA36+AC36+AE36+AG36+AI36+AK36+AM36+AO36+AQ36+AS36+AU36+AW36+AY36 -> 370 | AL36: 4F | AM36: 165 | AV36: 8F | AW36: 205
A37: 31 | B37: APPIANI, LUCAS | C37: 2011 | D37: SFE | E37: =G37+I37+K37+M37+O37+Q37+S37+U37+W37+Y37+AA37+AC37+AE37+AG37+AI37+AK37+AM37+AO37+AQ37+AS37+AU37+AW37+AY37 -> 360.04 | F37: SF B | G37: 0.04 | V37: 2B | W37: 35 | AH37: 8F | AI37: 45 | AN37: 4F | AO37: 55 | AT37: SF B | AU37: 40 | AV37: 32F | AW37: 115 | AX37: 16F | AY37: 70
A38: 32 | B38: LOBO DIAZ, LUCCA | C38: 2011 | D38: CRI | E38: =G38+I38+K38+M38+O38+Q38+S38+U38+W38+Y38+AA38+AC38+AE38+AG38+AI38+AK38+AM38+AO38+AQ38+AS38+AU38+AW38+AY38 -> 330 | AL38: 1 | AM38: 330
A39: 33 | B39: TIMBAL, GONZALO | C39: 2012 | D39: URU | E39: =G39+I39+K39+M39+O39+Q39+S39+U39+W39+Y39+AA39+AC39+AE39+AG39+AI39+AK39+AM39+AO39+AQ39+AS39+AU39+AW39+AY39 -> 315 | AV39: 8F | AW39: 205 | AX39: 4F | AY39: 110
A40: 34 | B40: BUSTAMANTE FERNANDEZ, SEBASTIAN | C40: 2012 | D40: SCZ | E40: =G40+I40+K40+M40+O40+Q40+S40+U40+W40+Y40+AA40+AC40+AE40+AG40+AI40+AK40+AM40+AO40+AQ40+AS40+AU40+AW40+AY40 -> 305 | AD40: 1B | AE40: 90 | AJ40: 4F | AK40: 55 | AV40: 16F | AW40: 160
A41: 35 | B41: ALTO, VALENTINO | C41: 2015 | D41: MZA | E41: =G41+I41+K41+M41+O41+Q41+S41+U41+W41+Y41+AA41+AC41+AE41+AG41+AI41+AK41+AM41+AO41+AQ41+AS41+AU41+AW41+AY41 -> 305 | L41: 2 | M41: 90 | X41: 4F | Y41: 55 | AF41: 4F | AG41: 55 | AL41: 16F | AM41: 105
A42: 36 | B42: VERNILLO, AGUSTIN | C42: 2012 | D42: FET | E42: =G42+I42+K42+M42+O42+Q42+S42+U42+W42+Y42+AA42+AC42+AE42+AG42+AI42+AK42+AM42+AO42+AQ42+AS42+AU42+AW42+AY42 -> 270 | AH42: 4F | AI42: 55 | AN42: 4F | AO42: 55 | AV42: 16F | AW42: 160
A43: 37 | B43: RASJIDO, JONATHAN | C43: 2012 | D43: SCZ | E43: =G43+I43+K43+M43+O43+Q43+S43+U43+W43+Y43+AA43+AC43+AE43+AG43+AI43+AK43+AM43+AO43+AQ43+AS43+AU43+AW43+AY43 -> 240 | P43: SF | Q43: 70 | AJ43: 4F | AK43: 55 | AV43: 32F | AW43: 115
A44: 38 | B44: RECUPERO, MARTINO | C44: 2013 | D44: JUJ | E44: =G44+I44+K44+M44+O44+Q44+S44+U44+W44+Y44+AA44+AC44+AE44+AG44+AI44+AK44+AM44+AO44+AQ44+AS44+AU44+AW44+AY44 -> 235 | J44: 8F | K44: 90 | N44: 4F | O44: 55 | Z44: 8F | AA44: 90
A45: 39 | B45: AGUIRRE, MAXIMO | C45: 2011 | D45: JUJ | E45: =G45+I45+K45+M45+O45+Q45+S45+U45+W45+Y45+AA45+AC45+AE45+AG45+AI45+AK45+AM45+AO45+AQ45+AS45+AU45+AW45+AY45 -> 230 | T45: SF | U45: 70 | AV45: 16F | AW45: 160
A46: 40 | B46: MENEGAZZO, THIAGO | C46: 2011 | D46: MZA | E46: =G46+I46+K46+M46+O46+Q46+S46+U46+W46+Y46+AA46+AC46+AE46+AG46+AI46+AK46+AM46+AO46+AQ46+AS46+AU46+AW46+AY46 -> 220 | L46: 8F | M46: 45 | X46: 4F | Y46: 55 | AL46: SF B | AM46: 45 | AP46: 4Z | AQ46: 45 | AX46: SF B | AY46: 30
A47: 41 | B47: RINALDI, NICOLAS | C47: 2012 | D47: URU | E47: =G47+I47+K47+M47+O47+Q47+S47+U47+W47+Y47+AA47+AC47+AE47+AG47+AI47+AK47+AM47+AO47+AQ47+AS47+AU47+AW47+AY47 -> 205 | AV47: 8F | AW47: 205
A48: 42 | B48: ARCE, LIONEL | C48: 2013 | D48: FET | E48: =G48+I48+K48+M48+O48+Q48+S48+U48+W48+Y48+AA48+AC48+AE48+AG48+AI48+AK48+AM48+AO48+AQ48+AS48+AU48+AW48+AY48 -> 200 | Z48: SF B | AA48: 40 | AV48: 16F | AW48: 160
A49: 43 | B49: JANTUS PEREIRA, BAUTISTA | C49: 2011 | D49: FET | E49: =G49+I49+K49+M49+O49+Q49+S49+U49+W49+Y49+AA49+AC49+AE49+AG49+AI49+AK49+AM49+AO49+AQ49+AS49+AU49+AW49+AY49 -> 195 | AN49: 1B | AO49: 35 | AV49: 16F | AW49: 160
A50: 44 | B50: ANARELLA, VICENTE | C50: 2012 | D50: FET | E50: =G50+I50+K50+M50+O50+Q50+S50+U50+W50+Y50+AA50+AC50+AE50+AG50+AI50+AK50+AM50+AO50+AQ50+AS50+AU50+AW50+AY50 -> 195 | AH50: 1B | AI50: 35 | AN50: 8F | AO50: 45 | AV50: 32F | AW50: 115
A51: 45 | B51: DI PIERRI, FELIPE | C51: 2013 | D51: SFE | E51: =G51+I51+K51+M51+O51+Q51+S51+U51+W51+Y51+AA51+AC51+AE51+AG51+AI51+AK51+AM51+AO51+AQ51+AS51+AU51+AW51+AY51 -> 185 | V51: SF | W51: 70 | AN51: 8F | AO51: 45 | AX51: 16F | AY51: 70
A52: 46 | B52: RUIZ DIAZ, LEANDRO | C52: 2014 | D52: CHA | E52: =G52+I52+K52+M52+O52+Q52+S52+U52+W52+Y52+AA52+AC52+AE52+AG52+AI52+AK52+AM52+AO52+AQ52+AS52+AU52+AW52+AY52 -> 185 | AV52: 32F | AW52: 115 | AX52: 16F | AY52: 70
A53: 47 | B53: TORRES, LAUTARO | C53: 2013 | D53: SCZ | E53: =G53+I53+K53+M53+O53+Q53+S53+U53+W53+Y53+AA53+AC53+AE53+AG53+AI53+AK53+AM53+AO53+AQ53+AS53+AU53+AW53+AY53 -> 180 | AJ53: 1 | AK53: 110 | AX53: 16F | AY53: 70
A54: 48 | B54: OJEDA BARRIA, SEBASTIAN | C54: 2011 | D54: LIB | E54: =G54+I54+K54+M54+O54+Q54+S54+U54+W54+Y54+AA54+AC54+AE54+AG54+AI54+AK54+AM54+AO54+AQ54+AS54+AU54+AW54+AY54 -> 160 | AV54: 16F | AW54: 160
A55: 49 | B55: GOMEZ, SEBASTIAN | C55: 2011 | D55: TDF | E55: =G55+I55+K55+M55+O55+Q55+S55+U55+W55+Y55+AA55+AC55+AE55+AG55+AI55+AK55+AM55+AO55+AQ55+AS55+AU55+AW55+AY55 -> 160 | P55: SF | Q55: 70 | AJ55: 2 | AK55: 90
A56: 50 | B56: AGUILAR, LUCAS BENJAMIN | C56: 2011 | D56: SCZ | E56: =G56+I56+K56+M56+O56+Q56+S56+U56+W56+Y56+AA56+AC56+AE56+AG56+AI56+AK56+AM56+AO56+AQ56+AS56+AU56+AW56+AY56 -> 160 | AV56: 16F | AW56: 160
A57: 51 | B57: ZIMERMAN, CARMELO | C57: 2013 | D57: CBA | E57: =G57+I57+K57+M57+O57+Q57+S57+U57+W57+Y57+AA57+AC57+AE57+AG57+AI57+AK57+AM57+AO57+AQ57+AS57+AU57+AW57+AY57 -> 160 | AD57: SF B | AE57: 45 | AV57: 32F | AW57: 115
A58: 52 | B58: TEJEDA CERDA, VICENTE | C58: 2014 | D58: CHI | E58: =G58+I58+K58+M58+O58+Q58+S58+U58+W58+Y58+AA58+AC58+AE58+AG58+AI58+AK58+AM58+AO58+AQ58+AS58+AU58+AW58+AY58 -> 160 | AV58: 16F | AW58: 160
A59: 53 | B59: SORIA, DIEGO | C59: 2011 | D59: TDF | E59: =G59+I59+K59+M59+O59+Q59+S59+U59+W59+Y59+AA59+AC59+AE59+AG59+AI59+AK59+AM59+AO59+AQ59+AS59+AU59+AW59+AY59 -> 145 | P59: 2 | Q59: 90 | AJ59: 4F | AK59: 55
A60: 54 | B60: CARDOZO, JUAN IGNACIO | C60: 2012 | D60: MZA | E60: =G60+I60+K60+M60+O60+Q60+S60+U60+W60+Y60+AA60+AC60+AE60+AG60+AI60+AK60+AM60+AO60+AQ60+AS60+AU60+AW60+AY60 -> 145 | L60: 4F | M60: 55 | X60: 3Z | Y60: 35 | AF60: 4F | AG60: 55
A61: 55 | B61: RODRIGUEZ BATTILANA, ALFONSO | C61: 2011 | D61: SAL | E61: =G61+I61+K61+M61+O61+Q61+S61+U61+W61+Y61+AA61+AC61+AE61+AG61+AI61+AK61+AM61+AO61+AQ61+AS61+AU61+AW61+AY61 -> 140 | J61: SF B | K61: 40 | N61: 4F | O61: 55 | T61: 8F | U61: 45
A62: 56 | B62: BOSATTA, FAUSTO | C62: 2011 | D62: FBA | E62: =G62+I62+K62+M62+O62+Q62+S62+U62+W62+Y62+AA62+AC62+AE62+AG62+AI62+AK62+AM62+AO62+AQ62+AS62+AU62+AW62+AY62 -> 135 | F62: 8F | G62: 90 | AD62: SF B | AE62: 45
A63: 57 | B63: HAGIWARA, NAOKI | C63: 2014 | D63: FET | E63: =G63+I63+K63+M63+O63+Q63+S63+U63+W63+Y63+AA63+AC63+AE63+AG63+AI63+AK63+AM63+AO63+AQ63+AS63+AU63+AW63+AY63 -> 130 | AH63: 8F | AI63: 45 | AN63: 8F | AO63: 45 | AX63: 2B | AY63: 40
A64: 58 | B64: ANTMAN, FACUNDO | C64: 2011 | D64: FET | E64: =G64+I64+K64+M64+O64+Q64+S64+U64+W64+Y64+AA64+AC64+AE64+AG64+AI64+AK64+AM64+AO64+AQ64+AS64+AU64+AW64+AY64 -> 120 | H64: SF B | I64: 20 | AH64: 4F | AI64: 55 | AN64: 8F | AO64: 45
A65: 59 | B65: SCHPISI SALDAÑA, SANTINO | C65: 2011 | D65: RNG | E65: =G65+I65+K65+M65+O65+Q65+S65+U65+W65+Y65+AA65+AC65+AE65+AG65+AI65+AK65+AM65+AO65+AQ65+AS65+AU65+AW65+AY65 -> 115 | AV65: 32F | AW65: 115
A66: 60 | B66: RUSSO, SHAIR ASAEL | C66: 2011 | D66: LIB | E66: =G66+I66+K66+M66+O66+Q66+S66+U66+W66+Y66+AA66+AC66+AE66+AG66+AI66+AK66+AM66+AO66+AQ66+AS66+AU66+AW66+AY66 -> 115 | AV66: 32F | AW66: 115
A67: 61 | B67: FIGUEIREDO, AGUSTIN | C67: 2011 | D67: URU | E67: =G67+I67+K67+M67+O67+Q67+S67+U67+W67+Y67+AA67+AC67+AE67+AG67+AI67+AK67+AM67+AO67+AQ67+AS67+AU67+AW67+AY67 -> 115 | AV67: 32F | AW67: 115
A68: 62 | B68: QUEIROZ, PEDRO | C68: 2011 | D68: URU | E68: =G68+I68+K68+M68+O68+Q68+S68+U68+W68+Y68+AA68+AC68+AE68+AG68+AI68+AK68+AM68+AO68+AQ68+AS68+AU68+AW68+AY68 -> 115 | AV68: 32F | AW68: 115
A69: 63 | B69: BECCARIA, DANIEL FRANCISCO | C69: 2012 | D69: NQN | E69: =G69+I69+K69+M69+O69+Q69+S69+U69+W69+Y69+AA69+AC69+AE69+AG69+AI69+AK69+AM69+AO69+AQ69+AS69+AU69+AW69+AY69 -> 115 | AV69: 32F | AW69: 115
A70: 64 | B70: ESPINOZA, THIAGO | C70: 2012 | D70: NQN | E70: =G70+I70+K70+M70+O70+Q70+S70+U70+W70+Y70+AA70+AC70+AE70+AG70+AI70+AK70+AM70+AO70+AQ70+AS70+AU70+AW70+AY70 -> 115 | AR70: SF | AS70: 70 | AV70: SF B | AW70: 45
A71: 65 | B71: FELDMAN, IAN | C71: 2013 | D71: URU | E71: =G71+I71+K71+M71+O71+Q71+S71+U71+W71+Y71+AA71+AC71+AE71+AG71+AI71+AK71+AM71+AO71+AQ71+AS71+AU71+AW71+AY71 -> 115 | AV71: 32F | AW71: 115
A72: 66 | B72: CAPELLA, JUAN CRUZ | C72: 2013 | D72: SFE | E72: =G72+I72+K72+M72+O72+Q72+S72+U72+W72+Y72+AA72+AC72+AE72+AG72+AI72+AK72+AM72+AO72+AQ72+AS72+AU72+AW72+AY72 -> 115 | AV72: 32F | AW72: 115
A73: 67 | B73: QUINTANA MAIDANA, TIZIANO URIEL | C73: 2013 | D73: LIB | E73: =G73+I73+K73+M73+O73+Q73+S73+U73+W73+Y73+AA73+AC73+AE73+AG73+AI73+AK73+AM73+AO73+AQ73+AS73+AU73+AW73+AY73 -> 115 | AV73: 32F | AW73: 115
A74: 68 | B74: IRURZUN NAVARRO, MATIAS IÑAKI | C74: 2013 | D74: SFE | E74: =G74+I74+K74+M74+O74+Q74+S74+U74+W74+Y74+AA74+AC74+AE74+AG74+AI74+AK74+AM74+AO74+AQ74+AS74+AU74+AW74+AY74 -> 115 | AV74: 32F | AW74: 115
A75: 69 | B75: BIOTT, JEREMIAS | C75: 2013 | D75: LIB | E75: =G75+I75+K75+M75+O75+Q75+S75+U75+W75+Y75+AA75+AC75+AE75+AG75+AI75+AK75+AM75+AO75+AQ75+AS75+AU75+AW75+AY75 -> 115 | AV75: 32F | AW75: 115
A76: 70 | B76: CARRIBERO, MATEO | C76: 2013 | D76: MZA | E76: =G76+I76+K76+M76+O76+Q76+S76+U76+W76+Y76+AA76+AC76+AE76+AG76+AI76+AK76+AM76+AO76+AQ76+AS76+AU76+AW76+AY76 -> 105 | L76: 2B | M76: 25 | X76: 3Z | Y76: 35 | AF76: 3Z | AG76: 45
A77: 71 | B77: DIAZ, BENJAMIN | C77: 2013 | D77: SCZ | E77: =G77+I77+K77+M77+O77+Q77+S77+U77+W77+Y77+AA77+AC77+AE77+AG77+AI77+AK77+AM77+AO77+AQ77+AS77+AU77+AW77+AY77 -> 100 | P77: 3Z | Q77: 55 | AJ77: 8F | AK77: 45
A78: 72 | B78: PETELL, FRANCISCO | C78: 2013 | D78: FET | E78: =G78+I78+K78+M78+O78+Q78+S78+U78+W78+Y78+AA78+AC78+AE78+AG78+AI78+AK78+AM78+AO78+AQ78+AS78+AU78+AW78+AY78 -> 95 | AN78: 2B | AO78: 25 | AX78: 16F | AY78: 70
A79: 73 | B79: MEDINA, FRANCISCO | C79: 2012 | D79: PER | E79: =G79+I79+K79+M79+O79+Q79+S79+U79+W79+Y79+AA79+AC79+AE79+AG79+AI79+AK79+AM79+AO79+AQ79+AS79+AU79+AW79+AY79 -> 90 | AX79: 8F | AY79: 90
A80: 74 | B80: ESCOBAR MUÑOZ, LAUTARO JEREMIAS | C80: 2012 | D80: SCZ | E80: =G80+I80+K80+M80+O80+Q80+S80+U80+W80+Y80+AA80+AC80+AE80+AG80+AI80+AK80+AM80+AO80+AQ80+AS80+AU80+AW80+AY80 -> 90 | AV80: 1B | AW80: 90
A81: 75 | B81: GALVEZ, CRISTIAN BENICIO | C81: 2011 | D81: SAL | E81: =G81+I81+K81+M81+O81+Q81+S81+U81+W81+Y81+AA81+AC81+AE81+AG81+AI81+AK81+AM81+AO81+AQ81+AS81+AU81+AW81+AY81 -> 80 | N81: 1B | O81: 35 | T81: 8F | U81: 45
A82: 76 | B82: SABARZA, JOEL | C82: 2011 | D82: JUJ | E82: =G82+I82+K82+M82+O82+Q82+S82+U82+W82+Y82+AA82+AC82+AE82+AG82+AI82+AK82+AM82+AO82+AQ82+AS82+AU82+AW82+AY82 -> 80 | N82: 8F | O82: 45 | T82: 1B | U82: 35
A83: 77 | B83: GONZALEZ, BAUTISTA | C83: 2012 | D83: MZA | E83: =G83+I83+K83+M83+O83+Q83+S83+U83+W83+Y83+AA83+AC83+AE83+AG83+AI83+AK83+AM83+AO83+AQ83+AS83+AU83+AW83+AY83 -> 80 | X83: 3Z | Y83: 35 | AF83: 3Z | AG83: 45
A84: 78 | B84: HUAMAN, JUAN | C84: 2012 | D84: PER | E84: =G84+I84+K84+M84+O84+Q84+S84+U84+W84+Y84+AA84+AC84+AE84+AG84+AI84+AK84+AM84+AO84+AQ84+AS84+AU84+AW84+AY84 -> 70 | AX84: 16F | AY84: 70
A85: 79 | B85: FIORE SHIMOJI, JUAN MANUEL | C85: 2014 | D85: FET | E85: =G85+I85+K85+M85+O85+Q85+S85+U85+W85+Y85+AA85+AC85+AE85+AG85+AI85+AK85+AM85+AO85+AQ85+AS85+AU85+AW85+AY85 -> 70 | AX85: 16F | AY85: 70
A86: 80 | B86: HUAMANI, MIGUEL | C86: 2012 | D86: PER | E86: =G86+I86+K86+M86+O86+Q86+S86+U86+W86+Y86+AA86+AC86+AE86+AG86+AI86+AK86+AM86+AO86+AQ86+AS86+AU86+AW86+AY86 -> 70 | AX86: 16F | AY86: 70
A87: 81 | B87: FUENTES, JASSIEL | C87: 2014 | D87: PER | E87: =G87+I87+K87+M87+O87+Q87+S87+U87+W87+Y87+AA87+AC87+AE87+AG87+AI87+AK87+AM87+AO87+AQ87+AS87+AU87+AW87+AY87 -> 70 | AX87: 16F | AY87: 70
A88: 82 | B88: RAMIREZ, LUCAS | C88: 2011 | D88: CHI | E88: =G88+I88+K88+M88+O88+Q88+S88+U88+W88+Y88+AA88+AC88+AE88+AG88+AI88+AK88+AM88+AO88+AQ88+AS88+AU88+AW88+AY88 -> 70 | AJ88: SF | AK88: 70
A89: 83 | B89: DIAZ, THIAGO JOAQUIN | C89: 2011 | D89: SFE | E89: =G89+I89+K89+M89+O89+Q89+S89+U89+W89+Y89+AA89+AC89+AE89+AG89+AI89+AK89+AM89+AO89+AQ89+AS89+AU89+AW89+AY89 -> 70 | AD89: 2B | AE89: 70
A90: 84 | B90: CASTILLO CIA, JOAQUIN | C90: 2012 | D90: MZA | E90: =G90+I90+K90+M90+O90+Q90+S90+U90+W90+Y90+AA90+AC90+AE90+AG90+AI90+AK90+AM90+AO90+AQ90+AS90+AU90+AW90+AY90 -> 70 | AV90: 2B | AW90: 70
A91: 85 | B91: CARENINI, FRANCISCO | C91: 2014 | D91: MZA | E91: =G91+I91+K91+M91+O91+Q91+S91+U91+W91+Y91+AA91+AC91+AE91+AG91+AI91+AK91+AM91+AO91+AQ91+AS91+AU91+AW91+AY91 -> 70 | AR91: SF | AS91: 70
A92: 86 | B92: CARRIVALE, VALENTINO | C92: 2012 | D92: MZA | E92: =G92+I92+K92+M92+O92+Q92+S92+U92+W92+Y92+AA92+AC92+AE92+AG92+AI92+AK92+AM92+AO92+AQ92+AS92+AU92+AW92+AY92 -> 65 | L92: SF B | M92: 20 | AR92: 1B | AS92: 45
A93: 87 | B93: VERGARA, LUCAS | C93: 2011 | D93: JUJ | E93: =G93+I93+K93+M93+O93+Q93+S93+U93+W93+Y93+AA93+AC93+AE93+AG93+AI93+AK93+AM93+AO93+AQ93+AS93+AU93+AW93+AY93 -> 55 | T93: 4F | U93: 55
A94: 88 | B94: BARBIERI, CRISTOBAL | C94: 2012 | D94: FBA | E94: =G94+I94+K94+M94+O94+Q94+S94+U94+W94+Y94+AA94+AC94+AE94+AG94+AI94+AK94+AM94+AO94+AQ94+AS94+AU94+AW94+AY94 -> 55 | AR94: 4F | AS94: 55
A95: 89 | B95: VERGARA, SANTIAGO | C95: 2013 | D95: JUJ | E95: =G95+I95+K95+M95+O95+Q95+S95+U95+W95+Y95+AA95+AC95+AE95+AG95+AI95+AK95+AM95+AO95+AQ95+AS95+AU95+AW95+AY95 -> 55 | T95: 4F | U95: 55
A96: 90 | B96: NUÑEZ, JOSE | C96: 2011 | D96: MZA | E96: =G96+I96+K96+M96+O96+Q96+S96+U96+W96+Y96+AA96+AC96+AE96+AG96+AI96+AK96+AM96+AO96+AQ96+AS96+AU96+AW96+AY96 -> 45 | AF96: 4Z | AG96: 45
A97: 91 | B97: BALDERRAMA, AGUSTIN | C97: 2011 | D97: SEN | E97: =G97+I97+K97+M97+O97+Q97+S97+U97+W97+Y97+AA97+AC97+AE97+AG97+AI97+AK97+AM97+AO97+AQ97+AS97+AU97+AW97+AY97 -> 45 | N97: 8F | O97: 45
A98: 92 | B98: LEZCANO, FANTINO | C98: 2011 | D98: JUJ | E98: =G98+I98+K98+M98+O98+Q98+S98+U98+W98+Y98+AA98+AC98+AE98+AG98+AI98+AK98+AM98+AO98+AQ98+AS98+AU98+AW98+AY98 -> 45 | N98: 8F | O98: 45
A99: 93 | B99: CARDENAS JARA, FERNANDO JAVIER | C99: 2012 | D99: LIB | E99: =G99+I99+K99+M99+O99+Q99+S99+U99+W99+Y99+AA99+AC99+AE99+AG99+AI99+AK99+AM99+AO99+AQ99+AS99+AU99+AW99+AY99 -> 45 | AV99: SF B | AW99: 45
A100: 94 | B100: SIMIONATO, VALENTINO | C100: 2012 | D100: MZA | E100: =G100+I100+K100+M100+O100+Q100+S100+U100+W100+Y100+AA100+AC100+AE100+AG100+AI100+AK100+AM100+AO100+AQ100+AS100+AU100+AW100+AY100 -> 45 | AP100: 4Z | AQ100: 45
A101: 95 | B101: BAHAMONDE, ALEXIS | C101: 2012 | D101: CHI | E101: =G101+I101+K101+M101+O101+Q101+S101+U101+W101+Y101+AA101+AC101+AE101+AG101+AI101+AK101+AM101+AO101+AQ101+AS101+AU101+AW101+AY101 -> 45 | AJ101: 8F | AK101: 45
...

Sheet IC U17
B1: INDIVIDUAL CABALLEROS U17 | F1: RANKING NACIONAL | TEMPORADA 2026
F2: Challenger | H2: Regional Abierto | J2: Challenger | L2: Regional Abierto | N2: Regional Abierto | P2: Regional Abierto | R2: Regional Abierto | T2: Regional Abierto | V2: Regional Abierto | X2: Regional Abierto | Z2: Challenger | AB2: Regional Abierto | AD2: Nacional | AF2: Regional Abierto | AH2: Regional Abierto | AJ2: Regional Abierto | AL2: Grand Prix | AN2: Regional Abierto | AP2: Regional Abierto | AR2: Regional Abierto | AT2: Challenger | AV2: Abierto de la Rep. | AX2: Challenger
F3: CHAPADMALAL | H3: FETEMBA | J3: SANT. DEL ESTERO | L3: MENDOZA | N3: SALTA | P3: TIERRA DEL FUEGO | R3: FETEMBA | T3: JUJUY | V3: SANTA FE | X3: MENDOZA | Z3: SALTA | AB3: NEUQUÉN | AD3: SANTA FE | AF3: MENDOZA | AH3: FETEMBA | AJ3: SANTA CRUZ | AL3: MENDOZA | AN3: FETEMBA | AP3: MENDOZA | AR3: RIO NEGRO | AT3: ROSARIO | AV3: BUENOS AIRES | AX3: ROSARIO
F4: 2 A 4 MAR 2025 | H4: 29 Y 30 MAR 2025 | J4: 11 A 13 ABR 2025 | L4: 26 Y 27 ABR 2025 | N4: 26 Y 27 ABR 2025 | P4: 04 MAY 2025 | R4: 10 Y 11 MAY 2025 | T4: 24 Y 25 MAY 2025 | V4: 31 MAY Y 1 JUN 2025 | X4: 7 Y 8 JUN 2025 | Z4: 14 A 16 JUN 2025 | AB4: 21 Y 22 JUN 2025 | AD4: 9 A 13 JUL 2025 | AF4: 9 Y 10 AGO 2025 | AH4: 15 AGO 2025 | AJ4: 15 A 17 AGO 2025 | AL4: 5 A 7 SEP 2025 | AN4: 27 Y 28 SEP 2025 | AP4: 4 Y 5 OCT 2025 | AR4: 11 Y 12 OCT 2025 | AT4: 17 A 19 OCT 2025 | AV4: 21 A 24 NOV 2025 | AX4: 15 A 17 FEB 2026
A5: POS. | B5: ATLETA | C5: CAT. | D5: ASOC. | E5: TOTAL | F5: Pos. | G5: Ptos. | H5: Pos. | I5: Ptos. | J5: Pos. | K5: Ptos. | L5: Pos. | M5: Ptos. | N5: Pos. | O5: Ptos. | P5: Pos. | Q5: Ptos. | R5: Pos. | S5: Ptos. | T5: Pos. | U5: Ptos. | V5: Pos. | W5: Ptos. | X5: Pos. | Y5: Ptos. | Z5: Pos. | AA5: Ptos. | AB5: Pos. | AC5: Ptos. | AD5: Pos. | AE5: Ptos. | AF5: Pos. | AG5: Ptos. | AH5: Pos. | AI5: Ptos. | AJ5: Pos. | AK5: Ptos. | AL5: Pos. | AM5: Ptos. | AN5: Pos. | AO5: Ptos. | AP5: Pos. | AQ5: Ptos. | AR5: Pos. | AS5: Ptos. | AT5: Pos. | AU5: Ptos. | AV5: Pos. | AW5: Ptos. | AX5: Pos. | AY5: Ptos.
A7: 1 | B7: NAKAGAMA, ALAN JUN | C7: 2010 | D7: FET | E7: =G7+I7+K7+M7+O7+Q7+S7+U7+W7+Y7+AA7+AC7+AE7+AG7+AI7+AK7+AM7+AO7+AQ7+AS7+AU7+AW7+AY7 -> 1430.155 | H7: 4F | I7: 55 | J7: 2 | K7: 180 | R7: 8F | S7: 0.045 | AD7: SF | AE7: 315 | AH7: SF | AI7: 70 | AL7: SF | AM7: 210 | AN7: 4F | AO7: 55 | AT7: 4F | AU7: 0.11 | AV7: 2 | AW7: 405 | AX7: SF | AY7: 140
A8: 2 | B8: NOTTURNO, NICOLAS | C8: 2010 | D8: FET | E8: =G8+I8+K8+M8+O8+Q8+S8+U8+W8+Y8+AA8+AC8+AE8+AG8+AI8+AK8+AM8+AO8+AQ8+AS8+AU8+AW8+AY8 -> 1185.155 | F8: 4F | G8: 0.11 | H8: 2 | I8: 90 | R8: 8F | S8: 0.045 | Z8: 1 | AA8: 220 | AD8: 2 | AE8: 405 | AH8: 4F | AI8: 55 | AL8: 4F | AM8: 165 | AN8: SF | AO8: 70 | AT8: 2 | AU8: 180
A9: 3 | B9: DOMINGUEZ, AGUSTIN | C9: 2009 | D9: MZA | E9: =G9+I9+K9+M9+O9+Q9+S9+U9+W9+Y9+AA9+AC9+AE9+AG9+AI9+AK9+AM9+AO9+AQ9+AS9+AU9+AW9+AY9 -> 1085 | L9: 2 | M9: 90 | R9: SF | S9: 70 | AD9: 8F | AE9: 205 | AL9: 1 | AM9: 330 | AT9: SF | AU9: 140 | AV9: 4F | AW9: 250
A10: 4 | B10: LEHNER, FACUNDO | C10: 2010 | D10: CBA | E10: =G10+I10+K10+M10+O10+Q10+S10+U10+W10+Y10+AA10+AC10+AE10+AG10+AI10+AK10+AM10+AO10+AQ10+AS10+AU10+AW10+AY10 -> 1020 | H10: 4F | I10: 55 | R10: 8F | S10: 45 | Z10: 2 | AA10: 180 | AL10: 8F | AM10: 135 | AT10: 4F | AU10: 110 | AV10: 1 | AW10: 495
A11: 5 | B11: AGÜERO, RENZO | C11: 2009 | D11: MZA | E11: =G11+I11+K11+M11+O11+Q11+S11+U11+W11+Y11+AA11+AC11+AE11+AG11+AI11+AK11+AM11+AO11+AQ11+AS11+AU11+AW11+AY11 -> 1005 | L11: 1 | M11: 110 | R11: 4F | S11: 55 | AD11: 8F | AE11: 205 | AL11: SF | AM11: 210 | AT11: 4F | AU11: 110 | AV11: SF | AW11: 315
A12: 6 | B12: AXON, JUAN CRUZ | C12: 2011 | D12: CHA | E12: =G12+I12+K12+M12+O12+Q12+S12+U12+W12+Y12+AA12+AC12+AE12+AG12+AI12+AK12+AM12+AO12+AQ12+AS12+AU12+AW12+AY12 -> 915 | Z12: SF | AA12: 140 | AD12: 4F | AE12: 250 | AN12: 4F | AO12: 55 | AT12: 1 | AU12: 220 | AV12: 4F | AW12: 250
A13: 7 | B13: USLENGHI, SANTIAGO | C13: 2010 | D13: FET | E13: =G13+I13+K13+M13+O13+Q13+S13+U13+W13+Y13+AA13+AC13+AE13+AG13+AI13+AK13+AM13+AO13+AQ13+AS13+AU13+AW13+AY13 -> 910 | Z13: SF | AA13: 140 | AD13: 16F | AE13: 160 | AH13: 8F | AI13: 45 | AL13: 4F | AM13: 165 | AN13: 4F | AO13: 55 | AV13: 8F | AW13: 205 | AX13: SF | AY13: 140
A14: 8 | B14: SATO, LEONARDO EZEQUIEL | C14: 2011 | D14: FET | E14: =G14+I14+K14+M14+O14+Q14+S14+U14+W14+Y14+AA14+AC14+AE14+AG14+AI14+AK14+AM14+AO14+AQ14+AS14+AU14+AW14+AY14 -> 835 | AD14: SF | AE14: 315 | AL14: 8F | AM14: 135 | AT14: 3Z | AU14: 70 | AV14: 8F | AW14: 205 | AX14: 4F | AY14: 110
A15: 9 | B15: LA VIA, GIULIANO ADRIEL | C15: 2009 | D15: SLU | E15: =G15+I15+K15+M15+O15+Q15+S15+U15+W15+Y15+AA15+AC15+AE15+AG15+AI15+AK15+AM15+AO15+AQ15+AS15+AU15+AW15+AY15 -> 785 | F15: 2 | G15: 180 | AD15: 1 | AE15: 495 | AH15: 1 | AI15: 110
A16: 10 | B16: GUEVARA FIGUEROA, BALTAZAR | C16: 2009 | D16: FET | E16: =G16+I16+K16+M16+O16+Q16+S16+U16+W16+Y16+AA16+AC16+AE16+AG16+AI16+AK16+AM16+AO16+AQ16+AS16+AU16+AW16+AY16 -> 775.305 | F16: 3Z | G16: 0.07 | H16: 1B | I16: 0.035 | J16: 4F | K16: 0.11 | R16: 8F | S16: 45 | Z16: 4F | AA16: 110 | AH16: 8F | AI16: 45 | AL16: 16F | AM16: 105 | AN16: 8F | AO16: 45 | AT16: 8F | AU16: 0.09 | AV16: 8F | AW16: 205 | AX16: 1 | AY16: 220
A17: 11 | B17: SARACCO, JULIAN | C17: 2010 | D17: SEN | E17: =G17+I17+K17+M17+O17+Q17+S17+U17+W17+Y17+AA17+AC17+AE17+AG17+AI17+AK17+AM17+AO17+AQ17+AS17+AU17+AW17+AY17 -> 635 | J17: 4F | K17: 110 | N17: 2 | O17: 90 | T17: SF | U17: 70 | Z17: 3Z | AA17: 90 | AD17: 3Z | AE17: 115 | AV17: 16F | AW17: 160
A18: 12 | B18: GUARDIA, SANTIAGO ROMAN | C18: 2009 | D18: SAL | E18: =G18+I18+K18+M18+O18+Q18+S18+U18+W18+Y18+AA18+AC18+AE18+AG18+AI18+AK18+AM18+AO18+AQ18+AS18+AU18+AW18+AY18 -> 630.09 | J18: 8F | K18: 0.09 | N18: 4F | O18: 55 | T18: 1 | U18: 110 | Z18: 4F | AA18: 110 | AL18: 16F | AM18: 105 | AV18: 16F | AW18: 160 | AX18: 8F | AY18: 90
A19: 13 | B19: VILDOZA, MATEO | C19: 2010 | D19: FET | E19: =G19+I19+K19+M19+O19+Q19+S19+U19+W19+Y19+AA19+AC19+AE19+AG19+AI19+AK19+AM19+AO19+AQ19+AS19+AU19+AW19+AY19 -> 625 | AD19: 8F | AE19: 205 | AH19: 1B | AI19: 35 | AN19: 8F | AO19: 45 | AT19: 3Z | AU19: 70 | AV19: 16F | AW19: 160 | AX19: 4F | AY19: 110
A20: 14 | B20: INFANTE HESHIKI, ALEJO | C20: 2010 | D20: SAL | E20: =G20+I20+K20+M20+O20+Q20+S20+U20+W20+Y20+AA20+AC20+AE20+AG20+AI20+AK20+AM20+AO20+AQ20+AS20+AU20+AW20+AY20 -> 550 | J20: 4F | K20: 110 | N20: SF | O20: 70 | T20: 4F | U20: 55 | Z20: 4F | AA20: 110 | AV20: 8F | AW20: 205
A21: 15 | B21: OCAMPO, BRAIAN | C21: 2011 | D21: SAL | E21: =G21+I21+K21+M21+O21+Q21+S21+U21+W21+Y21+AA21+AC21+AE21+AG21+AI21+AK21+AM21+AO21+AQ21+AS21+AU21+AW21+AY21 -> 500 | J21: SF | K21: 140 | N21: 1B | O21: 35 | T21: 4F | U21: 55 | Z21: 4F | AA21: 110 | AD21: 16F | AE21: 160
A22: 16 | B22: CARO RUIZ, BENJAMIN | C22: 2009 | D22: FET | E22: =G22+I22+K22+M22+O22+Q22+S22+U22+W22+Y22+AA22+AC22+AE22+AG22+AI22+AK22+AM22+AO22+AQ22+AS22+AU22+AW22+AY22 -> 475 | H22: SF B | I22: 20 | AH22: 8F | AI22: 45 | AL22: 8F | AM22: 135 | AN22: 8F | AO22: 45 | AT22: 3Z | AU22: 70 | AV22: 16F | AW22: 160
A23: 17 | B23: URFEIG, FRANCISCO | C23: 2012 | D23: FET | E23: =G23+I23+K23+M23+O23+Q23+S23+U23+W23+Y23+AA23+AC23+AE23+AG23+AI23+AK23+AM23+AO23+AQ23+AS23+AU23+AW23+AY23 -> 470 | AL23: 16F | AM23: 105 | AT23: 3Z | AU23: 70 | AV23: 8F | AW23: 205 | AX23: 8F | AY23: 90
A24: 18 | B24: RECUPERO, BENICIO | C24: 2010 | D24: JUJ | E24: =G24+I24+K24+M24+O24+Q24+S24+U24+W24+Y24+AA24+AC24+AE24+AG24+AI24+AK24+AM24+AO24+AQ24+AS24+AU24+AW24+AY24 -> 455 | AD24: 16F | AE24: 160 | AL24: 8F | AM24: 135 | AV24: 16F | AW24: 160
A25: 19 | B25: MARTINEZ, TOBIAS | C25: 2010 | D25: SLU | E25: =G25+I25+K25+M25+O25+Q25+S25+U25+W25+Y25+AA25+AC25+AE25+AG25+AI25+AK25+AM25+AO25+AQ25+AS25+AU25+AW25+AY25 -> 437.5 | F25: Prom. | G25: 77.5 | AH25: 2 | AI25: 90 | AL25: 2 | AM25: 270
A26: 20 | B26: CARRANZA, MATEO | C26: 2010 | D26: FET | E26: =G26+I26+K26+M26+O26+Q26+S26+U26+W26+Y26+AA26+AC26+AE26+AG26+AI26+AK26+AM26+AO26+AQ26+AS26+AU26+AW26+AY26 -> 430 | AH26: SF | AI26: 70 | AN26: SF | AO26: 70 | AT26: 4F | AU26: 110 | AX26: 2 | AY26: 180
A27: 21 | B27: GOMEZ, FAUSTO | C27: 2010 | D27: FBA | E27: =G27+I27+K27+M27+O27+Q27+S27+U27+W27+Y27+AA27+AC27+AE27+AG27+AI27+AK27+AM27+AO27+AQ27+AS27+AU27+AW27+AY27 -> 410 | F27: 8F | G27: 90 | AD27: 16F | AE27: 160 | AV27: 16F | AW27: 160
A28: 22 | B28: MOLINA, JUAN MARTIN | C28: 2010 | D28: FET | E28: =G28+I28+K28+M28+O28+Q28+S28+U28+W28+Y28+AA28+AC28+AE28+AG28+AI28+AK28+AM28+AO28+AQ28+AS28+AU28+AW28+AY28 -> 405 | AH28: 8F | AI28: 45 | AN28: 1 | AO28: 110 | AV28: 4F | AW28: 250
A29: 23 | B29: GASS, JULIAN | C29: 2009 | D29: FET | E29: =G29+I29+K29+M29+O29+Q29+S29+U29+W29+Y29+AA29+AC29+AE29+AG29+AI29+AK29+AM29+AO29+AQ29+AS29+AU29+AW29+AY29 -> 390 | R29: SF B | S29: 15 | AH29: 8F | AI29: 45 | AL29: 8F | AM29: 135 | AN29: 1B | AO29: 35 | AV29: 16F | AW29: 160
A30: 24 | B30: APPIANI, LUCAS | C30: 2011 | D30: SFE | E30: =G30+I30+K30+M30+O30+Q30+S30+U30+W30+Y30+AA30+AC30+AE30+AG30+AI30+AK30+AM30+AO30+AQ30+AS30+AU30+AW30+AY30 -> 390 | F30: 3Z | G30: 70 | AD30: 4Z | AE30: 115 | AL30: 8F | AM30: 135 | AT30: 3Z | AU30: 70
A31: 25 | B31: KOZICKI, THEO | C31: 2009 | D31: FET | E31: =G31+I31+K31+M31+O31+Q31+S31+U31+W31+Y31+AA31+AC31+AE31+AG31+AI31+AK31+AM31+AO31+AQ31+AS31+AU31+AW31+AY31 -> 385 | F31: 8F | G31: 90 | R31: 2B | S31: 20 | AH31: 8F | AI31: 45 | AL31: 3Z | AM31: 75 | AN31: 8F | AO31: 45 | AX31: 4F | AY31: 110
A32: 26 | B32: MALDONADO, ROMEO | C32: 2009 | D32: FET | E32: =G32+I32+K32+M32+O32+Q32+S32+U32+W32+Y32+AA32+AC32+AE32+AG32+AI32+AK32+AM32+AO32+AQ32+AS32+AU32+AW32+AY32 -> 370.045 | H32: 8F | I32: 0.045 | R32: 8F | S32: 45 | AH32: 8F | AI32: 45 | AL32: 3Z | AM32: 75 | AN32: 8F | AO32: 45 | AV32: 16F | AW32: 160
A33: 27 | B33: PEDERNERA, LORENZO | C33: 2011 | D33: MZA | E33: =G33+I33+K33+M33+O33+Q33+S33+U33+W33+Y33+AA33+AC33+AE33+AG33+AI33+AK33+AM33+AO33+AQ33+AS33+AU33+AW33+AY33 -> 370 | AD33: 8F | AE33: 205 | AL33: 4F | AM33: 165
A34: 28 | B34: ROSSI VERA, SANTINO | C34: 2010 | D34: FET | E34: =G34+I34+K34+M34+O34+Q34+S34+U34+W34+Y34+AA34+AC34+AE34+AG34+AI34+AK34+AM34+AO34+AQ34+AS34+AU34+AW34+AY34 -> 365 | H34: SF | I34: 70 | R34: 8F | S34: 45 | AD34: 4F | AE34: 250
A35: 29 | B35: MOLINA ALVAREZ, AGUSTIN NICOLAS | C35: 2009 | D35: SEN | E35: =G35+I35+K35+M35+O35+Q35+S35+U35+W35+Y35+AA35+AC35+AE35+AG35+AI35+AK35+AM35+AO35+AQ35+AS35+AU35+AW35+AY35 -> 340 | J35: 3Z | K35: 70 | N35: SF B | O35: 20 | Z35: 3Z | AA35: 90 | AD35: 16F | AE35: 160
A36: 30 | B36: SERRA, IGNACIO | C36: 2010 | D36: RNG | E36: =G36+I36+K36+M36+O36+Q36+S36+U36+W36+Y36+AA36+AC36+AE36+AG36+AI36+AK36+AM36+AO36+AQ36+AS36+AU36+AW36+AY36 -> 335 | AD36: 8F | AE36: 205 | AH36: 4F | AI36: 55 | AL36: 3Z | AM36: 75
A37: 31 | B37: MASSARE, DANTE | C37: 2012 | D37: FET | E37: =G37+I37+K37+M37+O37+Q37+S37+U37+W37+Y37+AA37+AC37+AE37+AG37+AI37+AK37+AM37+AO37+AQ37+AS37+AU37+AW37+AY37 -> 315 | AV37: 8F | AW37: 205 | AX37: 4F | AY37: 110
A38: 32 | B38: KHAZANDJIAN, LUCIANO | C38: 2009 | D38: FET | E38: =G38+I38+K38+M38+O38+Q38+S38+U38+W38+Y38+AA38+AC38+AE38+AG38+AI38+AK38+AM38+AO38+AQ38+AS38+AU38+AW38+AY38 -> 305 | R38: 16F | S38: 35 | AD38: 16F | AE38: 160 | AH38: 4F | AI38: 55 | AN38: 4F | AO38: 55
A39: 33 | B39: MENEGAZZO, THIAGO | C39: 2011 | D39: MZA | E39: =G39+I39+K39+M39+O39+Q39+S39+U39+W39+Y39+AA39+AC39+AE39+AG39+AI39+AK39+AM39+AO39+AQ39+AS39+AU39+AW39+AY39 -> 275 | L39: 4 | M39: 55 | AD39: 3Z | AE39: 115 | AL39: 16F | AM39: 105
A40: 34 | B40: NIZETICH TRIPODI, LAUTARO | C40: 2010 | D40: FET | E40: =G40+I40+K40+M40+O40+Q40+S40+U40+W40+Y40+AA40+AC40+AE40+AG40+AI40+AK40+AM40+AO40+AQ40+AS40+AU40+AW40+AY40 -> 250 | AD40: 4F | AE40: 250
A41: 35 | B41: ALARCON PORTELA, IGNACIO | C41: 2009 | D41: COR | E41: =G41+I41+K41+M41+O41+Q41+S41+U41+W41+Y41+AA41+AC41+AE41+AG41+AI41+AK41+AM41+AO41+AQ41+AS41+AU41+AW41+AY41 -> 230 | AD41: 3Z | AE41: 115 | AV41: 32F | AW41: 115
A42: 36 | B42: COSTA, FELIPE | C42: 2009 | D42: FBA | E42: =G42+I42+K42+M42+O42+Q42+S42+U42+W42+Y42+AA42+AC42+AE42+AG42+AI42+AK42+AM42+AO42+AQ42+AS42+AU42+AW42+AY42 -> 230 | F42: 3Z | G42: 70 | AV42: 16F | AW42: 160
A43: 37 | B43: MARCIAL, LUCA | C43: 2013 | D43: SFE | E43: =G43+I43+K43+M43+O43+Q43+S43+U43+W43+Y43+AA43+AC43+AE43+AG43+AI43+AK43+AM43+AO43+AQ43+AS43+AU43+AW43+AY43 -> 217.5 | AH43: 4F | AI43: 55 | AN43: 2 | AO43: 90 | AT43: Prom. | AU43: 72.5
A44: 38 | B44: DIAZ, LEANDRO | C44: 2009 | D44: URU | E44: =G44+I44+K44+M44+O44+Q44+S44+U44+W44+Y44+AA44+AC44+AE44+AG44+AI44+AK44+AM44+AO44+AQ44+AS44+AU44+AW44+AY44 -> 205 | AV44: 8F | AW44: 205
A45: 39 | B45: BENITEZ, EMANUEL JULIAN | C45: 2011 | D45: JUJ | E45: =G45+I45+K45+M45+O45+Q45+S45+U45+W45+Y45+AA45+AC45+AE45+AG45+AI45+AK45+AM45+AO45+AQ45+AS45+AU45+AW45+AY45 -> 205 | AD45: 8F | AE45: 205
A46: 40 | B46: AGUIRRE, MAXIMO | C46: 2011 | D46: JUJ | E46: =G46+I46+K46+M46+O46+Q46+S46+U46+W46+Y46+AA46+AC46+AE46+AG46+AI46+AK46+AM46+AO46+AQ46+AS46+AU46+AW46+AY46 -> 205 | T46: 2 | U46: 90 | AV46: 32F | AW46: 115
A47: 41 | B47: PINI AHMID, VALENTINO | C47: 2009 | D47: JUJ | E47: =G47+I47+K47+M47+O47+Q47+S47+U47+W47+Y47+AA47+AC47+AE47+AG47+AI47+AK47+AM47+AO47+AQ47+AS47+AU47+AW47+AY47 -> 200 | J47: 8F | K47: 90 | N47: 4F | O47: 55 | T47: 4F | U47: 55
A48: 42 | B48: RODRIGUEZ BATTILANA, ALFONSO | C48: 2011 | D48: SAL | E48: =G48+I48+K48+M48+O48+Q48+S48+U48+W48+Y48+AA48+AC48+AE48+AG48+AI48+AK48+AM48+AO48+AQ48+AS48+AU48+AW48+AY48 -> 195 | N48: 8F | O48: 45 | T48: 1B | U48: 35 | AD48: 3Z | AE48: 115
A49: 43 | B49: ASMU, AGUSTIN | C49: 2009 | D49: ERI | E49: =G49+I49+K49+M49+O49+Q49+S49+U49+W49+Y49+AA49+AC49+AE49+AG49+AI49+AK49+AM49+AO49+AQ49+AS49+AU49+AW49+AY49 -> 192.5 | R49: 1 | S49: 110 | AL49: Prom. | AM49: 82.5
A50: 44 | B50: BOSATTA, FAUSTO | C50: 2011 | D50: FBA | E50: =G50+I50+K50+M50+O50+Q50+S50+U50+W50+Y50+AA50+AC50+AE50+AG50+AI50+AK50+AM50+AO50+AQ50+AS50+AU50+AW50+AY50 -> 185 | F50: 4Z | G50: 70 | AD50: 3Z | AE50: 115
A51: 45 | B51: FONTANA, FRANCO | C51: 2010 | D51: CBA | E51: =G51+I51+K51+M51+O51+Q51+S51+U51+W51+Y51+AA51+AC51+AE51+AG51+AI51+AK51+AM51+AO51+AQ51+AS51+AU51+AW51+AY51 -> 185 | AD51: 3Z | AE51: 115 | AX51: 3Z | AY51: 70
A52: 46 | B52: DYJAMENT, TADEO | C52: 2010 | D52: FET | E52: =G52+I52+K52+M52+O52+Q52+S52+U52+W52+Y52+AA52+AC52+AE52+AG52+AI52+AK52+AM52+AO52+AQ52+AS52+AU52+AW52+AY52 -> 180 | AH52: SF B | AI52: 20 | AV52: 16F | AW52: 160
A53: 47 | B53: BIANCHINI, IGNACIO | C53: 2009 | D53: FBA | E53: =G53+I53+K53+M53+O53+Q53+S53+U53+W53+Y53+AA53+AC53+AE53+AG53+AI53+AK53+AM53+AO53+AQ53+AS53+AU53+AW53+AY53 -> 175 | F53: SF | G53: 140 | R53: 16F | S53: 35
A54: 48 | B54: BAIUD, JUAN FRANCISCO | C54: 2009 | D54: JUJ | E54: =G54+I54+K54+M54+O54+Q54+S54+U54+W54+Y54+AA54+AC54+AE54+AG54+AI54+AK54+AM54+AO54+AQ54+AS54+AU54+AW54+AY54 -> 170 | J54: 3Z | K54: 70 | N54: 8F | O54: 45 | T54: 4F | U54: 55
A55: 49 | B55: FERREYRA, BENJAMIN | C55: 2010 | D55: CBA | E55: =G55+I55+K55+M55+O55+Q55+S55+U55+W55+Y55+AA55+AC55+AE55+AG55+AI55+AK55+AM55+AO55+AQ55+AS55+AU55+AW55+AY55 -> 160 | AD55: 16F | AE55: 160
A56: 50 | B56: DIAZ ORIETA, FRANCO GABRIEL | C56: 2011 | D56: SEN | E56: =G56+I56+K56+M56+O56+Q56+S56+U56+W56+Y56+AA56+AC56+AE56+AG56+AI56+AK56+AM56+AO56+AQ56+AS56+AU56+AW56+AY56 -> 160 | J56: 4Z | K56: 70 | Z56: 3Z | AA56: 90
A57: 51 | B57: BURGOS, ERIK | C57: 2009 | D57: SCZ | E57: =G57+I57+K57+M57+O57+Q57+S57+U57+W57+Y57+AA57+AC57+AE57+AG57+AI57+AK57+AM57+AO57+AQ57+AS57+AU57+AW57+AY57 -> 145 | P57: 2 | Q57: 90 | AJ57: 4F | AK57: 55
A58: 52 | B58: POPOVSKY, ANDRES | C58: 2010 | D58: FET | E58: =G58+I58+K58+M58+O58+Q58+S58+U58+W58+Y58+AA58+AC58+AE58+AG58+AI58+AK58+AM58+AO58+AQ58+AS58+AU58+AW58+AY58 -> 135 | AN58: SF B | AO58: 20 | AV58: 32F | AW58: 115
A59: 53 | B59: MARAGNA, GASTON | C59: 2011 | D59: MZA | E59: =G59+I59+K59+M59+O59+Q59+S59+U59+W59+Y59+AA59+AC59+AE59+AG59+AI59+AK59+AM59+AO59+AQ59+AS59+AU59+AW59+AY59 -> 135 | AL59: 8F | AM59: 135
A60: 54 | B60: SPINELLI, THIAGO | C60: 2012 | D60: FET | E60: =G60+I60+K60+M60+O60+Q60+S60+U60+W60+Y60+AA60+AC60+AE60+AG60+AI60+AK60+AM60+AO60+AQ60+AS60+AU60+AW60+AY60 -> 135 | AL60: 8F | AM60: 135
A61: 55 | B61: HERNANDEZ, LAUTARO | C61: 2010 | D61: TDF | E61: =G61+I61+K61+M61+O61+Q61+S61+U61+W61+Y61+AA61+AC61+AE61+AG61+AI61+AK61+AM61+AO61+AQ61+AS61+AU61+AW61+AY61 -> 125 | P61: 3Z | Q61: 55 | AJ61: SF | AK61: 70
A62: 56 | B62: SORIA, DIEGO | C62: 2011 | D62: TDF | E62: =G62+I62+K62+M62+O62+Q62+S62+U62+W62+Y62+AA62+AC62+AE62+AG62+AI62+AK62+AM62+AO62+AQ62+AS62+AU62+AW62+AY62 -> 125 | P62: SF | Q62: 70 | AJ62: 4F | AK62: 55
A63: 57 | B63: BUK, MANUEL | C63: 2009 | D63: FET | E63: =G63+I63+K63+M63+O63+Q63+S63+U63+W63+Y63+AA63+AC63+AE63+AG63+AI63+AK63+AM63+AO63+AQ63+AS63+AU63+AW63+AY63 -> 120 | H63: SF B | I63: 20 | AH63: 2B | AI63: 25 | AL63: 3Z | AM63: 75
A64: 58 | B64: BENITEZ, TIAGO | C64: 2009 | D64: CBA | E64: =G64+I64+K64+M64+O64+Q64+S64+U64+W64+Y64+AA64+AC64+AE64+AG64+AI64+AK64+AM64+AO64+AQ64+AS64+AU64+AW64+AY64 -> 115 | AD64: 3Z | AE64: 115
A65: 59 | B65: JUAREZ, JOAQUIN | C65: 2009 | D65: FBA | E65: =G65+I65+K65+M65+O65+Q65+S65+U65+W65+Y65+AA65+AC65+AE65+AG65+AI65+AK65+AM65+AO65+AQ65+AS65+AU65+AW65+AY65 -> 115 | AV65: 32F | AW65: 115
A66: 60 | B66: BRITEZ, NAHUEL | C66: 2009 | D66: FBA | E66: =G66+I66+K66+M66+O66+Q66+S66+U66+W66+Y66+AA66+AC66+AE66+AG66+AI66+AK66+AM66+AO66+AQ66+AS66+AU66+AW66+AY66 -> 115 | AV66: 32F | AW66: 115
A67: 61 | B67: ALLEGRINI, ANGEL TIZIANO | C67: 2009 | D67: ERI | E67: =G67+I67+K67+M67+O67+Q67+S67+U67+W67+Y67+AA67+AC67+AE67+AG67+AI67+AK67+AM67+AO67+AQ67+AS67+AU67+AW67+AY67 -> 115 | AD67: 3Z | AE67: 115
A68: 62 | B68: CARRIZO, FABIAN NICOLAS | C68: 2009 | D68: SEN | E68: =G68+I68+K68+M68+O68+Q68+S68+U68+W68+Y68+AA68+AC68+AE68+AG68+AI68+AK68+AM68+AO68+AQ68+AS68+AU68+AW68+AY68 -> 115 | J68: 3Z | K68: 70 | N68: 8F | O68: 45
A69: 63 | B69: ESPINOLA, EZEQUIEL | C69: 2010 | D69: MIS | E69: =G69+I69+K69+M69+O69+Q69+S69+U69+W69+Y69+AA69+AC69+AE69+AG69+AI69+AK69+AM69+AO69+AQ69+AS69+AU69+AW69+AY69 -> 115 | AV69: 32F | AW69: 115
A70: 64 | B70: ESPARZA CADIN, DIEGO NICOLAS | C70: 2010 | D70: SCZ | E70: =G70+I70+K70+M70+O70+Q70+S70+U70+W70+Y70+AA70+AC70+AE70+AG70+AI70+AK70+AM70+AO70+AQ70+AS70+AU70+AW70+AY70 -> 115 | AV70: 32F | AW70: 115
A71: 65 | B71: ARAMAYO, MARIANO | C71: 2010 | D71: JUJ | E71: =G71+I71+K71+M71+O71+Q71+S71+U71+W71+Y71+AA71+AC71+AE71+AG71+AI71+AK71+AM71+AO71+AQ71+AS71+AU71+AW71+AY71 -> 115 | J71: 3Z | K71: 70 | T71: 8F | U71: 45
A72: 66 | B72: SCHPISI SALDAÑA, SANTINO | C72: 2011 | D72: RNG | E72: =G72+I72+K72+M72+O72+Q72+S72+U72+W72+Y72+AA72+AC72+AE72+AG72+AI72+AK72+AM72+AO72+AQ72+AS72+AU72+AW72+AY72 -> 115 | AV72: 32F | AW72: 115
A73: 67 | B73: AGUILAR, LUCAS BENJAMIN | C73: 2011 | D73: SCZ | E73: =G73+I73+K73+M73+O73+Q73+S73+U73+W73+Y73+AA73+AC73+AE73+AG73+AI73+AK73+AM73+AO73+AQ73+AS73+AU73+AW73+AY73 -> 115 | AV73: 32F | AW73: 115
A74: 68 | B74: OJEDA BARRIA, SEBASTIAN | C74: 2011 | D74: LIB | E74: =G74+I74+K74+M74+O74+Q74+S74+U74+W74+Y74+AA74+AC74+AE74+AG74+AI74+AK74+AM74+AO74+AQ74+AS74+AU74+AW74+AY74 -> 115 | AV74: 32F | AW74: 115
A75: 69 | B75: RUSSO, SHAIR ASAEL | C75: 2011 | D75: LIB | E75: =G75+I75+K75+M75+O75+Q75+S75+U75+W75+Y75+AA75+AC75+AE75+AG75+AI75+AK75+AM75+AO75+AQ75+AS75+AU75+AW75+AY75 -> 115 | AV75: 32F | AW75: 115
A76: 70 | B76: QUEIROZ, PEDRO | C76: 2011 | D76: URU | E76: =G76+I76+K76+M76+O76+Q76+S76+U76+W76+Y76+AA76+AC76+AE76+AG76+AI76+AK76+AM76+AO76+AQ76+AS76+AU76+AW76+AY76 -> 115 | AV76: 32F | AW76: 115
A77: 71 | B77: CERICOLA, DANTE | C77: 2009 | D77: FET | E77: =G77+I77+K77+M77+O77+Q77+S77+U77+W77+Y77+AA77+AC77+AE77+AG77+AI77+AK77+AM77+AO77+AQ77+AS77+AU77+AW77+AY77 -> 110 | F77: 4F | G77: 110
A78: 72 | B78: MALDONADO, JOAQUIN | C78: 2009 | D78: SCZ | E78: =G78+I78+K78+M78+O78+Q78+S78+U78+W78+Y78+AA78+AC78+AE78+AG78+AI78+AK78+AM78+AO78+AQ78+AS78+AU78+AW78+AY78 -> 110 | P78: 1 | Q78: 110
A79: 73 | B79: RAMIREZ, LUCAS | C79: 2011 | D79: CHI | E79: =G79+I79+K79+M79+O79+Q79+S79+U79+W79+Y79+AA79+AC79+AE79+AG79+AI79+AK79+AM79+AO79+AQ79+AS79+AU79+AW79+AY79 -> 110 | AJ79: 1 | AK79: 110
A80: 74 | B80: MACIEL, DYLAN | C80: 2010 | D80: SCZ | E80: =G80+I80+K80+M80+O80+Q80+S80+U80+W80+Y80+AA80+AC80+AE80+AG80+AI80+AK80+AM80+AO80+AQ80+AS80+AU80+AW80+AY80 -> 105 | P80: SF | Q80: 70 | AJ80: 3Z | AK80: 35
A81: 75 | B81: CASTRILLO, IGNACIO | C81: 2009 | D81: JUJ | E81: =G81+I81+K81+M81+O81+Q81+S81+U81+W81+Y81+AA81+AC81+AE81+AG81+AI81+AK81+AM81+AO81+AQ81+AS81+AU81+AW81+AY81 -> 100 | N81: 4F | O81: 55 | T81: 8F | U81: 45
A82: 76 | B82: TIMBAL, GONZALO | C82: 2012 | D82: URU | E82: =G82+I82+K82+M82+O82+Q82+S82+U82+W82+Y82+AA82+AC82+AE82+AG82+AI82+AK82+AM82+AO82+AQ82+AS82+AU82+AW82+AY82 -> 90 | AX82: 8F | AY82: 90
A83: 77 | B83: ROMEGO, ERNESTO | C83: 2013 | D83: FET | E83: =G83+I83+K83+M83+O83+Q83+S83+U83+W83+Y83+AA83+AC83+AE83+AG83+AI83+AK83+AM83+AO83+AQ83+AS83+AU83+AW83+AY83 -> 90 | AX83: 8F | AY83: 90
A84: 78 | B84: ECHEVERRIA, FABRICIO | C84: 2009 | D84: NQN | E84: =G84+I84+K84+M84+O84+Q84+S84+U84+W84+Y84+AA84+AC84+AE84+AG84+AI84+AK84+AM84+AO84+AQ84+AS84+AU84+AW84+AY84 -> 90 | AV84: 3Z | AW84: 90
A85: 79 | B85: ORNAZABAL, VALENTIN | C85: 2009 | D85: NQN | E85: =G85+I85+K85+M85+O85+Q85+S85+U85+W85+Y85+AA85+AC85+AE85+AG85+AI85+AK85+AM85+AO85+AQ85+AS85+AU85+AW85+AY85 -> 90 | AV85: 3Z | AW85: 90
A86: 80 | B86: PARADA, SANTIAGO | C86: 2009 | D86: NQN | E86: =G86+I86+K86+M86+O86+Q86+S86+U86+W86+Y86+AA86+AC86+AE86+AG86+AI86+AK86+AM86+AO86+AQ86+AS86+AU86+AW86+AY86 -> 90 | AV86: 3Z | AW86: 90
A87: 81 | B87: CARDENAS, THIAGO JOAQUIN | C87: 2010 | D87: LIB | E87: =G87+I87+K87+M87+O87+Q87+S87+U87+W87+Y87+AA87+AC87+AE87+AG87+AI87+AK87+AM87+AO87+AQ87+AS87+AU87+AW87+AY87 -> 90 | AV87: 3Z | AW87: 90
A88: 82 | B88: HARO, LISANDRO | C88: 2010 | D88: LIB | E88: =G88+I88+K88+M88+O88+Q88+S88+U88+W88+Y88+AA88+AC88+AE88+AG88+AI88+AK88+AM88+AO88+AQ88+AS88+AU88+AW88+AY88 -> 90 | AV88: 3Z | AW88: 90
A89: 83 | B89: BERRETTA, RAFAEL | C89: 2010 | D89: URU | E89: =G89+I89+K89+M89+O89+Q89+S89+U89+W89+Y89+AA89+AC89+AE89+AG89+AI89+AK89+AM89+AO89+AQ89+AS89+AU89+AW89+AY89 -> 90 | AV89: 3Z | AW89: 90
A90: 84 | B90: NICOLAI, GASTON | C90: 2010 | D90: LIB | E90: =G90+I90+K90+M90+O90+Q90+S90+U90+W90+Y90+AA90+AC90+AE90+AG90+AI90+AK90+AM90+AO90+AQ90+AS90+AU90+AW90+AY90 -> 90 | AV90: 3Z | AW90: 90
A91: 85 | B91: MARTINO, FRANCO | C91: 2010 | D91: FET | E91: =G91+I91+K91+M91+O91+Q91+S91+U91+W91+Y91+AA91+AC91+AE91+AG91+AI91+AK91+AM91+AO91+AQ91+AS91+AU91+AW91+AY91 -> 90 | AH91: 8F | AI91: 45 | AN91: 8F | AO91: 45
