Workbook
Name _Hlk91591435: 'ID U13'!#REF!

Sheet ID U9
B1: INDIVIDUAL DAMAS U9 | F1: RANKING NACIONAL | TEMPORADA 2026
F2: Challenger | H2: Regional Abierto | J2: Challenger | L2: Regional Abierto | N2: Regional Abierto | P2: Regional Abierto | R2: Regional Abierto | T2: Regional Abierto | V2: Regional Abierto | X2: Regional Abierto | Z2: Challenger | AB2: Regional Abierto | AD2: Nacional | AF2: Regional Abierto | AH2: Regional Abierto | AJ2: Regional Abierto | AL2: Grand Prix | AN2: Regional Abierto | AP2: Regional Abierto | AR2: Regional Abierto | AT2: Challenger | AV2: Abierto de la Rep. | AX2: Challenger
F3: CHAPADMALAL | H3: FETEMBA | J3: SANT. DEL ESTERO | L3: MENDOZA | N3: SALTA | P3: TIERRA DEL FUEGO | R3: FETEMBA | T3: JUJUY | V3: SANTA FE | X3: MENDOZA | Z3: SALTA | AB3: NEUQUÉN | AD3: SANTA FE | AF3: MENDOZA | AH3: FETEMBA | AJ3: SANTA CRUZ | AL3: MENDOZA | AN3: FETEMBA | AP3: MENDOZA | AR3: RIO NEGRO | AT3: ROSARIO | AV3: BUENOS AIRES | AX3: ROSARIO
F4: 2 A 4 MAR 2025 | H4: 29 Y 30 MAR 2025 | J4: 11 A 13 ABR 2025 | L4: 26 Y 27 ABR 2025 | N4: 26 Y 27 ABR 2025 | P4: 04 MAY 2025 | R4: 10 Y 11 MAY 2025 | T4: 24 Y 25 MAY 2025 | V4: 31 MAY Y 1 JUN 2025 | X4: 7 Y 8 JUN 2025 | Z4: 14 A 16 JUN 2025 | AB4: 21 Y 22 JUN 2025 | AD4: 9 A 13 JUL 2025 | AF4: 9 Y 10 AGO 2025 | AH4: 15 AGO 2025 | AJ4: 15 A 17 AGO 2025 | AL4: 5 A 7 SEP 2025 | AN4: 27 Y 28 SEP 2025 | AP4: 4 Y 5 OCT 2025 | AR4: 11 Y 12 OCT 2025 | AT4: 17 A 19 OCT 2025 | AV4: 21 A 24 NOV 2025 | AX4: 15 A 17 FEB 2026
A5: POS. | B5: ATLETA | C5: CAT. | D5: ASOC. | E5: TOTAL | F5: Pos. | G5: Ptos. | H5: Pos. | I5: Ptos. | J5: Pos. | K5: Ptos. | L5: Pos. | M5: Ptos. | N5: Pos. | O5: Ptos. | P5: Pos. | Q5: Ptos. | R5: Pos. | S5: Ptos. | T5: Pos. | U5: Ptos. | V5: Pos. | W5: Ptos. | X5: Pos. | Y5: Ptos. | Z5: Pos. | AA5: Ptos. | AB5: Pos. | AC5: Ptos. | AD5: Pos. | AE5: Ptos. | AF5: Pos. | AG5: Ptos. | AH5: Pos. | AI5: Ptos. | AJ5: Pos. | AK5: Ptos. | AL5: Pos. | AM5: Ptos. | AN5: Pos. | AO5: Ptos. | AP5: Pos. | AQ5: Ptos. | AR5: Pos. | AS5: Ptos. | AT5: Pos. | AU5: Ptos. | AV5: Pos. | AW5: Ptos. | AX5: Pos. | AY5: Ptos.
A7: 1 | B7: SANHUEZA, ESPERANZA | C7: 2017 | D7: MZA | E7: =G7+I7+K7+M7+O7+Q7+S7+U7+W7+Y7+AA7+AC7+AE7+AG7+AI7+AK7+AM7+AO7+AQ7+AS7+AU7+AW7+AY7 -> 1145 | X7: 2 | Y7: 90 | AD7: SF | AE7: 315 | AF7: 1 | AG7: 110 | AL7: 2 | AM7: 270 | AP7: 1 | AQ7: 110 | AV7: 1B | AW7: 250
A8: 2 | B8: PASTERI, DELFINA | C8: 2017 | D8: SFE | E8: =G8+I8+K8+M8+O8+Q8+S8+U8+W8+Y8+AA8+AC8+AE8+AG8+AI8+AK8+AM8+AO8+AQ8+AS8+AU8+AW8+AY8 -> 1075 | AD8: 1B | AE8: 250 | AL8: 1 | AM8: 330 | AV8: SF | AW8: 315 | AX8: 2 | AY8: 180
A9: 3 | B9: PALAMEDI, ALMA ANTONELLA | C9: 2017 | D9: SFE | E9: =G9+I9+K9+M9+O9+Q9+S9+U9+W9+Y9+AA9+AC9+AE9+AG9+AI9+AK9+AM9+AO9+AQ9+AS9+AU9+AW9+AY9 -> 1030 | AD9: 2 | AE9: 405 | AV9: 2 | AW9: 405 | AX9: 1 | AY9: 220
A10: 4 | B10: PIRUZI, SIENNA | C10: 2018 | D10: MZA | E10: =G10+I10+K10+M10+O10+Q10+S10+U10+W10+Y10+AA10+AC10+AE10+AG10+AI10+AK10+AM10+AO10+AQ10+AS10+AU10+AW10+AY10 -> 795 | X10: 1 | Y10: 110 | AD10: SF | AE10: 315 | AF10: 2 | AG10: 90 | AL10: SF | AM10: 210 | AP10: SF | AQ10: 70
A11: 5 | B11: ALTO, MARTINA | C11: 2018 | D11: MZA | E11: =G11+I11+K11+M11+O11+Q11+S11+U11+W11+Y11+AA11+AC11+AE11+AG11+AI11+AK11+AM11+AO11+AQ11+AS11+AU11+AW11+AY11 -> 435 | X11: SF | Y11: 70 | AD11: SF B | AE11: 160 | AL11: 2B | AM11: 135 | AP11: SF | AQ11: 70
A12: 6 | B12: NOTARNICOLA, PAULINA | C12: 2019 | D12: SFE | E12: =G12+I12+K12+M12+O12+Q12+S12+U12+W12+Y12+AA12+AC12+AE12+AG12+AI12+AK12+AM12+AO12+AQ12+AS12+AU12+AW12+AY12 -> 345 | AV12: 2B | AW12: 205 | AX12: 3 | AY12: 140
A13: 7 | B13: ITALIANO, DONATELLA | C13: 2019 | D13: MZA | E13: =G13+I13+K13+M13+O13+Q13+S13+U13+W13+Y13+AA13+AC13+AE13+AG13+AI13+AK13+AM13+AO13+AQ13+AS13+AU13+AW13+AY13 -> 275 | X13: 3Z | Y13: 55 | AL13: 1B | AM13: 165 | AP13: 3Z | AQ13: 55
A14: 8 | B14: RICART CIACCI, EMMA | C14: 2017 | D14: CBA | E14: =G14+I14+K14+M14+O14+Q14+S14+U14+W14+Y14+AA14+AC14+AE14+AG14+AI14+AK14+AM14+AO14+AQ14+AS14+AU14+AW14+AY14 -> 205 | AD14: 2B | AE14: 205
A15: 9 | B15: NAVARRO, FIORELLA | C15: 2017 | D15: MZA | E15: =G15+I15+K15+M15+O15+Q15+S15+U15+W15+Y15+AA15+AC15+AE15+AG15+AI15+AK15+AM15+AO15+AQ15+AS15+AU15+AW15+AY15 -> 160 | AL15: SF B | AM15: 105 | AP15: 3Z | AQ15: 55
A16: 10 | B16: TRIVIÑO, BELLA | C16: 2017 | D16: LIB | E16: =G16+I16+K16+M16+O16+Q16+S16+U16+W16+Y16+AA16+AC16+AE16+AG16+AI16+AK16+AM16+AO16+AQ16+AS16+AU16+AW16+AY16 -> 160 | AV16: SF B | AW16: 160
A17: 10 | B17: SCHWEISTEIN, ANA | C17: 2018 | D17: SLU | E17: =G17+I17+K17+M17+O17+Q17+S17+U17+W17+Y17+AA17+AC17+AE17+AG17+AI17+AK17+AM17+AO17+AQ17+AS17+AU17+AW17+AY17 -> 160 | AD17: SF B | AE17: 160
A18: 12 | B18: RAJMIL,DELFINA | C18: 2018 | D18: SFE | E18: =G18+I18+K18+M18+O18+Q18+S18+U18+W18+Y18+AA18+AC18+AE18+AG18+AI18+AK18+AM18+AO18+AQ18+AS18+AU18+AW18+AY18 -> 110 | AX18: 4 | AY18: 110
A19: 13 | B19: PAREDES, ARIADNA | C19: 2019 | D19: SCZ | E19: =G19+I19+K19+M19+O19+Q19+S19+U19+W19+Y19+AA19+AC19+AE19+AG19+AI19+AK19+AM19+AO19+AQ19+AS19+AU19+AW19+AY19 -> 90 | AJ19: 2 | AK19: 90
A20: 14 | B20: VANOLI, LENA | C20: 2018 | D20: MZA | E20: =G20+I20+K20+M20+O20+Q20+S20+U20+W20+Y20+AA20+AC20+AE20+AG20+AI20+AK20+AM20+AO20+AQ20+AS20+AU20+AW20+AY20 -> 55 | X20: 3Z | Y20: 55

Sheet ID U11
B1: INDIVIDUAL DAMAS U11 | F1: RANKING NACIONAL | TEMPORADA 2026
F2: Challenger | H2: Regional Abierto | J2: Challenger | L2: Regional Abierto | N2: Regional Abierto | P2: Regional Abierto | R2: Regional Abierto | T2: Regional Abierto | V2: Regional Abierto | X2: Regional Abierto | Z2: Challenger | AB2: Regional Abierto | AD2: Nacional | AF2: Regional Abierto | AH2: Regional Abierto | AJ2: Regional Abierto | AL2: Grand Prix | AN2: Regional Abierto | AP2: Regional Abierto | AR2: Regional Abierto | AT2: Challenger | AV2: Abierto de la Rep. | AX2: Challenger
F3: CHAPADMALAL | H3: FETEMBA | J3: SANT. DEL ESTERO | L3: MENDOZA | N3: SALTA | P3: TIERRA DEL FUEGO | R3: FETEMBA | T3: JUJUY | V3: SANTA FE | X3: MENDOZA | Z3: SALTA | AB3: NEUQUÉN | AD3: SANTA FE | AF3: MENDOZA | AH3: FETEMBA | AJ3: SANTA CRUZ | AL3: MENDOZA | AN3: FETEMBA | AP3: MENDOZA | AR3: RIO NEGRO | AT3: ROSARIO | AV3: BUENOS AIRES | AX3: ROSARIO
F4: 2 A 4 MAR 2025 | H4: 29 Y 30 MAR 2025 | J4: 11 A 13 ABR 2025 | L4: 26 Y 27 ABR 2025 | N4: 26 Y 27 ABR 2025 | P4: 04 MAY 2025 | R4: 10 Y 11 MAY 2025 | T4: 24 Y 25 MAY 2025 | V4: 31 MAY Y 1 JUN 2025 | X4: 7 Y 8 JUN 2025 | Z4: 14 A 16 JUN 2025 | AB4: 21 Y 22 JUN 2025 | AD4: 9 A 13 JUL 2025 | AF4: 9 Y 10 AGO 2025 | AH4: 15 AGO 2025 | AJ4: 15 A 17 AGO 2025 | AL4: 5 A 7 SEP 2025 | AN4: 27 Y 28 SEP 2025 | AP4: 4 Y 5 OCT 2025 | AR4: 11 Y 12 OCT 2025 | AT4: 17 A 19 OCT 2025 | AV4: 21 A 24 NOV 2025 | AX4: 15 A 17 FEB 2026
A5: POS. | B5: ATLETA | C5: CAT. | D5: ASOC. | E5: TOTAL | F5: Pos. | G5: Ptos. | H5: Pos. | I5: Ptos. | J5: Pos. | K5: Ptos. | L5: Pos. | M5: Ptos. | N5: Pos. | O5: Ptos. | P5: Pos. | Q5: Ptos. | R5: Pos. | S5: Ptos. | T5: Pos. | U5: Ptos. | V5: Pos. | W5: Ptos. | X5: Pos. | Y5: Ptos. | Z5: Pos. | AA5: Ptos. | AB5: Pos. | AC5: Ptos. | AD5: Pos. | AE5: Ptos. | AF5: Pos. | AG5: Ptos. | AH5: Pos. | AI5: Ptos. | AJ5: Pos. | AK5: Ptos. | AL5: Pos. | AM5: Ptos. | AN5: Pos. | AO5: Ptos. | AP5: Pos. | AQ5: Ptos. | AR5: Pos. | AS5: Ptos. | AT5: Pos. | AU5: Ptos. | AV5: Pos. | AW5: Ptos. | AX5: Pos. | AY5: Ptos.
A7: 1 | B7: PIRUZI, ALBA ALLEGRA | C7: 2015 | D7: MZA | E7: =G7+I7+K7+M7+O7+Q7+S7+U7+W7+Y7+AA7+AC7+AE7+AG7+AI7+AK7+AM7+AO7+AQ7+AS7+AU7+AW7+AY7 -> 1245 | L7: 2 | M7: 90 | X7: 2 | Y7: 90 | Z7: 2 | AA7: 180 | AD7: SF | AE7: 315 | AF7: 1 | AG7: 110 | AL7: SF | AM7: 210 | AV7: 4F | AW7: 250
A8: 2 | B8: ALVARADO, ORIANA | C8: 2015 | D8: SCZ | E8: =G8+I8+K8+M8+O8+Q8+S8+U8+W8+Y8+AA8+AC8+AE8+AG8+AI8+AK8+AM8+AO8+AQ8+AS8+AU8+AW8+AY8 -> 1145 | P8: 1 | Q8: 110 | AD8: 4F | AE8: 250 | AJ8: 1 | AK8: 110 | AV8: 1 | AW8: 495 | AX8: 2 | AY8: 180
A9: 3 | B9: BIBBO, AITANA | C9: 2015 | D9: SFE | E9: =G9+I9+K9+M9+O9+Q9+S9+U9+W9+Y9+AA9+AC9+AE9+AG9+AI9+AK9+AM9+AO9+AQ9+AS9+AU9+AW9+AY9 -> 1095 | AD9: 4F | AE9: 250 | AT9: 1 | AU9: 220 | AV9: 2 | AW9: 405 | AX9: 1 | AY9: 220
A10: 4 | B10: ROMERO, ANITA EMILIA | C10: 2015 | D10: COR | E10: =G10+I10+K10+M10+O10+Q10+S10+U10+W10+Y10+AA10+AC10+AE10+AG10+AI10+AK10+AM10+AO10+AQ10+AS10+AU10+AW10+AY10 -> 1035 | J10: 1 | K10: 220 | V10: 1 | W10: 110 | AD10: 4F | AE10: 250 | AV10: SF | AW10: 315 | AX10: SF | AY10: 140
A11: 5 | B11: HILARION, ZOE | C11: 2015 | D11: SCZ | E11: =G11+I11+K11+M11+O11+Q11+S11+U11+W11+Y11+AA11+AC11+AE11+AG11+AI11+AK11+AM11+AO11+AQ11+AS11+AU11+AW11+AY11 -> 860 | P11: 2 | Q11: 90 | AD11: SF | AE11: 315 | AV11: SF | AW11: 315 | AX11: SF | AY11: 140
A12: 6 | B12: PASTERI, DELFINA | C12: 2017 | D12: SFE | E12: =G12+I12+K12+M12+O12+Q12+S12+U12+W12+Y12+AA12+AC12+AE12+AG12+AI12+AK12+AM12+AO12+AQ12+AS12+AU12+AW12+AY12 -> 715 | AD12: SF B | AE12: 90 | AL12: SF | AM12: 210 | AT12: 3 | AU12: 140 | AV12: 8F | AW12: 205 | AX12: SF B | AY12: 70
A13: 7 | B13: TUSCO, MACKENSI | C13: 2015 | D13: SCZ | E13: =G13+I13+K13+M13+O13+Q13+S13+U13+W13+Y13+AA13+AC13+AE13+AG13+AI13+AK13+AM13+AO13+AQ13+AS13+AU13+AW13+AY13 -> 600 | P13: 3Z | Q13: 55 | AD13: 1B | AE13: 160 | AJ13: SF | AK13: 70 | AV13: 8F | AW13: 205 | AX13: 1B | AY13: 110
A14: 8 | B14: CASSARA, CAMILA | C14: 2016 | D14: FET | E14: =G14+I14+K14+M14+O14+Q14+S14+U14+W14+Y14+AA14+AC14+AE14+AG14+AI14+AK14+AM14+AO14+AQ14+AS14+AU14+AW14+AY14 -> 545 | R14: 2 | S14: 90 | AD14: 8F | AE14: 205 | AV14: 4F | AW14: 250
A15: 9 | B15: PALAMEDI, ALMA ANTONELLA | C15: 2017 | D15: SFE | E15: =G15+I15+K15+M15+O15+Q15+S15+U15+W15+Y15+AA15+AC15+AE15+AG15+AI15+AK15+AM15+AO15+AQ15+AS15+AU15+AW15+AY15 -> 430 | V15: 3 | W15: 70 | AT15: 4 | AU15: 110 | AV15: 1B | AW15: 160 | AX15: 2B | AY15: 90
A16: 10 | B16: SANHUEZA, ESPERANZA | C16: 2017 | D16: MZA | E16: =G16+I16+K16+M16+O16+Q16+S16+U16+W16+Y16+AA16+AC16+AE16+AG16+AI16+AK16+AM16+AO16+AQ16+AS16+AU16+AW16+AY16 -> 400 | L16: 4 | M16: 55 | AF16: 2 | AG16: 90 | AL16: 1B | AM16: 165 | AV16: SF B | AW16: 90
A17: 11 | B17: HARO, YASMIN | C17: 2016 | D17: SCZ | E17: =G17+I17+K17+M17+O17+Q17+S17+U17+W17+Y17+AA17+AC17+AE17+AG17+AI17+AK17+AM17+AO17+AQ17+AS17+AU17+AW17+AY17 -> 305 | P17: 3Z | Q17: 55 | AJ17: 3Z | AK17: 45 | AV17: 8F | AW17: 205
A18: 12 | B18: PIRUZI, SIENNA | C18: 2018 | D18: MZA | E18: =G18+I18+K18+M18+O18+Q18+S18+U18+W18+Y18+AA18+AC18+AE18+AG18+AI18+AK18+AM18+AO18+AQ18+AS18+AU18+AW18+AY18 -> 295 | L18: 5 | M18: 45 | X18: 3 | Y18: 70 | Z18: 4 | AA18: 110 | AF18: 3 | AG18: 70
A19: 13 | B19: ESTIGARRIBIA, PAULA | C19: 2015 | D19: SCZ | E19: =G19+I19+K19+M19+O19+Q19+S19+U19+W19+Y19+AA19+AC19+AE19+AG19+AI19+AK19+AM19+AO19+AQ19+AS19+AU19+AW19+AY19 -> 275 | P19: SF | Q19: 70 | AV19: 8F | AW19: 205
A20: 14 | B20: ULLOA, ALUEN AGOSTINA | C20: 2015 | D20: LIB | E20: =G20+I20+K20+M20+O20+Q20+S20+U20+W20+Y20+AA20+AC20+AE20+AG20+AI20+AK20+AM20+AO20+AQ20+AS20+AU20+AW20+AY20 -> 250 | AV20: 4F | AW20: 250
A21: 15 | B21: FIORE SHIMOJI, ANA SAKURAKO | C21: 2016 | D21: FET | E21: =G21+I21+K21+M21+O21+Q21+S21+U21+W21+Y21+AA21+AC21+AE21+AG21+AI21+AK21+AM21+AO21+AQ21+AS21+AU21+AW21+AY21 -> 185 | AV21: 2B | AW21: 115 | AX21: SF B | AY21: 70
A22: 16 | B22: PAVCOVICH BINIMELIS, MILAGRO | C22: 2015 | D22: SDE | E22: =G22+I22+K22+M22+O22+Q22+S22+U22+W22+Y22+AA22+AC22+AE22+AG22+AI22+AK22+AM22+AO22+AQ22+AS22+AU22+AW22+AY22 -> 140 | J22: 3 | K22: 140
A23: 17 | B23: VILLEGAS, CANDELARIA | C23: 2016 | D23: MZA | E23: =G23+I23+K23+M23+O23+Q23+S23+U23+W23+Y23+AA23+AC23+AE23+AG23+AI23+AK23+AM23+AO23+AQ23+AS23+AU23+AW23+AY23 -> 135 | AL23: 2B | AM23: 135
A24: 18 | B24: SCHWEISTEIN, CATALINA | C24: 2015 | D24: SLU | E24: =G24+I24+K24+M24+O24+Q24+S24+U24+W24+Y24+AA24+AC24+AE24+AG24+AI24+AK24+AM24+AO24+AQ24+AS24+AU24+AW24+AY24 -> 115 | AD24: 2B | AE24: 115
A25: 19 | B25: MARTINEZ LEGUIZAMON, LISANDRA | C25: 2016 | D25: SDE | E25: =G25+I25+K25+M25+O25+Q25+S25+U25+W25+Y25+AA25+AC25+AE25+AG25+AI25+AK25+AM25+AO25+AQ25+AS25+AU25+AW25+AY25 -> 110 | J25: 4 | K25: 110
A26: 20 | B26: RICART CIACCI, EMMA | C26: 2017 | D26: CBA | E26: =G26+I26+K26+M26+O26+Q26+S26+U26+W26+Y26+AA26+AC26+AE26+AG26+AI26+AK26+AM26+AO26+AQ26+AS26+AU26+AW26+AY26 -> 90 | AD26: SF B | AE26: 90
A27: 21 | B27: NIEVA, SOFIA | C27: 2015 | D27: SCZ | E27: =G27+I27+K27+M27+O27+Q27+S27+U27+W27+Y27+AA27+AC27+AE27+AG27+AI27+AK27+AM27+AO27+AQ27+AS27+AU27+AW27+AY27 -> 55 | AJ27: 4F | AK27: 55
A28: 21 | B28: FARFAN ALANCAY, BRIANA | C28: 2016 | D28: SAL | E28: =G28+I28+K28+M28+O28+Q28+S28+U28+W28+Y28+AA28+AC28+AE28+AG28+AI28+AK28+AM28+AO28+AQ28+AS28+AU28+AW28+AY28 -> 55 | N28: 4 | O28: 55
A29: 23 | B29: CARDENAS, SHARON | C29: 2016 | D29: SCZ | E29: =G29+I29+K29+M29+O29+Q29+S29+U29+W29+Y29+AA29+AC29+AE29+AG29+AI29+AK29+AM29+AO29+AQ29+AS29+AU29+AW29+AY29 -> 45 | AJ29: 3Z | AK29: 45
A30: 23 | B30: SOLA, BIANCA | C30: 2017 | D30: JUJ | E30: =G30+I30+K30+M30+O30+Q30+S30+U30+W30+Y30+AA30+AC30+AE30+AG30+AI30+AK30+AM30+AO30+AQ30+AS30+AU30+AW30+AY30 -> 45 | N30: 5 | O30: 45

Sheet ID U13
B1: INDIVIDUAL DAMAS U13 | F1: RANKING NACIONAL | TEMPORADA 2026
F2: Challenger | H2: Regional Abierto | J2: Challenger | L2: Regional Abierto | N2: Regional Abierto | P2: Regional Abierto | R2: Regional Abierto | T2: Regional Abierto | V2: Regional Abierto | X2: Regional Abierto | Z2: Challenger | AB2: Regional Abierto | AD2: Nacional | AF2: Regional Abierto | AH2: Regional Abierto | AJ2: Regional Abierto | AL2: Grand Prix | AN2: Regional Abierto | AP2: Regional Abierto | AR2: Regional Abierto | AT2: Challenger | AV2: Abierto de la Rep. | AX2: Challenger
F3: CHAPADMALAL | H3: FETEMBA | J3: SANT. DEL ESTERO | L3: MENDOZA | N3: SALTA | P3: TIERRA DEL FUEGO | R3: FETEMBA | T3: JUJUY | V3: SANTA FE | X3: MENDOZA | Z3: SALTA | AB3: NEUQUÉN | AD3: SANTA FE | AF3: MENDOZA | AH3: FETEMBA | AJ3: SANTA CRUZ | AL3: MENDOZA | AN3: FETEMBA | AP3: MENDOZA | AR3: RIO NEGRO | AT3: ROSARIO | AV3: BUENOS AIRES | AX3: ROSARIO
F4: 2 A 4 MAR 2025 | H4: 29 Y 30 MAR 2025 | J4: 11 A 13 ABR 2025 | L4: 26 Y 27 ABR 2025 | N4: 26 Y 27 ABR 2025 | P4: 04 MAY 2025 | R4: 10 Y 11 MAY 2025 | T4: 24 Y 25 MAY 2025 | V4: 31 MAY Y 1 JUN 2025 | X4: 7 Y 8 JUN 2025 | Z4: 14 A 16 JUN 2025 | AB4: 21 Y 22 JUN 2025 | AD4: 9 A 13 JUL 2025 | AF4: 9 Y 10 AGO 2025 | AH4: 15 AGO 2025 | AJ4: 15 A 17 AGO 2025 | AL4: 5 A 7 SEP 2025 | AN4: 27 Y 28 SEP 2025 | AP4: 4 Y 5 OCT 2025 | AR4: 11 Y 12 OCT 2025 | AT4: 17 A 19 OCT 2025 | AV4: 21 A 24 NOV 2025 | AX4: 15 A 17 FEB 2026
A5: POS. | B5: ATLETA | C5: CAT. | D5: ASOC. | E5: TOTAL | F5: Pos. | G5: Ptos. | H5: Pos. | I5: Ptos. | J5: Pos. | K5: Ptos. | L5: Pos. | M5: Ptos. | N5: Pos. | O5: Ptos. | P5: Pos. | Q5: Ptos. | R5: Pos. | S5: Ptos. | T5: Pos. | U5: Ptos. | V5: Pos. | W5: Ptos. | X5: Pos. | Y5: Ptos. | Z5: Pos. | AA5: Ptos. | AB5: Pos. | AC5: Ptos. | AD5: Pos. | AE5: Ptos. | AF5: Pos. | AG5: Ptos. | AH5: Pos. | AI5: Ptos. | AJ5: Pos. | AK5: Ptos. | AL5: Pos. | AM5: Ptos. | AN5: Pos. | AO5: Ptos. | AP5: Pos. | AQ5: Ptos. | AR5: Pos. | AS5: Ptos. | AT5: Pos. | AU5: Ptos. | AV5: Pos. | AW5: Ptos. | AX5: Pos. | AY5: Ptos.
A7: 1 | B7: SATO, MIA HIROMMI | C7: 2014 | D7: FET | E7: =G7+I7+K7+M7+O7+Q7+S7+U7+W7+Y7+AA7+AC7+AE7+AG7+AI7+AK7+AM7+AO7+AQ7+AS7+AU7+AW7+AY7 -> 1585.1937 | F7: 3 | G7: 0.14 | H7: Prom. | I7: 0.05375 | V7: SF | W7: 70 | AD7: 4F | AE7: 250 | AH7: 2 | AI7: 90 | AL7: 1 | AM7: 330 | AN7: 2 | AO7: 90 | AT7: 1 | AU7: 220 | AV7: SF | AW7: 315 | AX7: 1 | AY7: 220
A8: 2 | B8: CRUZ MUÑOZ, MARTINA | C8: 2013 | D8: FET | E8: =G8+I8+K8+M8+O8+Q8+S8+U8+W8+Y8+AA8+AC8+AE8+AG8+AI8+AK8+AM8+AO8+AQ8+AS8+AU8+AW8+AY8 -> 1205.07 | F8: 1 | G8: 220 | H8: 1 | I8: 110 | R8: SF | S8: 0.07 | AD8: 4F | AE8: 250 | AH8: 1 | AI8: 110 | AN8: 1 | AO8: 110 | AV8: 2 | AW8: 405
A9: 3 | B9: SIALLE, CONSTANTINA | C9: 2013 | D9: SEN | E9: =G9+I9+K9+M9+O9+Q9+S9+U9+W9+Y9+AA9+AC9+AE9+AG9+AI9+AK9+AM9+AO9+AQ9+AS9+AU9+AW9+AY9 -> 1160.14 | J9: 2 | K9: 180 | N9: SF | O9: 70 | T9: 1 | U9: 110 | Z9: SF | AA9: 0.14 | AD9: 8F | AE9: 205 | AL9: SF | AM9: 210 | AV9: 8F | AW9: 205 | AX9: 2 | AY9: 180
A10: 4 | B10: TOSCANO, DAIANA ANTONELLA | C10: 2013 | D10: SAL | E10: =G10+I10+K10+M10+O10+Q10+S10+U10+W10+Y10+AA10+AC10+AE10+AG10+AI10+AK10+AM10+AO10+AQ10+AS10+AU10+AW10+AY10 -> 1140 | N10: 1 | O10: 110 | Z10: 1 | AA10: 220 | AD10: SF | AE10: 315 | AV10: 1 | AW10: 495
A11: 5 | B11: VERA ARROYO, MIA LUANNA | C11: 2014 | D11: MZA | E11: =G11+I11+K11+M11+O11+Q11+S11+U11+W11+Y11+AA11+AC11+AE11+AG11+AI11+AK11+AM11+AO11+AQ11+AS11+AU11+AW11+AY11 -> 1045 | L11: 1 | M11: 110 | X11: 1 | Y11: 110 | AD11: 8F | AE11: 205 | AL11: 1B | AM11: 165 | AP11: 1 | AQ11: 110 | AV11: 8F | AW11: 205 | AX11: SF | AY11: 140
A12: 6 | B12: OLIVAREZ, ISABELLA | C12: 2014 | D12: SFE | E12: =G12+I12+K12+M12+O12+Q12+S12+U12+W12+Y12+AA12+AC12+AE12+AG12+AI12+AK12+AM12+AO12+AQ12+AS12+AU12+AW12+AY12 -> 1045 | R12: SF | S12: 70 | V12: 2 | W12: 90 | AD12: SF | AE12: 315 | AT12: 2 | AU12: 180 | AV12: 4F | AW12: 250 | AX12: SF | AY12: 140
A13: 7 | B13: PIRUZI, ALBA ALLEGRA | C13: 2015 | D13: MZA | E13: =G13+I13+K13+M13+O13+Q13+S13+U13+W13+Y13+AA13+AC13+AE13+AG13+AI13+AK13+AM13+AO13+AQ13+AS13+AU13+AW13+AY13 -> 900.09 | L13: 2 | M13: 0.09 | X13: 2 | Y13: 90 | Z13: 4F | AA13: 110 | AD13: 8F | AE13: 205 | AF13: 1 | AG13: 110 | AL13: 2B | AM13: 135 | AP13: 2 | AQ13: 90 | AV13: 16F | AW13: 160
A14: 8 | B14: GALLARDO BERESIARTE, PILAR | C14: 2013 | D14: SAL | E14: =G14+I14+K14+M14+O14+Q14+S14+U14+W14+Y14+AA14+AC14+AE14+AG14+AI14+AK14+AM14+AO14+AQ14+AS14+AU14+AW14+AY14 -> 820 | N14: SF | O14: 70 | T14: 2 | U14: 90 | Z14: SF | AA14: 140 | AD14: 8F | AE14: 205 | AV14: 8F | AW14: 205 | AX14: 4F | AY14: 110
A15: 9 | B15: ALVARADO, ORIANA | C15: 2015 | D15: SCZ | E15: =G15+I15+K15+M15+O15+Q15+S15+U15+W15+Y15+AA15+AC15+AE15+AG15+AI15+AK15+AM15+AO15+AQ15+AS15+AU15+AW15+AY15 -> 790 | P15: 2 | Q15: 90 | AD15: 4F | AE15: 250 | AJ15: 1 | AK15: 110 | AV15: 4F | AW15: 250 | AX15: 1B | AY15: 90
A16: 10 | B16: SERRANO, SOL | C16: 2014 | D16: FET | E16: =G16+I16+K16+M16+O16+Q16+S16+U16+W16+Y16+AA16+AC16+AE16+AG16+AI16+AK16+AM16+AO16+AQ16+AS16+AU16+AW16+AY16 -> 755.045 | R16: 2B | S16: 0.045 | V16: SF | W16: 70 | AD16: 2B | AE16: 90 | AH16: SF | AI16: 70 | AL16: SF | AM16: 210 | AN16: 2B | AO16: 45 | AT16: 1B | AU16: 110 | AV16: 16F | AW16: 160
A17: 11 | B17: ROMERO, ANITA EMILIA | C17: 2015 | D17: COR | E17: =G17+I17+K17+M17+O17+Q17+S17+U17+W17+Y17+AA17+AC17+AE17+AG17+AI17+AK17+AM17+AO17+AQ17+AS17+AU17+AW17+AY17 -> 715 | J17: 3 | K17: 140 | V17: 1B | W17: 55 | AD17: 8F | AE17: 205 | AV17: 8F | AW17: 205 | AX17: 4F | AY17: 110
A18: 12 | B18: ECHEGARAY, PIA | C18: 2013 | D18: MZA | E18: =G18+I18+K18+M18+O18+Q18+S18+U18+W18+Y18+AA18+AC18+AE18+AG18+AI18+AK18+AM18+AO18+AQ18+AS18+AU18+AW18+AY18 -> 530.055 | L18: 4 | M18: 0.055 | X18: 3Z | Y18: 55 | AD18: SF B | AE18: 70 | AF18: 3 | AG18: 70 | AL18: SF B | AM18: 105 | AP18: 3 | AQ18: 70 | AV18: 16F | AW18: 160
A19: 13 | B19: BIBBO, AITANA | C19: 2015 | D19: SFE | E19: =G19+I19+K19+M19+O19+Q19+S19+U19+W19+Y19+AA19+AC19+AE19+AG19+AI19+AK19+AM19+AO19+AQ19+AS19+AU19+AW19+AY19 -> 500 | AT19: SF | AU19: 140 | AV19: 4F | AW19: 250 | AX19: 4F | AY19: 110
A20: 14 | B20: GONZALEZ, CATALINA | C20: 2013 | D20: MZA | E20: =G20+I20+K20+M20+O20+Q20+S20+U20+W20+Y20+AA20+AC20+AE20+AG20+AI20+AK20+AM20+AO20+AQ20+AS20+AU20+AW20+AY20 -> 495.045 | L20: 3 | M20: 70 | X20: 3Z | Y20: 55 | AD20: 16F | AE20: 160 | AF20: 4 | AG20: 55 | AL20: SF B | AM20: 105 | AP20: 5 | AQ20: 0.045 | AX20: SF B | AY20: 50
A21: 15 | B21: HILARION, ZOE | C21: 2015 | D21: SCZ | E21: =G21+I21+K21+M21+O21+Q21+S21+U21+W21+Y21+AA21+AC21+AE21+AG21+AI21+AK21+AM21+AO21+AQ21+AS21+AU21+AW21+AY21 -> 490 | P21: 3Z | Q21: 55 | AD21: 16F | AE21: 160 | AV21: 8F | AW21: 205 | AX21: 2B | AY21: 70
A22: 16 | B22: TOSCANO, FLORENCIA DANIELA | C22: 2014 | D22: SAL | E22: =G22+I22+K22+M22+O22+Q22+S22+U22+W22+Y22+AA22+AC22+AE22+AG22+AI22+AK22+AM22+AO22+AQ22+AS22+AU22+AW22+AY22 -> 370 | N22: 1B | O22: 55 | Z22: 4F | AA22: 110 | AD22: 8F | AE22: 205
A23: 17 | B23: ESTIGARRIBIA, NICOL | C23: 2014 | D23: SCZ | E23: =G23+I23+K23+M23+O23+Q23+S23+U23+W23+Y23+AA23+AC23+AE23+AG23+AI23+AK23+AM23+AO23+AQ23+AS23+AU23+AW23+AY23 -> 345 | P23: SF | Q23: 70 | AJ23: SF | AK23: 70 | AV23: 8F | AW23: 205
A24: 18 | B24: MANSILLA, OLIVIA | C24: 2013 | D24: FET | E24: =G24+I24+K24+M24+O24+Q24+S24+U24+W24+Y24+AA24+AC24+AE24+AG24+AI24+AK24+AM24+AO24+AQ24+AS24+AU24+AW24+AY24 -> 310.035 | H24: 4 | I24: 55 | R24: SF B | S24: 0.035 | Z24: 1B | AA24: 90 | AH24: 2B | AI24: 45 | AN24: SF | AO24: 70 | AX24: SF B | AY24: 50
A25: 19 | B25: LOPEZ, MIA | C25: 2013 | D25: FET | E25: =G25+I25+K25+M25+O25+Q25+S25+U25+W25+Y25+AA25+AC25+AE25+AG25+AI25+AK25+AM25+AO25+AQ25+AS25+AU25+AW25+AY25 -> 305 | AH25: SF B | AI25: 35 | AN25: SF | AO25: 70 | AV25: 2B | AW25: 90 | AX25: 4F | AY25: 110
A26: 20 | B26: GARCIA FOCHI, MARIA PILAR | C26: 2014 | D26: SEN | E26: =G26+I26+K26+M26+O26+Q26+S26+U26+W26+Y26+AA26+AC26+AE26+AG26+AI26+AK26+AM26+AO26+AQ26+AS26+AU26+AW26+AY26 -> 205 | J26: 5 | K26: 90 | N26: 2B | O26: 45 | Z26: 2B | AA26: 70
A27: 21 | B27: TUSCO, MACKENSI | C27: 2015 | D27: SCZ | E27: =G27+I27+K27+M27+O27+Q27+S27+U27+W27+Y27+AA27+AC27+AE27+AG27+AI27+AK27+AM27+AO27+AQ27+AS27+AU27+AW27+AY27 -> 180 | P27: 4Z | Q27: 55 | AD27: SF B | AE27: 70 | AJ27: 4F | AK27: 55
A28: 22 | B28: BOTHIN, AYLIN JOSEFINA | C28: 2013 | D28: LIB | E28: =G28+I28+K28+M28+O28+Q28+S28+U28+W28+Y28+AA28+AC28+AE28+AG28+AI28+AK28+AM28+AO28+AQ28+AS28+AU28+AW28+AY28 -> 160 | AV28: 16F | AW28: 160
A29: 22 | B29: ULLOA, ALUEN AGOSTINA | C29: 2015 | D29: LIB | E29: =G29+I29+K29+M29+O29+Q29+S29+U29+W29+Y29+AA29+AC29+AE29+AG29+AI29+AK29+AM29+AO29+AQ29+AS29+AU29+AW29+AY29 -> 160 | AV29: 16F | AW29: 160
A30: 24 | B30: MUT, ANA LAURA | C30: 2013 | D30: MZA | E30: =G30+I30+K30+M30+O30+Q30+S30+U30+W30+Y30+AA30+AC30+AE30+AG30+AI30+AK30+AM30+AO30+AQ30+AS30+AU30+AW30+AY30 -> 125 | X30: SF | Y30: 70 | AP30: 4 | AQ30: 55
A31: 25 | B31: ESTIGARRIBIA, PAULA | C31: 2015 | D31: SCZ | E31: =G31+I31+K31+M31+O31+Q31+S31+U31+W31+Y31+AA31+AC31+AE31+AG31+AI31+AK31+AM31+AO31+AQ31+AS31+AU31+AW31+AY31 -> 125 | P31: 3Z | Q31: 55 | AV31: SF B | AW31: 70
A32: 26 | B32: CASSARA, CAMILA | C32: 2016 | D32: FET | E32: =G32+I32+K32+M32+O32+Q32+S32+U32+W32+Y32+AA32+AC32+AE32+AG32+AI32+AK32+AM32+AO32+AQ32+AS32+AU32+AW32+AY32 -> 125 | AH32: SF | AI32: 70 | AN32: 1B | AO32: 55
A33: 27 | B33: PAVCOVICH BINIMELIS, MILAGRO | C33: 2015 | D33: SDE | E33: =G33+I33+K33+M33+O33+Q33+S33+U33+W33+Y33+AA33+AC33+AE33+AG33+AI33+AK33+AM33+AO33+AQ33+AS33+AU33+AW33+AY33 -> 110 | J33: 4 | K33: 110
A34: 28 | B34: PASTERI, DELFINA | C34: 2017 | D34: SFE | E34: =G34+I34+K34+M34+O34+Q34+S34+U34+W34+Y34+AA34+AC34+AE34+AG34+AI34+AK34+AM34+AO34+AQ34+AS34+AU34+AW34+AY34 -> 110 | F34: 4 | G34: 110
A35: 29 | B35: MOSCOSO GIORNO, VALENTINA | C35: 2013 | D35: FET | E35: =G35+I35+K35+M35+O35+Q35+S35+U35+W35+Y35+AA35+AC35+AE35+AG35+AI35+AK35+AM35+AO35+AQ35+AS35+AU35+AW35+AY35 -> 70 | AV35: SF B | AW35: 70
A36: 30 | B36: LAI, AYELEN | C36: 2014 | D36: FET | E36: =G36+I36+K36+M36+O36+Q36+S36+U36+W36+Y36+AA36+AC36+AE36+AG36+AI36+AK36+AM36+AO36+AQ36+AS36+AU36+AW36+AY36 -> 55 | AH36: 1B | AI36: 55
A37: 31 | B37: HARO, YASMIN | C37: 2016 | D37: SCZ | E37: =G37+I37+K37+M37+O37+Q37+S37+U37+W37+Y37+AA37+AC37+AE37+AG37+AI37+AK37+AM37+AO37+AQ37+AS37+AU37+AW37+AY37 -> 55 | AJ37: 4F | AK37: 55
A38: 32 | B38: MANSILLA, ALDANA | C38: 2013 | D38: SCZ | E38: =G38+I38+K38+M38+O38+Q38+S38+U38+W38+Y38+AA38+AC38+AE38+AG38+AI38+AK38+AM38+AO38+AQ38+AS38+AU38+AW38+AY38 -> 45 | AJ38: 3Z | AK38: 45
A39: 33 | B39: SERVIN, ALMA | C39: 2014 | D39: SCZ | E39: =G39+I39+K39+M39+O39+Q39+S39+U39+W39+Y39+AA39+AC39+AE39+AG39+AI39+AK39+AM39+AO39+AQ39+AS39+AU39+AW39+AY39 -> 45 | AJ39: 3Z | AK39: 45
A40: 34 | B40: MIRANDA, ALMA | C40: 2014 | D40: SCZ | E40: =G40+I40+K40+M40+O40+Q40+S40+U40+W40+Y40+AA40+AC40+AE40+AG40+AI40+AK40+AM40+AO40+AQ40+AS40+AU40+AW40+AY40 -> 45 | AJ40: 3Z | AK40: 45
A41: 35 | B41: SADOMTSEVA, ALENA | C41: 2013 | D41: FET | E41: =G41+I41+K41+M41+O41+Q41+S41+U41+W41+Y41+AA41+AC41+AE41+AG41+AI41+AK41+AM41+AO41+AQ41+AS41+AU41+AW41+AY41 -> 35 | AN41: SF B | AO41: 35

Sheet ID U15
B1: INDIVIDUAL DAMAS U15 | F1: RANKING NACIONAL | TEMPORADA 2026
F2: Challenger | H2: Regional Abierto | J2: Challenger | L2: Regional Abierto | N2: Regional Abierto | P2: Regional Abierto | R2: Regional Abierto | T2: Regional Abierto | V2: Regional Abierto | X2: Regional Abierto | Z2: Challenger | AB2: Regional Abierto | AD2: Nacional | AF2: Regional Abierto | AH2: Regional Abierto | AJ2: Regional Abierto | AL2: Grand Prix | AN2: Regional Abierto | AP2: Regional Abierto | AR2: Regional Abierto | AT2: Challenger | AV2: Abierto de la Rep. | AX2: Challenger
F3: CHAPADMALAL | H3: FETEMBA | J3: SANT. DEL ESTERO | L3: MENDOZA | N3: SALTA | P3: TIERRA DEL FUEGO | R3: FETEMBA | T3: JUJUY | V3: SANTA FE | X3: MENDOZA | Z3: SALTA | AB3: NEUQUÉN | AD3: SANTA FE | AF3: MENDOZA | AH3: FETEMBA | AJ3: SANTA CRUZ | AL3: MENDOZA | AN3: FETEMBA | AP3: MENDOZA | AR3: RIO NEGRO | AT3: ROSARIO | AV3: BUENOS AIRES | AX3: ROSARIO
F4: 2 A 4 MAR 2025 | H4: 29 Y 30 MAR 2025 | J4: 11 A 13 ABR 2025 | L4: 26 Y 27 ABR 2025 | N4: 26 Y 27 ABR 2025 | P4: 04 MAY 2025 | R4: 10 Y 11 MAY 2025 | T4: 24 Y 25 MAY 2025 | V4: 31 MAY Y 1 JUN 2025 | X4: 7 Y 8 JUN 2025 | Z4: 14 A 16 JUN 2025 | AB4: 21 Y 22 JUN 2025 | AD4: 9 A 13 JUL 2025 | AF4: 9 Y 10 AGO 2025 | AH4: 15 AGO 2025 | AJ4: 15 A 17 AGO 2025 | AL4: 5 A 7 SEP 2025 | AN4: 27 Y 28 SEP 2025 | AP4: 4 Y 5 OCT 2025 | AR4: 11 Y 12 OCT 2025 | AT4: 17 A 19 OCT 2025 | AV4: 21 A 24 NOV 2025 | AX4: 15 A 17 FEB 2026
A5: POS. | B5: ATLETA | C5: CAT. | D5: ASOC. | E5: TOTAL | F5: Pos. | G5: Ptos. | H5: Pos. | I5: Ptos. | J5: Pos. | K5: Ptos. | L5: Pos. | M5: Ptos. | N5: Pos. | O5: Ptos. | P5: Pos. | Q5: Ptos. | R5: Pos. | S5: Ptos. | T5: Pos. | U5: Ptos. | V5: Pos. | W5: Ptos. | X5: Pos. | Y5: Ptos. | Z5: Pos. | AA5: Ptos. | AB5: Pos. | AC5: Ptos. | AD5: Pos. | AE5: Ptos. | AF5: Pos. | AG5: Ptos. | AH5: Pos. | AI5: Ptos. | AJ5: Pos. | AK5: Ptos. | AL5: Pos. | AM5: Ptos. | AN5: Pos. | AO5: Ptos. | AP5: Pos. | AQ5: Ptos. | AR5: Pos. | AS5: Ptos. | AT5: Pos. | AU5: Ptos. | AV5: Pos. | AW5: Ptos. | AX5: Pos. | AY5: Ptos.
A7: 1 | B7: SALUSSO, ALEXIA | C7: 2011 | D7: FET | E7: =G7+I7+K7+M7+O7+Q7+S7+U7+W7+Y7+AA7+AC7+AE7+AG7+AI7+AK7+AM7+AO7+AQ7+AS7+AU7+AW7+AY7 -> 1265 | H7: 1 | I7: 110 | R7: 4F | S7: 55 | AD7: 1 | AE7: 495 | AH7: 1 | AI7: 110 | AV7: 1 | AW7: 495
A8: 2 | B8: VALERIO, GEMMA | C8: 2011 | D8: SAL | E8: =G8+I8+K8+M8+O8+Q8+S8+U8+W8+Y8+AA8+AC8+AE8+AG8+AI8+AK8+AM8+AO8+AQ8+AS8+AU8+AW8+AY8 -> 1265.14 | J8: SF | K8: 0.14 | N8: SF | O8: 70 | T8: 1 | U8: 110 | Z8: 1 | AA8: 220 | AD8: SF | AE8: 315 | AH8: 4F | AI8: 55 | AV8: SF | AW8: 315 | AX8: 2 | AY8: 180
A9: 3 | B9: GUARDIA, MARIA VICTORIA | C9: 2011 | D9: SAL | E9: =G9+I9+K9+M9+O9+Q9+S9+U9+W9+Y9+AA9+AC9+AE9+AG9+AI9+AK9+AM9+AO9+AQ9+AS9+AU9+AW9+AY9 -> 1235.14 | J9: 2 | K9: 180 | N9: 1 | O9: 110 | Z9: SF | AA9: 0.14 | AH9: SF | AI9: 70 | AL9: 1 | AM9: 330 | AV9: 2 | AW9: 405 | AX9: SF | AY9: 140
A10: 4 | B10: GUIA MONZON, IXCHEL | C10: 2012 | D10: SFE | E10: =G10+I10+K10+M10+O10+Q10+S10+U10+W10+Y10+AA10+AC10+AE10+AG10+AI10+AK10+AM10+AO10+AQ10+AS10+AU10+AW10+AY10 -> 1151.25 | F10: Prom. | G10: 120 | H10: Prom. | I10: 46.25 | V10: 1 | W10: 110 | AD10: 2 | AE10: 405 | AV10: 4F | AW10: 250 | AX10: 1 | AY10: 220
A11: 5 | B11: SALPETER, LUANA | C11: 2012 | D11: FET | E11: =G11+I11+K11+M11+O11+Q11+S11+U11+W11+Y11+AA11+AC11+AE11+AG11+AI11+AK11+AM11+AO11+AQ11+AS11+AU11+AW11+AY11 -> 1121.305 | F11: 1 | G11: 220 | H11: Prom. | I11: 61.25 | R11: SF | S11: 70 | AD11: 4F | AE11: 250 | AH11: 4F | AI11: 0.055 | AN11: 2 | AO11: 90 | AT11: 2 | AU11: 180 | AV11: 4F | AW11: 250
A12: 6 | B12: PEREZ MAZZARELLO, MALENA | C12: 2011 | D12: FET | E12: =G12+I12+K12+M12+O12+Q12+S12+U12+W12+Y12+AA12+AC12+AE12+AG12+AI12+AK12+AM12+AO12+AQ12+AS12+AU12+AW12+AY12 -> 1030.055 | H12: 3 | I12: 70 | R12: 4F | S12: 0.055 | AD12: SF | AE12: 315 | AH12: 4F | AI12: 55 | AN12: 4F | AO12: 55 | AT12: 1 | AU12: 220 | AV12: SF | AW12: 315
A13: 7 | B13: MAEHAMA, TRINIDAD | C13: 2012 | D13: FET | E13: =G13+I13+K13+M13+O13+Q13+S13+U13+W13+Y13+AA13+AC13+AE13+AG13+AI13+AK13+AM13+AO13+AQ13+AS13+AU13+AW13+AY13 -> 1005.165 | H13: Prom. | I13: 0.025 | R13: SF | S13: 70 | Z13: SF | AA13: 0.14 | AD13: 8F | AE13: 205 | AH13: 2 | AI13: 90 | AN13: 1 | AO13: 110 | AT13: SF | AU13: 140 | AV13: 4F | AW13: 250 | AX13: SF | AY13: 140
A14: 8 | B14: SATO, MIA HIROMMI | C14: 2014 | D14: FET | E14: =G14+I14+K14+M14+O14+Q14+S14+U14+W14+Y14+AA14+AC14+AE14+AG14+AI14+AK14+AM14+AO14+AQ14+AS14+AU14+AW14+AY14 -> 995.1375 | F14: 4 | G14: 0.11 | H14: Prom. | I14: 0.0275 | V14: 4 | W14: 55 | AD14: 8F | AE14: 205 | AH14: 1B | AI14: 45 | AL14: SF | AM14: 210 | AN14: 4F | AO14: 55 | AT14: 1B | AU14: 110 | AV14: 8F | AW14: 205 | AX14: 4F | AY14: 110
A15: 9 | B15: IGLESIAS, VALENTINA | C15: 2011 | D15: MZA | E15: =G15+I15+K15+M15+O15+Q15+S15+U15+W15+Y15+AA15+AC15+AE15+AG15+AI15+AK15+AM15+AO15+AQ15+AS15+AU15+AW15+AY15 -> 905.035 | L15: 1 | M15: 110 | R15: 2B | S15: 0.035 | X15: 1 | Y15: 110 | AD15: 1B | AE15: 115 | AF15: 2 | AG15: 90 | AL15: SF | AM15: 210 | AV15: 16F | AW15: 160 | AX15: 4F | AY15: 110
A16: 10 | B16: SIALLE, CONSTANTINA | C16: 2013 | D16: SEN | E16: =G16+I16+K16+M16+O16+Q16+S16+U16+W16+Y16+AA16+AC16+AE16+AG16+AI16+AK16+AM16+AO16+AQ16+AS16+AU16+AW16+AY16 -> 775.09 | J16: 1B | K16: 110 | Z16: 1B | AA16: 0.09 | AD16: 8F | AE16: 205 | AL16: 4F | AM16: 165 | AV16: 8F | AW16: 205 | AX16: 8F | AY16: 90
A17: 11 | B17: CASTELLANO, SOPHIA LIZ | C17: 2011 | D17: FET | E17: =G17+I17+K17+M17+O17+Q17+S17+U17+W17+Y17+AA17+AC17+AE17+AG17+AI17+AK17+AM17+AO17+AQ17+AS17+AU17+AW17+AY17 -> 730.055 | H17: 2 | I17: 90 | R17: 4F | S17: 0.055 | AD17: 4F | AE17: 250 | AH17: SF | AI17: 70 | AN17: SF | AO17: 70 | AV17: 4F | AW17: 250
A18: 12 | B18: ACHAVAL FORRAY, ANNA ZOE | C18: 2012 | D18: SEN | E18: =G18+I18+K18+M18+O18+Q18+S18+U18+W18+Y18+AA18+AC18+AE18+AG18+AI18+AK18+AM18+AO18+AQ18+AS18+AU18+AW18+AY18 -> 645 | J18: 2B | K18: 90 | N18: 1B | O18: 55 | AD18: 8F | AE18: 205 | AL18: 1B | AM18: 135 | AV18: 2B | AW18: 90 | AX18: 1B | AY18: 70
A19: 13 | B19: GALLARDO BERESIARTE, PILAR | C19: 2013 | D19: SAL | E19: =G19+I19+K19+M19+O19+Q19+S19+U19+W19+Y19+AA19+AC19+AE19+AG19+AI19+AK19+AM19+AO19+AQ19+AS19+AU19+AW19+AY19 -> 590 | T19: 3 | U19: 70 | Z19: 4F | AA19: 110 | AD19: 16F | AE19: 160 | AV19: 16F | AW19: 160 | AX19: 8F | AY19: 90
A20: 14 | B20: CRUZ MUÑOZ, MARTINA | C20: 2013 | D20: FET | E20: =G20+I20+K20+M20+O20+Q20+S20+U20+W20+Y20+AA20+AC20+AE20+AG20+AI20+AK20+AM20+AO20+AQ20+AS20+AU20+AW20+AY20 -> 570.025 | F20: 3 | G20: 140 | H20: 4 | I20: 55 | R20: SF B | S20: 0.025 | AD20: 4F | AE20: 250 | AH20: 4F | AI20: 55 | AN20: SF | AO20: 70
A21: 15 | B21: OLIVAREZ, ISABELLA | C21: 2014 | D21: SFE | E21: =G21+I21+K21+M21+O21+Q21+S21+U21+W21+Y21+AA21+AC21+AE21+AG21+AI21+AK21+AM21+AO21+AQ21+AS21+AU21+AW21+AY21 -> 570 | R21: 1B | S21: 45 | V21: 3 | W21: 70 | AT21: SF | AU21: 140 | AV21: 8F | AW21: 205 | AX21: 4F | AY21: 110
A22: 16 | B22: GIULIANI ZAENZ, LARA | C22: 2012 | D22: SFE | E22: =G22+I22+K22+M22+O22+Q22+S22+U22+W22+Y22+AA22+AC22+AE22+AG22+AI22+AK22+AM22+AO22+AQ22+AS22+AU22+AW22+AY22 -> 565 | V22: 5 | W22: 45 | AD22: 8F | AE22: 205 | AV22: 8F | AW22: 205 | AX22: 4F | AY22: 110
A23: 17 | B23: TAN, VICTORIA | C23: 2011 | D23: FET | E23: =G23+I23+K23+M23+O23+Q23+S23+U23+W23+Y23+AA23+AC23+AE23+AG23+AI23+AK23+AM23+AO23+AQ23+AS23+AU23+AW23+AY23 -> 490 | H23: 5 | I23: 45 | AD23: 8F | AE23: 205 | AH23: 2B | AI23: 35 | AV23: 8F | AW23: 205
A24: 18 | B24: FRAGAPANE, FRANCESCA | C24: 2011 | D24: FBA | E24: =G24+I24+K24+M24+O24+Q24+S24+U24+W24+Y24+AA24+AC24+AE24+AG24+AI24+AK24+AM24+AO24+AQ24+AS24+AU24+AW24+AY24 -> 475 | AL24: 2 | AM24: 270 | AV24: 8F | AW24: 205
A25: 19 | B25: GONZALEZ, CATALINA | C25: 2013 | D25: MZA | E25: =G25+I25+K25+M25+O25+Q25+S25+U25+W25+Y25+AA25+AC25+AE25+AG25+AI25+AK25+AM25+AO25+AQ25+AS25+AU25+AW25+AY25 -> 400.045 | L25: 4 | M25: 55 | X25: 4 | Y25: 55 | AF25: 5 | AG25: 0.045 | AL25: 4F | AM25: 165 | AP25: 4 | AQ25: 55 | AV25: SF B | AW25: 70
A26: 20 | B26: TOSCANO, DAIANA ANTONELLA | C26: 2013 | D26: SAL | E26: =G26+I26+K26+M26+O26+Q26+S26+U26+W26+Y26+AA26+AC26+AE26+AG26+AI26+AK26+AM26+AO26+AQ26+AS26+AU26+AW26+AY26 -> 385 | N26: SF | O26: 70 | Z26: 4F | AA26: 110 | AD26: 8F | AE26: 205
A27: 21 | B27: VERA ARROYO, MIA LUANNA | C27: 2014 | D27: MZA | E27: =G27+I27+K27+M27+O27+Q27+S27+U27+W27+Y27+AA27+AC27+AE27+AG27+AI27+AK27+AM27+AO27+AQ27+AS27+AU27+AW27+AY27 -> 320 | AP27: 1 | AQ27: 110 | AV27: 16F | AW27: 160 | AX27: 2B | AY27: 50
A28: 22 | B28: ECHEGARAY, PIA | C28: 2013 | D28: MZA | E28: =G28+I28+K28+M28+O28+Q28+S28+U28+W28+Y28+AA28+AC28+AE28+AG28+AI28+AK28+AM28+AO28+AQ28+AS28+AU28+AW28+AY28 -> 320 | L28: 5 | M28: 45 | AD28: SF B | AE28: 70 | AF28: 4 | AG28: 55 | AL28: 2B | AM28: 105 | AP28: 5 | AQ28: 45
A29: 23 | B29: PAREDES, FIORELA | C29: 2012 | D29: SCZ | E29: =G29+I29+K29+M29+O29+Q29+S29+U29+W29+Y29+AA29+AC29+AE29+AG29+AI29+AK29+AM29+AO29+AQ29+AS29+AU29+AW29+AY29 -> 310 | P29: 1 | Q29: 110 | AD29: 2B | AE29: 90 | AJ29: 1 | AK29: 110
A30: 24 | B30: CEJUDO, LARA | C30: 2012 | D30: MZA | E30: =G30+I30+K30+M30+O30+Q30+S30+U30+W30+Y30+AA30+AC30+AE30+AG30+AI30+AK30+AM30+AO30+AQ30+AS30+AU30+AW30+AY30 -> 210 | L30: 3 | M30: 70 | X30: 3 | Y30: 70 | AF30: 3 | AG30: 70
A31: 25 | B31: MENARES, KIARA ANTONELLA | C31: 2012 | D31: SCZ | E31: =G31+I31+K31+M31+O31+Q31+S31+U31+W31+Y31+AA31+AC31+AE31+AG31+AI31+AK31+AM31+AO31+AQ31+AS31+AU31+AW31+AY31 -> 205 | AV31: 8F | AW31: 205
A32: 26 | B32: MANSILLA, OLIVIA | C32: 2013 | D32: FET | E32: =G32+I32+K32+M32+O32+Q32+S32+U32+W32+Y32+AA32+AC32+AE32+AG32+AI32+AK32+AM32+AO32+AQ32+AS32+AU32+AW32+AY32 -> 165 | R32: SF B | S32: 25 | Z32: SF B | AA32: 50 | AH32: SF B | AI32: 25 | AN32: SF B | AO32: 25 | AX32: SF B | AY32: 40
A33: 27 | B33: MOSCA PAREDES, SABRINA JAZMIN | C33: 2011 | D33: LIB | E33: =G33+I33+K33+M33+O33+Q33+S33+U33+W33+Y33+AA33+AC33+AE33+AG33+AI33+AK33+AM33+AO33+AQ33+AS33+AU33+AW33+AY33 -> 160 | AV33: 16F | AW33: 160
A34: 28 | B34: ALANIZ, ZOE | C34: 2012 | D34: SCZ | E34: =G34+I34+K34+M34+O34+Q34+S34+U34+W34+Y34+AA34+AC34+AE34+AG34+AI34+AK34+AM34+AO34+AQ34+AS34+AU34+AW34+AY34 -> 160 | P34: 3 | Q34: 70 | AJ34: 2 | AK34: 90
A35: 29 | B35: BOTHIN, AYLIN JOSEFINA | C35: 2013 | D35: LIB | E35: =G35+I35+K35+M35+O35+Q35+S35+U35+W35+Y35+AA35+AC35+AE35+AG35+AI35+AK35+AM35+AO35+AQ35+AS35+AU35+AW35+AY35 -> 160 | AV35: 16F | AW35: 160
A36: 30 | B36: CENTURION SCHNEIDER, LUNA V. | C36: 2011 | D36: CHA | E36: =G36+I36+K36+M36+O36+Q36+S36+U36+W36+Y36+AA36+AC36+AE36+AG36+AI36+AK36+AM36+AO36+AQ36+AS36+AU36+AW36+AY36 -> 155 | AV36: 1B | AW36: 115 | AX36: SF B | AY36: 40
A37: 31 | B37: CARRIZO JOZAMI, MIA AFELICITA | C37: 2011 | D37: SEN | E37: =G37+I37+K37+M37+O37+Q37+S37+U37+W37+Y37+AA37+AC37+AE37+AG37+AI37+AK37+AM37+AO37+AQ37+AS37+AU37+AW37+AY37 -> 140 | J37: SF | K37: 140
A38: 32 | B38: SARAVIA, SOFIA | C38: 2011 | D38: SAL | E38: =G38+I38+K38+M38+O38+Q38+S38+U38+W38+Y38+AA38+AC38+AE38+AG38+AI38+AK38+AM38+AO38+AQ38+AS38+AU38+AW38+AY38 -> 115 | N38: 2B | O38: 45 | Z38: 2B | AA38: 70
A39: 33 | B39: FAZIO, VALENTINA | C39: 2011 | D39: FET | E39: =G39+I39+K39+M39+O39+Q39+S39+U39+W39+Y39+AA39+AC39+AE39+AG39+AI39+AK39+AM39+AO39+AQ39+AS39+AU39+AW39+AY39 -> 90 | F39: 5 | G39: 90
A40: 34 | B40: ARENAS, CLARITA | C40: 2012 | D40: JUJ | E40: =G40+I40+K40+M40+O40+Q40+S40+U40+W40+Y40+AA40+AC40+AE40+AG40+AI40+AK40+AM40+AO40+AQ40+AS40+AU40+AW40+AY40 -> 90 | T40: 2 | U40: 90
A41: 35 | B41: RETAMAL, AGUSTINA | C41: 2012 | D41: CHI | E41: =G41+I41+K41+M41+O41+Q41+S41+U41+W41+Y41+AA41+AC41+AE41+AG41+AI41+AK41+AM41+AO41+AQ41+AS41+AU41+AW41+AY41 -> 70 | AJ41: SF | AK41: 70
...

Sheet ID U17
B1: INDIVIDUAL DAMAS U17 | F1: RANKING NACIONAL | TEMPORADA 2026
F2: Challenger | H2: Regional Abierto | J2: Challenger | L2: Regional Abierto | N2: Regional Abierto | P2: Regional Abierto | R2: Regional Abierto | T2: Regional Abierto | V2: Regional Abierto | X2: Regional Abierto | Z2: Challenger | AB2: Regional Abierto | AD2: Nacional | AF2: Regional Abierto | AH2: Regional Abierto | AJ2: Regional Abierto | AL2: Grand Prix | AN2: Regional Abierto | AP2: Regional Abierto | AR2: Regional Abierto | AT2: Challenger | AV2: Abierto de la Rep. | AX2: Challenger
F3: CHAPADMALAL | H3: FETEMBA | J3: SANT. DEL ESTERO | L3: MENDOZA | N3: SALTA | P3: TIERRA DEL FUEGO | R3: FETEMBA | T3: JUJUY | V3: SANTA FE | X3: MENDOZA | Z3: SALTA | AB3: NEUQUÉN | AD3: SANTA FE | AF3: MENDOZA | AH3: FETEMBA | AJ3: SANTA CRUZ | AL3: MENDOZA | AN3: FETEMBA | AP3: MENDOZA | AR3: RIO NEGRO | AT3: ROSARIO | AV3: BUENOS AIRES | AX3: ROSARIO
F4: 2 A 4 MAR 2025 | H4: 29 Y 30 MAR 2025 | J4: 11 A 13 ABR 2025 | L4: 26 Y 27 ABR 2025 | N4: 26 Y 27 ABR 2025 | P4: 04 MAY 2025 | R4: 10 Y 11 MAY 2025 | T4: 24 Y 25 MAY 2025 | V4: 31 MAY Y 1 JUN 2025 | X4: 7 Y 8 JUN 2025 | Z4: 14 A 16 JUN 2025 | AB4: 21 Y 22 JUN 2025 | AD4: 9 A 13 JUL 2025 | AF4: 9 Y 10 AGO 2025 | AH4: 15 AGO 2025 | AJ4: 15 A 17 AGO 2025 | AL4: 5 A 7 SEP 2025 | AN4: 27 Y 28 SEP 2025 | AP4: 4 Y 5 OCT 2025 | AR4: 11 Y 12 OCT 2025 | AT4: 17 A 19 OCT 2025 | AV4: 21 A 24 NOV 2025 | AX4: 15 A 17 FEB 2026
A5: POS. | B5: ATLETA | C5: CAT. | D5: ASOC. | E5: TOTAL | F5: Pos. | G5: Ptos. | H5: Pos. | I5: Ptos. | J5: Pos. | K5: Ptos. | L5: Pos. | M5: Ptos. | N5: Pos. | O5: Ptos. | P5: Pos. | Q5: Ptos. | R5: Pos. | S5: Ptos. | T5: Pos. | U5: Ptos. | V5: Pos. | W5: Ptos. | X5: Pos. | Y5: Ptos. | Z5: Pos. | AA5: Ptos. | AB5: Pos. | AC5: Ptos. | AD5: Pos. | AE5: Ptos. | AF5: Pos. | AG5: Ptos. | AH5: Pos. | AI5: Ptos. | AJ5: Pos. | AK5: Ptos. | AL5: Pos. | AM5: Ptos. | AN5: Pos. | AO5: Ptos. | AP5: Pos. | AQ5: Ptos. | AR5: Pos. | AS5: Ptos. | AT5: Pos. | AU5: Ptos. | AV5: Pos. | AW5: Ptos. | AX5: Pos. | AY5: Ptos.
A7: 1 | B7: PEREZ MAZZARELLO, JULIA | C7: 2009 | D7: FET | E7: =G7+I7+K7+M7+O7+Q7+S7+U7+W7+Y7+AA7+AC7+AE7+AG7+AI7+AK7+AM7+AO7+AQ7+AS7+AU7+AW7+AY7 -> 950 | H7: 2 | I7: 90 | AD7: 2 | AE7: 405 | AT7: 3 | AU7: 140 | AV7: SF | AW7: 315
A8: 2 | B8: PALAMEDI, UMA | C8: 2010 | D8: SFE | E8: =G8+I8+K8+M8+O8+Q8+S8+U8+W8+Y8+AA8+AC8+AE8+AG8+AI8+AK8+AM8+AO8+AQ8+AS8+AU8+AW8+AY8 -> 780 | AH8: 2 | AI8: 90 | AT8: 1 | AU8: 220 | AV8: 4F | AW8: 250 | AX8: 1 | AY8: 220
A9: 3 | B9: GUIA MONZON, IXCHEL | C9: 2012 | D9: SFE | E9: =G9+I9+K9+M9+O9+Q9+S9+U9+W9+Y9+AA9+AC9+AE9+AG9+AI9+AK9+AM9+AO9+AQ9+AS9+AU9+AW9+AY9 -> 495 | AV9: 1 | AW9: 495
A10: 3 | B10: LOPEZ AUAT, MALENA | C10: 2009 | D10: SEN | E10: =G10+I10+K10+M10+O10+Q10+S10+U10+W10+Y10+AA10+AC10+AE10+AG10+AI10+AK10+AM10+AO10+AQ10+AS10+AU10+AW10+AY10 -> 495 | AD10: 1 | AE10: 495
A11: 5 | B11: VELASQUEZ, ARIANA | C11: 2009 | D11: TDF | E11: =G11+I11+K11+M11+O11+Q11+S11+U11+W11+Y11+AA11+AC11+AE11+AG11+AI11+AK11+AM11+AO11+AQ11+AS11+AU11+AW11+AY11 -> 430 | P11: 2 | Q11: 90 | AJ11: 2 | AK11: 90 | AV11: 4F | AW11: 250
A12: 6 | B12: BENITEZ TOME, MARTINA | C12: 2010 | D12: COR | E12: =G12+I12+K12+M12+O12+Q12+S12+U12+W12+Y12+AA12+AC12+AE12+AG12+AI12+AK12+AM12+AO12+AQ12+AS12+AU12+AW12+AY12 -> 410 | AD12: 3Z | AE12: 205 | AV12: 3Z | AW12: 205
A13: 7 | B13: ROJAS, MAYA | C13: 2010 | D13: URU | E13: =G13+I13+K13+M13+O13+Q13+S13+U13+W13+Y13+AA13+AC13+AE13+AG13+AI13+AK13+AM13+AO13+AQ13+AS13+AU13+AW13+AY13 -> 405 | AV13: 2 | AW13: 405
A14: 8 | B14: VELAZQUEZ, IRUPE | C14: 2009 | D14: SFE | E14: =G14+I14+K14+M14+O14+Q14+S14+U14+W14+Y14+AA14+AC14+AE14+AG14+AI14+AK14+AM14+AO14+AQ14+AS14+AU14+AW14+AY14 -> 360 | AD14: 4F | AE14: 250 | AT14: 4 | AU14: 110
A15: 9 | B15: IPPOLITI, PAULINA | C15: 2010 | D15: MZA | E15: =G15+I15+K15+M15+O15+Q15+S15+U15+W15+Y15+AA15+AC15+AE15+AG15+AI15+AK15+AM15+AO15+AQ15+AS15+AU15+AW15+AY15 -> 345 | AL15: 3Z | AM15: 165 | AX15: 2 | AY15: 180
A16: 10 | B16: CENTURION SCHNEIDER, LUNA V. | C16: 2011 | D16: CHA | E16: =G16+I16+K16+M16+O16+Q16+S16+U16+W16+Y16+AA16+AC16+AE16+AG16+AI16+AK16+AM16+AO16+AQ16+AS16+AU16+AW16+AY16 -> 345 | AV16: 3Z | AW16: 205 | AX16: 3 | AY16: 140
A17: 11 | B17: FERRI, DELFINA | C17: 2010 | D17: SFE | E17: =G17+I17+K17+M17+O17+Q17+S17+U17+W17+Y17+AA17+AC17+AE17+AG17+AI17+AK17+AM17+AO17+AQ17+AS17+AU17+AW17+AY17 -> 315 | AD17: SF | AE17: 315
A18: 11 | B18: VALERIO, GEMMA | C18: 2011 | D18: SAL | E18: =G18+I18+K18+M18+O18+Q18+S18+U18+W18+Y18+AA18+AC18+AE18+AG18+AI18+AK18+AM18+AO18+AQ18+AS18+AU18+AW18+AY18 -> 315 | AD18: SF | AE18: 315
A19: 13 | B19: ASTORGA MELIN, ABRIL AYMARA | C19: 2010 | D19: SCZ | E19: =G19+I19+K19+M19+O19+Q19+S19+U19+W19+Y19+AA19+AC19+AE19+AG19+AI19+AK19+AM19+AO19+AQ19+AS19+AU19+AW19+AY19 -> 315 | P19: 4 | Q19: 55 | AD19: 3Z | AE19: 205 | AJ19: 3Z | AK19: 55
A20: 14 | B20: MOSCA PAREDES, SABRINA JAZMIN | C20: 2011 | D20: LIB | E20: =G20+I20+K20+M20+O20+Q20+S20+U20+W20+Y20+AA20+AC20+AE20+AG20+AI20+AK20+AM20+AO20+AQ20+AS20+AU20+AW20+AY20 -> 250 | AV20: 4F | AW20: 250
A21: 14 | B21: TAN, VICTORIA | C21: 2011 | D21: FET | E21: =G21+I21+K21+M21+O21+Q21+S21+U21+W21+Y21+AA21+AC21+AE21+AG21+AI21+AK21+AM21+AO21+AQ21+AS21+AU21+AW21+AY21 -> 250 | AD21: 4F | AE21: 250
A22: 14 | B22: QUIROGA MONTENEGRO, KYARA | C22: 2010 | D22: FET | E22: =G22+I22+K22+M22+O22+Q22+S22+U22+W22+Y22+AA22+AC22+AE22+AG22+AI22+AK22+AM22+AO22+AQ22+AS22+AU22+AW22+AY22 -> 250 | AD22: 4F | AE22: 250
A23: 14 | B23: IGLESIAS, VALENTINA | C23: 2011 | D23: MZA | E23: =G23+I23+K23+M23+O23+Q23+S23+U23+W23+Y23+AA23+AC23+AE23+AG23+AI23+AK23+AM23+AO23+AQ23+AS23+AU23+AW23+AY23 -> 250 | AD23: 4F | AE23: 250
A24: 18 | B24: GITELMAN, LORENA | C24: 2009 | D24: FET | E24: =G24+I24+K24+M24+O24+Q24+S24+U24+W24+Y24+AA24+AC24+AE24+AG24+AI24+AK24+AM24+AO24+AQ24+AS24+AU24+AW24+AY24 -> 220 | H24: 1 | I24: 110 | AH24: 1 | AI24: 110
A25: 19 | B25: FRAGAPANE, FRANCESCA | C25: 2011 | D25: FBA | E25: =G25+I25+K25+M25+O25+Q25+S25+U25+W25+Y25+AA25+AC25+AE25+AG25+AI25+AK25+AM25+AO25+AQ25+AS25+AU25+AW25+AY25 -> 210 | AL25: SF | AM25: 210
A26: 20 | B26: GORRI, AMIRA | C26: 2009 | D26: NQN | E26: =G26+I26+K26+M26+O26+Q26+S26+U26+W26+Y26+AA26+AC26+AE26+AG26+AI26+AK26+AM26+AO26+AQ26+AS26+AU26+AW26+AY26 -> 205 | AV26: 3Z | AW26: 205
A27: 20 | B27: BOTHIN, GERLADINE | C27: 2010 | D27: SCZ | E27: =G27+I27+K27+M27+O27+Q27+S27+U27+W27+Y27+AA27+AC27+AE27+AG27+AI27+AK27+AM27+AO27+AQ27+AS27+AU27+AW27+AY27 -> 205 | AV27: 3Z | AW27: 205
A28: 22 | B28: SOTO, MICAELA AGOSTINA | C28: 2009 | D28: SCZ | E28: =G28+I28+K28+M28+O28+Q28+S28+U28+W28+Y28+AA28+AC28+AE28+AG28+AI28+AK28+AM28+AO28+AQ28+AS28+AU28+AW28+AY28 -> 205 | AV28: 4Z | AW28: 205
A29: 23 | B29: PEREZ MAZZARELLO, MALENA | C29: 2011 | D29: FET | E29: =G29+I29+K29+M29+O29+Q29+S29+U29+W29+Y29+AA29+AC29+AE29+AG29+AI29+AK29+AM29+AO29+AQ29+AS29+AU29+AW29+AY29 -> 180 | AT29: 2 | AU29: 180
A30: 24 | B30: GONZALEZ, EVELYN | C30: 2009 | D30: TDF | E30: =G30+I30+K30+M30+O30+Q30+S30+U30+W30+Y30+AA30+AC30+AE30+AG30+AI30+AK30+AM30+AO30+AQ30+AS30+AU30+AW30+AY30 -> 140 | P30: 3 | Q30: 70 | AJ30: SF | AK30: 70
A31: 25 | B31: GIULIANI ZAENZ, LARA | C31: 2012 | D31: SFE | E31: =G31+I31+K31+M31+O31+Q31+S31+U31+W31+Y31+AA31+AC31+AE31+AG31+AI31+AK31+AM31+AO31+AQ31+AS31+AU31+AW31+AY31 -> 110 | AX31: 4 | AY31: 110
A32: 26 | B32: NIETO, FLORENCIA | C32: 2009 | D32: CHI | E32: =G32+I32+K32+M32+O32+Q32+S32+U32+W32+Y32+AA32+AC32+AE32+AG32+AI32+AK32+AM32+AO32+AQ32+AS32+AU32+AW32+AY32 -> 70 | AJ32: SF | AK32: 70
A33: 27 | B33: CENDRA, VALENTINA | C33: 2010 | D33: FET | E33: =G33+I33+K33+M33+O33+Q33+S33+U33+W33+Y33+AA33+AC33+AE33+AG33+AI33+AK33+AM33+AO33+AQ33+AS33+AU33+AW33+AY33 -> 70 | AH33: 3 | AI33: 70
A34: 28 | B34: SALPETER, LUANA | C34: 2012 | D34: FET | E34: =G34+I34+K34+M34+O34+Q34+S34+U34+W34+Y34+AA34+AC34+AE34+AG34+AI34+AK34+AM34+AO34+AQ34+AS34+AU34+AW34+AY34 -> 13.75 | H34: Prom. | I34: 13.75

Sheet ID U19
B1: INDIVIDUAL DAMAS U19 | F1: RANKING NACIONAL | TEMPORADA 2026
F2: Challenger | H2: Regional Abierto | J2: Challenger | L2: Regional Abierto | N2: Regional Abierto | P2: Regional Abierto | R2: Regional Abierto | T2: Regional Abierto | V2: Regional Abierto | X2: Regional Abierto | Z2: Challenger | AB2: Regional Abierto | AD2: Nacional | AF2: Regional Abierto | AH2: Regional Abierto | AJ2: Regional Abierto | AL2: Grand Prix | AN2: Regional Abierto | AP2: Regional Abierto | AR2: Regional Abierto | AT2: Challenger | AV2: Abierto de la Rep. | AX2: Challenger
F3: CHAPADMALAL | H3: FETEMBA | J3: SANT. DEL ESTERO | L3: MENDOZA | N3: SALTA | P3: TIERRA DEL FUEGO | R3: FETEMBA | T3: JUJUY | V3: SANTA FE | X3: MENDOZA | Z3: SALTA | AB3: NEUQUÉN | AD3: SANTA FE | AF3: MENDOZA | AH3: FETEMBA | AJ3: SANTA CRUZ | AL3: MENDOZA | AN3: FETEMBA | AP3: MENDOZA | AR3: RIO NEGRO | AT3: ROSARIO | AV3: BUENOS AIRES | AX3: ROSARIO
F4: 2 A 4 MAR 2025 | H4: 29 Y 30 MAR 2025 | J4: 11 A 13 ABR 2025 | L4: 26 Y 27 ABR 2025 | N4: 26 Y 27 ABR 2025 | P4: 04 MAY 2025 | R4: 10 Y 11 MAY 2025 | T4: 24 Y 25 MAY 2025 | V4: 31 MAY Y 1 JUN 2025 | X4: 7 Y 8 JUN 2025 | Z4: 14 A 16 JUN 2025 | AB4: 21 Y 22 JUN 2025 | AD4: 9 A 13 JUL 2025 | AF4: 9 Y 10 AGO 2025 | AH4: 15 AGO 2025 | AJ4: 15 A 17 AGO 2025 | AL4: 5 A 7 SEP 2025 | AN4: 27 Y 28 SEP 2025 | AP4: 4 Y 5 OCT 2025 | AR4: 11 Y 12 OCT 2025 | AT4: 17 A 19 OCT 2025 | AV4: 21 A 24 NOV 2025 | AX4: 15 A 17 FEB 2026
A5: POS. | B5: ATLETA | C5: CAT. | D5: ASOC. | E5: TOTAL | F5: Pos. | G5: Ptos. | H5: Pos. | I5: Ptos. | J5: Pos. | K5: Ptos. | L5: Pos. | M5: Ptos. | N5: Pos. | O5: Ptos. | P5: Pos. | Q5: Ptos. | R5: Pos. | S5: Ptos. | T5: Pos. | U5: Ptos. | V5: Pos. | W5: Ptos. | X5: Pos. | Y5: Ptos. | Z5: Pos. | AA5: Ptos. | AB5: Pos. | AC5: Ptos. | AD5: Pos. | AE5: Ptos. | AF5: Pos. | AG5: Ptos. | AH5: Pos. | AI5: Ptos. | AJ5: Pos. | AK5: Ptos. | AL5: Pos. | AM5: Ptos. | AN5: Pos. | AO5: Ptos. | AP5: Pos. | AQ5: Ptos. | AR5: Pos. | AS5: Ptos. | AT5: Pos. | AU5: Ptos. | AV5: Pos. | AW5: Ptos. | AX5: Pos. | AY5: Ptos.
A7: 1 | B7: FRIAS PAZ, LUCIANA GABRIELA | C7: 2010 | D7: SEN | E7: =G7+I7+K7+M7+O7+Q7+S7+U7+W7+Y7+AA7+AC7+AE7+AG7+AI7+AK7+AM7+AO7+AQ7+AS7+AU7+AW7+AY7 -> 2000.54 | J7: 1 | K7: 0.22 | N7: 2 | O7: 0.09 | R7: 1 | S7: 110 | X7: 1 | Y7: 110 | Z7: 1 | AA7: 220 | AD7: 2 | AE7: 405 | AH7: 1 | AI7: 110 | AL7: 1 | AM7: 330 | AN7: 2 | AO7: 0.09 | AT7: 1 | AU7: 220 | AV7: 1 | AW7: 495 | AX7: SF | AY7: 0.14
A8: 2 | B8: SHAHMURADYAN, MARIAM | C8: 2008 | D8: FET | E8: =G8+I8+K8+M8+O8+Q8+S8+U8+W8+Y8+AA8+AC8+AE8+AG8+AI8+AK8+AM8+AO8+AQ8+AS8+AU8+AW8+AY8 -> 1215 | F8: 1 | G8: 220 | V8: 1 | W8: 110 | AD8: SF | AE8: 315 | AH8: 4F | AI8: 55 | AN8: 1 | AO8: 110 | AV8: 2 | AW8: 405
A9: 3 | B9: PEREZ ERASO, GIULIANA | C9: 2008 | D9: MZA | E9: =G9+I9+K9+M9+O9+Q9+S9+U9+W9+Y9+AA9+AC9+AE9+AG9+AI9+AK9+AM9+AO9+AQ9+AS9+AU9+AW9+AY9 -> 1120.235 | L9: 2 | M9: 0.09 | R9: 4F | S9: 0.055 | X9: 2 | Y9: 0.09 | Z9: 3Z | AA9: 110 | AD9: 8F | AE9: 205 | AF9: 1 | AG9: 110 | AH9: 2 | AI9: 90 | AL9: 3Z | AM9: 135 | AP9: 1 | AQ9: 110 | AV9: 4F | AW9: 250 | AX9: 4F | AY9: 110
A10: 4 | B10: JANDULA, AMBAR | C10: 2009 | D10: SAL | E10: =G10+I10+K10+M10+O10+Q10+S10+U10+W10+Y10+AA10+AC10+AE10+AG10+AI10+AK10+AM10+AO10+AQ10+AS10+AU10+AW10+AY10 -> 935.11 | J10: 2 | K10: 180 | N10: 1 | O10: 110 | Z10: 2 | AA10: 180 | AD10: 8F | AE10: 205 | AH10: 4F | AI10: 55 | AV10: 8F | AW10: 205 | AX10: 4F | AY10: 0.11
A11: 5 | B11: GUARDIA, MARIA VICTORIA | C11: 2011 | D11: SAL | E11: =G11+I11+K11+M11+O11+Q11+S11+U11+W11+Y11+AA11+AC11+AE11+AG11+AI11+AK11+AM11+AO11+AQ11+AS11+AU11+AW11+AY11 -> 905.14 | J11: 3 | K11: 0.14 | N11: 1B | O11: 55 | Z11: SF | AA11: 140 | AH11: SF | AI11: 70 | AL11: SF | AM11: 210 | AV11: 4F | AW11: 250 | AX11: 2 | AY11: 180
A12: 6 | B12: GIMENEZ, MALENA | C12: 2010 | D12: JUJ | E12: =G12+I12+K12+M12+O12+Q12+S12+U12+W12+Y12+AA12+AC12+AE12+AG12+AI12+AK12+AM12+AO12+AQ12+AS12+AU12+AW12+AY12 -> 880 | F12: Prom. | G12: 180 | N12: SF | O12: 70 | R12: 4F | S12: 55 | Z12: 3Z | AA12: 110 | AD12: 8F | AE12: 205 | AH12: 4F | AI12: 55 | AV12: 8F | AW12: 205
A13: 7 | B13: LOPEZ AUAT, MALENA | C13: 2009 | D13: SEN | E13: =G13+I13+K13+M13+O13+Q13+S13+U13+W13+Y13+AA13+AC13+AE13+AG13+AI13+AK13+AM13+AO13+AQ13+AS13+AU13+AW13+AY13 -> 875.09 | J13: 4 | K13: 110 | N13: SF B | O13: 35 | Z13: 4Z | AA13: 110 | AD13: 8F | AE13: 205 | AL13: SF | AM13: 210 | AV13: 8F | AW13: 205 | AX13: 3Z | AY13: 0.09
A14: 8 | B14: AGUILAR IKEDA, JUSTINA MAYUMI | C14: 2008 | D14: FET | E14: =G14+I14+K14+M14+O14+Q14+S14+U14+W14+Y14+AA14+AC14+AE14+AG14+AI14+AK14+AM14+AO14+AQ14+AS14+AU14+AW14+AY14 -> 797.535 | H14: 1 | I14: 110 | R14: SF | S14: 70 | AD14: 8F | AE14: 205 | AH14: 1B | AI14: 0.035 | AL14: Prom. | AM14: 202.5 | AN14: SF | AO14: 70 | AT14: SF | AU14: 140
A15: 9 | B15: PALAMEDI, UMA | C15: 2010 | D15: SFE | E15: =G15+I15+K15+M15+O15+Q15+S15+U15+W15+Y15+AA15+AC15+AE15+AG15+AI15+AK15+AM15+AO15+AQ15+AS15+AU15+AW15+AY15 -> 790.09 | F15: 3 | G15: 140 | R15: 2B | S15: 35 | V15: 3 | W15: 70 | AD15: 8F | AE15: 205 | AH15: 2B | AI15: 25 | AT15: 3Z | AU15: 110 | AV15: 8F | AW15: 205 | AX15: 3Z | AY15: 0.09
A16: 10 | B16: PEREZ MAZZARELLO, JULIA | C16: 2009 | D16: FET | E16: =G16+I16+K16+M16+O16+Q16+S16+U16+W16+Y16+AA16+AC16+AE16+AG16+AI16+AK16+AM16+AO16+AQ16+AS16+AU16+AW16+AY16 -> 730 | H16: 2B | I16: 45 | R16: SF B | S16: 25 | AD16: 3Z | AE16: 160 | AN16: 1B | AO16: 45 | AT16: SF | AU16: 140 | AV16: SF | AW16: 315
A17: 11 | B17: SALUSSO, ALEXIA | C17: 2011 | D17: FET | E17: =G17+I17+K17+M17+O17+Q17+S17+U17+W17+Y17+AA17+AC17+AE17+AG17+AI17+AK17+AM17+AO17+AQ17+AS17+AU17+AW17+AY17 -> 620 | AD17: 4F | AE17: 250 | AH17: 4F | AI17: 55 | AV17: SF | AW17: 315
A18: 12 | B18: IGLESIAS, VALENTINA | C18: 2011 | D18: MZA | E18: =G18+I18+K18+M18+O18+Q18+S18+U18+W18+Y18+AA18+AC18+AE18+AG18+AI18+AK18+AM18+AO18+AQ18+AS18+AU18+AW18+AY18 -> 615.08 | L18: SF | M18: 70 | R18: SF B | S18: 0.025 | X18: 4 | Y18: 0.055 | AF18: 3 | AG18: 70 | AL18: 4Z | AM18: 135 | AP18: 2 | AQ18: 90 | AV18: 16F | AW18: 160 | AX18: 3Z | AY18: 90
A19: 13 | B19: GITELMAN, LORENA | C19: 2009 | D19: FET | E19: =G19+I19+K19+M19+O19+Q19+S19+U19+W19+Y19+AA19+AC19+AE19+AG19+AI19+AK19+AM19+AO19+AQ19+AS19+AU19+AW19+AY19 -> 610 | H19: SF | I19: 70 | R19: SF | S19: 70 | AD19: 8F | AE19: 205 | AH19: 8F | AI19: 45 | AX19: 1 | AY19: 220
A20: 14 | B20: TAKAHASHI, BRISA | C20: 2008 | D20: FET | E20: =G20+I20+K20+M20+O20+Q20+S20+U20+W20+Y20+AA20+AC20+AE20+AG20+AI20+AK20+AM20+AO20+AQ20+AS20+AU20+AW20+AY20 -> 600.045 | F20: 2 | G20: 180 | H20: 2 | I20: 90 | R20: 1B | S20: 0.045 | AD20: 8F | AE20: 205 | AH20: SF | AI20: 70 | AN20: 4F | AO20: 55
A21: 15 | B21: VALERIO, GEMMA | C21: 2011 | D21: SAL | E21: =G21+I21+K21+M21+O21+Q21+S21+U21+W21+Y21+AA21+AC21+AE21+AG21+AI21+AK21+AM21+AO21+AQ21+AS21+AU21+AW21+AY21 -> 590.09 | J21: 5 | K21: 0.09 | N21: 2B | O21: 45 | Z21: SF | AA21: 140 | AH21: 8F | AI21: 45 | AV21: 4F | AW21: 250 | AX21: 4F | AY21: 110
A22: 16 | B22: MAEHAMA, TRINIDAD | C22: 2012 | D22: FET | E22: =G22+I22+K22+M22+O22+Q22+S22+U22+W22+Y22+AA22+AC22+AE22+AG22+AI22+AK22+AM22+AO22+AQ22+AS22+AU22+AW22+AY22 -> 565 | AN22: SF | AO22: 70 | AT22: 2 | AU22: 180 | AV22: 8F | AW22: 205 | AX22: 4F | AY22: 110
A23: 17 | B23: CIAMBELLA, GIULIANA | C23: 2008 | D23: MZA | E23: =G23+I23+K23+M23+O23+Q23+S23+U23+W23+Y23+AA23+AC23+AE23+AG23+AI23+AK23+AM23+AO23+AQ23+AS23+AU23+AW23+AY23 -> 555 | L23: SF | M23: 70 | X23: 3 | Y23: 70 | AD23: 3Z | AE23: 160 | AF23: 2 | AG23: 90 | AL23: 4F | AM23: 165
A24: 18 | B24: CASTELLANO, SOPHIA LIZ | C24: 2011 | D24: FET | E24: =G24+I24+K24+M24+O24+Q24+S24+U24+W24+Y24+AA24+AC24+AE24+AG24+AI24+AK24+AM24+AO24+AQ24+AS24+AU24+AW24+AY24 -> 485.02 | H24: 1B | I24: 55 | R24: 4F | S24: 55 | AD24: 3Z | AE24: 160 | AH24: SF B | AI24: 0.02 | AN24: 4F | AO24: 55 | AV24: 16F | AW24: 160
A25: 19 | B25: ALAMO, VALENTINA | C25: 2007 | D25: LIB | E25: =G25+I25+K25+M25+O25+Q25+S25+U25+W25+Y25+AA25+AC25+AE25+AG25+AI25+AK25+AM25+AO25+AQ25+AS25+AU25+AW25+AY25 -> 480 | P25: 1 | Q25: 110 | AL25: 4F | AM25: 165 | AV25: 8F | AW25: 205
A26: 20 | B26: IPPOLITI, PAULINA | C26: 2010 | D26: MZA | E26: =G26+I26+K26+M26+O26+Q26+S26+U26+W26+Y26+AA26+AC26+AE26+AG26+AI26+AK26+AM26+AO26+AQ26+AS26+AU26+AW26+AY26 -> 475 | X26: 5 | Y26: 45 | AF26: 5 | AG26: 45 | AP26: 3 | AQ26: 70 | AT26: 3Z | AU26: 110 | AV26: 3Z | AW26: 115 | AX26: 4Z | AY26: 90
A27: 21 | B27: PEREZ MAZZARELLO, MALENA | C27: 2011 | D27: FET | E27: =G27+I27+K27+M27+O27+Q27+S27+U27+W27+Y27+AA27+AC27+AE27+AG27+AI27+AK27+AM27+AO27+AQ27+AS27+AU27+AW27+AY27 -> 430.045 | H27: SF | I27: 70 | R27: 4F | S27: 55 | AD27: 4F | AE27: 250 | AH27: 8F | AI27: 0.045 | AN27: 4F | AO27: 55
A28: 22 | B28: PAREDES, LUANA | C28: 2008 | D28: LIB | E28: =G28+I28+K28+M28+O28+Q28+S28+U28+W28+Y28+AA28+AC28+AE28+AG28+AI28+AK28+AM28+AO28+AQ28+AS28+AU28+AW28+AY28 -> 430 | P28: 2 | Q28: 90 | AJ28: 2 | AK28: 90 | AL28: 3Z | AM28: 135 | AV28: 3Z | AW28: 115
A29: 23 | B29: SALPETER, LUANA | C29: 2012 | D29: FET | E29: =G29+I29+K29+M29+O29+Q29+S29+U29+W29+Y29+AA29+AC29+AE29+AG29+AI29+AK29+AM29+AO29+AQ29+AS29+AU29+AW29+AY29 -> 390 | AH29: SF B | AI29: 20 | AN29: 4F | AO29: 55 | AT29: 4Z | AU29: 110 | AV29: 8F | AW29: 205
A30: 24 | B30: VELAZQUEZ, IRUPE | C30: 2009 | D30: SFE | E30: =G30+I30+K30+M30+O30+Q30+S30+U30+W30+Y30+AA30+AC30+AE30+AG30+AI30+AK30+AM30+AO30+AQ30+AS30+AU30+AW30+AY30 -> 325 | V30: 4 | W30: 55 | AD30: 3Z | AE30: 160 | AT30: 4Z | AU30: 110
A31: 25 | B31: SARTOR, AGOSTINA | C31: 2008 | D31: FET | E31: =G31+I31+K31+M31+O31+Q31+S31+U31+W31+Y31+AA31+AC31+AE31+AG31+AI31+AK31+AM31+AO31+AQ31+AS31+AU31+AW31+AY31 -> 310 | AD31: 3Z | AE31: 160 | AN31: 2B | AO31: 35 | AV31: 3Z | AW31: 115
A32: 26 | B32: PEREZ MAZZARELLO, MALENA | C32: 2011 | D32: FET | E32: =G32+I32+K32+M32+O32+Q32+S32+U32+W32+Y32+AA32+AC32+AE32+AG32+AI32+AK32+AM32+AO32+AQ32+AS32+AU32+AW32+AY32 -> 295 | AH32: 8F | AI32: 45 | AV32: 4F | AW32: 250
A33: 27 | B33: GUIA MONZON, IXCHEL | C33: 2012 | D33: SFE | E33: =G33+I33+K33+M33+O33+Q33+S33+U33+W33+Y33+AA33+AC33+AE33+AG33+AI33+AK33+AM33+AO33+AQ33+AS33+AU33+AW33+AY33 -> 230 | V33: 2 | W33: 90 | AX33: SF | AY33: 140
A34: 28 | B34: VELASQUEZ, ARIANA | C34: 2009 | D34: TDF | E34: =G34+I34+K34+M34+O34+Q34+S34+U34+W34+Y34+AA34+AC34+AE34+AG34+AI34+AK34+AM34+AO34+AQ34+AS34+AU34+AW34+AY34 -> 140 | P34: SF | Q34: 70 | AJ34: SF | AK34: 70
A35: 29 | B35: CARDENAS AGUILAR, DIANA IGNACIA | C35: 2008 | D35: LIB | E35: =G35+I35+K35+M35+O35+Q35+S35+U35+W35+Y35+AA35+AC35+AE35+AG35+AI35+AK35+AM35+AO35+AQ35+AS35+AU35+AW35+AY35 -> 115 | AV35: 3Z | AW35: 115
A36: 30 | B36: SOTO, MICAELA AGOSTINA | C36: 2009 | D36: LIB | E36: =G36+I36+K36+M36+O36+Q36+S36+U36+W36+Y36+AA36+AC36+AE36+AG36+AI36+AK36+AM36+AO36+AQ36+AS36+AU36+AW36+AY36 -> 115 | AV36: 3Z | AW36: 115
A37: 31 | B37: BENITEZ TOME, MARTINA | C37: 2010 | D37: COR | E37: =G37+I37+K37+M37+O37+Q37+S37+U37+W37+Y37+AA37+AC37+AE37+AG37+AI37+AK37+AM37+AO37+AQ37+AS37+AU37+AW37+AY37 -> 115 | AV37: 3Z | AW37: 115
A38: 32 | B38: FRAGAPANE, FRANCESCA | C38: 2011 | D38: FBA | E38: =G38+I38+K38+M38+O38+Q38+S38+U38+W38+Y38+AA38+AC38+AE38+AG38+AI38+AK38+AM38+AO38+AQ38+AS38+AU38+AW38+AY38 -> 115 | AV38: 3Z | AW38: 115
A39: 33 | B39: GOMEZ, MARIA LUJAN | C39: 2009 | D39: FBA | E39: =G39+I39+K39+M39+O39+Q39+S39+U39+W39+Y39+AA39+AC39+AE39+AG39+AI39+AK39+AM39+AO39+AQ39+AS39+AU39+AW39+AY39 -> 110 | F39: 4 | G39: 110
A40: 34 | B40: GONZALEZ, EVELYN | C40: 2009 | D40: TDF | E40: =G40+I40+K40+M40+O40+Q40+S40+U40+W40+Y40+AA40+AC40+AE40+AG40+AI40+AK40+AM40+AO40+AQ40+AS40+AU40+AW40+AY40 -> 110 | P40: 3Z | Q40: 55 | AJ40: 3Z | AK40: 55
A41: 35 | B41: CACERES, ISABELLA | C41: 2012 | D41: RNG | E41: =G41+I41+K41+M41+O41+Q41+S41+U41+W41+Y41+AA41+AC41+AE41+AG41+AI41+AK41+AM41+AO41+AQ41+AS41+AU41+AW41+AY41 -> 110 | AR41: 1 | AS41: 110
...

Sheet ID U23
B1: INDIVIDUAL DAMAS U23 | F1: RANKING NACIONAL | TEMPORADA 2026
F2: Challenger | H2: Regional Abierto | J2: Challenger | L2: Regional Abierto | N2: Regional Abierto | P2: Regional Abierto | R2: Regional Abierto | T2: Regional Abierto | V2: Regional Abierto | X2: Regional Abierto | Z2: Challenger | AB2: Regional Abierto | AD2: Nacional | AF2: Regional Abierto | AH2: Regional Abierto | AJ2: Regional Abierto | AL2: Grand Prix | AN2: Regional Abierto | AP2: Regional Abierto | AR2: Regional Abierto | AT2: Challenger | AV2: Abierto de la Rep. | AX2: Challenger
F3: CHAPADMALAL | H3: FETEMBA | J3: SANT. DEL ESTERO | L3: MENDOZA | N3: SALTA | P3: TIERRA DEL FUEGO | R3: FETEMBA | T3: JUJUY | V3: SANTA FE | X3: MENDOZA | Z3: SALTA | AB3: NEUQUÉN | AD3: SANTA FE | AF3: MENDOZA | AH3: FETEMBA | AJ3: SANTA CRUZ | AL3: MENDOZA | AN3: FETEMBA | AP3: MENDOZA | AR3: RIO NEGRO | AT3: ROSARIO | AV3: BUENOS AIRES | AX3: ROSARIO
F4: 2 A 4 MAR 2025 | H4: 29 Y 30 MAR 2025 | J4: 11 A 13 ABR 2025 | L4: 26 Y 27 ABR 2025 | N4: 26 Y 27 ABR 2025 | P4: 04 MAY 2025 | R4: 10 Y 11 MAY 2025 | T4: 24 Y 25 MAY 2025 | V4: 31 MAY Y 1 JUN 2025 | X4: 7 Y 8 JUN 2025 | Z4: 14 A 16 JUN 2025 | AB4: 21 Y 22 JUN 2025 | AD4: 9 A 13 JUL 2025 | AF4: 9 Y 10 AGO 2025 | AH4: 15 AGO 2025 | AJ4: 15 A 17 AGO 2025 | AL4: 5 A 7 SEP 2025 | AN4: 27 Y 28 SEP 2025 | AP4: 4 Y 5 OCT 2025 | AR4: 11 Y 12 OCT 2025 | AT4: 17 A 19 OCT 2025 | AV4: 21 A 24 NOV 2025 | AX4: 15 A 17 FEB 2026
A5: POS. | B5: ATLETA | C5: CAT. | D5: ASOC. | E5: TOTAL | F5: Pos. | G5: Ptos. | H5: Pos. | I5: Ptos. | J5: Pos. | K5: Ptos. | L5: Pos. | M5: Ptos. | N5: Pos. | O5: Ptos. | P5: Pos. | Q5: Ptos. | R5: Pos. | S5: Ptos. | T5: Pos. | U5: Ptos. | V5: Pos. | W5: Ptos. | X5: Pos. | Y5: Ptos. | Z5: Pos. | AA5: Ptos. | AB5: Pos. | AC5: Ptos. | AD5: Pos. | AE5: Ptos. | AF5: Pos. | AG5: Ptos. | AH5: Pos. | AI5: Ptos. | AJ5: Pos. | AK5: Ptos. | AL5: Pos. | AM5: Ptos. | AN5: Pos. | AO5: Ptos. | AP5: Pos. | AQ5: Ptos. | AR5: Pos. | AS5: Ptos. | AT5: Pos. | AU5: Ptos. | AV5: Pos. | AW5: Ptos. | AX5: Pos. | AY5: Ptos.
A7: 1 | B7: PEREZ, CAMILA | C7: 2005 | D7: FBA | E7: =G7+I7+K7+M7+O7+Q7+S7+U7+W7+Y7+AA7+AC7+AE7+AG7+AI7+AK7+AM7+AO7+AQ7+AS7+AU7+AW7+AY7 -> 1337.5 | F7: 1 | G7: 220 | AD7: 2 | AE7: 405 | AL7: Prom. | AM7: 217.5 | AV7: 1 | AW7: 495
A8: 2 | B8: ALAMO, VALENTINA | C8: 2007 | D8: LIB | E8: =G8+I8+K8+M8+O8+Q8+S8+U8+W8+Y8+AA8+AC8+AE8+AG8+AI8+AK8+AM8+AO8+AQ8+AS8+AU8+AW8+AY8 -> 755 | P8: 1 | Q8: 110 | AL8: 1 | AM8: 330 | AV8: SF | AW8: 315
A9: 3 | B9: IWASA, ABRIL | C9: 2006 | D9: FET | E9: =G9+I9+K9+M9+O9+Q9+S9+U9+W9+Y9+AA9+AC9+AE9+AG9+AI9+AK9+AM9+AO9+AQ9+AS9+AU9+AW9+AY9 -> 635 | AL9: 3 | AM9: 210 | AN9: 1 | AO9: 110 | AV9: SF | AW9: 315
A10: 4 | B10: PEREYRA, MANUELA | C10: 2006 | D10: RNG | E10: =G10+I10+K10+M10+O10+Q10+S10+U10+W10+Y10+AA10+AC10+AE10+AG10+AI10+AK10+AM10+AO10+AQ10+AS10+AU10+AW10+AY10 -> 515 | AR10: 1 | AS10: 110 | AV10: 2 | AW10: 405
A11: 5 | B11: OKUYAMA, ABRIL | C11: 2005 | D11: FET | E11: =G11+I11+K11+M11+O11+Q11+S11+U11+W11+Y11+AA11+AC11+AE11+AG11+AI11+AK11+AM11+AO11+AQ11+AS11+AU11+AW11+AY11 -> 495 | AD11: 1 | AE11: 495
A12: 6 | B12: LIFSCHITZ, YAEL | C12: 2006 | D12: FET | E12: =G12+I12+K12+M12+O12+Q12+S12+U12+W12+Y12+AA12+AC12+AE12+AG12+AI12+AK12+AM12+AO12+AQ12+AS12+AU12+AW12+AY12 -> 365 | R12: SF B | S12: 35 | AH12: 2B | AI12: 45 | AN12: SF B | AO12: 35 | AV12: 3Z | AW12: 250
A13: 7 | B13: CHACON, DANIELA | C13: 2004 | D13: FET | E13: =G13+I13+K13+M13+O13+Q13+S13+U13+W13+Y13+AA13+AC13+AE13+AG13+AI13+AK13+AM13+AO13+AQ13+AS13+AU13+AW13+AY13 -> 340 | H13: 2 | I13: 90 | AD13: 4 | AE13: 250
A14: 8 | B14: SICILIANO, KIARA | C14: 2005 | D14: FET | E14: =G14+I14+K14+M14+O14+Q14+S14+U14+W14+Y14+AA14+AC14+AE14+AG14+AI14+AK14+AM14+AO14+AQ14+AS14+AU14+AW14+AY14 -> 295 | H14: 5 | I14: 45 | R14: 2B | S14: 45 | AD14: 5 | AE14: 205
A15: 9 | B15: TAKAHASHI, BRISA | C15: 2008 | D15: FET | E15: =G15+I15+K15+M15+O15+Q15+S15+U15+W15+Y15+AA15+AC15+AE15+AG15+AI15+AK15+AM15+AO15+AQ15+AS15+AU15+AW15+AY15 -> 290.07 | H15: 1 | I15: 110 | R15: SF | S15: 0.07 | AH15: 2 | AI15: 90 | AN15: 2 | AO15: 90
A16: 10 | B16: SHAHMURADYAN, MARIAM | C16: 2008 | D16: FET | E16: =G16+I16+K16+M16+O16+Q16+S16+U16+W16+Y16+AA16+AC16+AE16+AG16+AI16+AK16+AM16+AO16+AQ16+AS16+AU16+AW16+AY16 -> 290 | F16: 2 | G16: 180 | AH16: 1 | AI16: 110
A17: 11 | B17: MARIÑO, NAOMI | C17: 2006 | D17: FET | E17: =G17+I17+K17+M17+O17+Q17+S17+U17+W17+Y17+AA17+AC17+AE17+AG17+AI17+AK17+AM17+AO17+AQ17+AS17+AU17+AW17+AY17 -> 270 | AL17: 2 | AM17: 270
A18: 12 | B18: MARCIAL, ALMA | C18: 2006 | D18: FET | E18: =G18+I18+K18+M18+O18+Q18+S18+U18+W18+Y18+AA18+AC18+AE18+AG18+AI18+AK18+AM18+AO18+AQ18+AS18+AU18+AW18+AY18 -> 220 | Z18: 1 | AA18: 220
